BEGIN:VCALENDAR
VERSION:2.0
PRODID:-//The New Braunfels Life - ECPv6.15.20//NONSGML v1.0//EN
CALSCALE:GREGORIAN
METHOD:PUBLISH
X-ORIGINAL-URL:https://thenewbraunfelslife.com
X-WR-CALDESC:Events for The New Braunfels Life
REFRESH-INTERVAL;VALUE=DURATION:PT1H
X-Robots-Tag:noindex
X-PUBLISHED-TTL:PT1H
BEGIN:VTIMEZONE
TZID:America/New_York
BEGIN:DAYLIGHT
TZOFFSETFROM:-0500
TZOFFSETTO:-0400
TZNAME:EDT
DTSTART:20250309T070000
END:DAYLIGHT
BEGIN:STANDARD
TZOFFSETFROM:-0400
TZOFFSETTO:-0500
TZNAME:EST
DTSTART:20251102T060000
END:STANDARD
BEGIN:DAYLIGHT
TZOFFSETFROM:-0500
TZOFFSETTO:-0400
TZNAME:EDT
DTSTART:20260308T070000
END:DAYLIGHT
BEGIN:STANDARD
TZOFFSETFROM:-0400
TZOFFSETTO:-0500
TZNAME:EST
DTSTART:20261101T060000
END:STANDARD
BEGIN:DAYLIGHT
TZOFFSETFROM:-0500
TZOFFSETTO:-0400
TZNAME:EDT
DTSTART:20270314T070000
END:DAYLIGHT
BEGIN:STANDARD
TZOFFSETFROM:-0400
TZOFFSETTO:-0500
TZNAME:EST
DTSTART:20271107T060000
END:STANDARD
END:VTIMEZONE
BEGIN:VEVENT
DTSTART;TZID=America/New_York:20260421T173000
DTEND;TZID=America/New_York:20260421T193000
DTSTAMP:20260420T091935
CREATED:20260205T023441Z
LAST-MODIFIED:20260205T023441Z
UID:82612-1776792600-1776799800@thenewbraunfelslife.com
SUMMARY:Artistic Journeys at New Braunfels Public Library
DESCRIPTION:Artistic Journeys is a monthly\, hands-on art program for adults that explores creative techniques and materials in a relaxed\, instructional setting. This session features Mixed Media Flowers\, where participants will create a pair of floral still-life pieces using watercolor applied in a loose\, expressive style. Details are added with tinted black glue\, creating striking texture and line against the soft watercolor background.\n\n\nThis program takes place on select Tuesdays throughout the year\, including February 17\, March 17\, April 21\, May 19\, June 16\, July 21\, August 18\, September 15\, October 20\, November 17\, and December 15\, 2026. Each session runs from 5:30 pm to 7:30 pm in the Main Library Meeting Room at the New Braunfels Public Library\, located at 700 E. Common St.\, New Braunfels\, Texas. The program is designed for adults ages 18 and up\, and all skill levels are welcome.
URL:https://thenewbraunfelslife.com/event/artistic-journeys-at-new-braunfels-public-library/2026-04-21/
LOCATION:New Braunfels Public Library\, 700 E Common St\, New Braunfels\,\, Texas\, 78130\, United States
CATEGORIES:Arts & Culture
ATTACH;FMTTYPE=image/jpeg:https://thenewbraunfelslife.com/wp-content/uploads/2026/02/artistic-journeys-at-new-braunfels-public-library.jpg
END:VEVENT
BEGIN:VEVENT
DTSTART;TZID=America/New_York:20260519T173000
DTEND;TZID=America/New_York:20260519T193000
DTSTAMP:20260420T091935
CREATED:20260205T023441Z
LAST-MODIFIED:20260205T023441Z
UID:82613-1779211800-1779219000@thenewbraunfelslife.com
SUMMARY:Artistic Journeys at New Braunfels Public Library
DESCRIPTION:Artistic Journeys is a monthly\, hands-on art program for adults that explores creative techniques and materials in a relaxed\, instructional setting. This session features Mixed Media Flowers\, where participants will create a pair of floral still-life pieces using watercolor applied in a loose\, expressive style. Details are added with tinted black glue\, creating striking texture and line against the soft watercolor background.\n\n\nThis program takes place on select Tuesdays throughout the year\, including February 17\, March 17\, April 21\, May 19\, June 16\, July 21\, August 18\, September 15\, October 20\, November 17\, and December 15\, 2026. Each session runs from 5:30 pm to 7:30 pm in the Main Library Meeting Room at the New Braunfels Public Library\, located at 700 E. Common St.\, New Braunfels\, Texas. The program is designed for adults ages 18 and up\, and all skill levels are welcome.
URL:https://thenewbraunfelslife.com/event/artistic-journeys-at-new-braunfels-public-library/2026-05-19/
LOCATION:New Braunfels Public Library\, 700 E Common St\, New Braunfels\,\, Texas\, 78130\, United States
CATEGORIES:Arts & Culture
ATTACH;FMTTYPE=image/jpeg:https://thenewbraunfelslife.com/wp-content/uploads/2026/02/artistic-journeys-at-new-braunfels-public-library.jpg
END:VEVENT
BEGIN:VEVENT
DTSTART;TZID=America/New_York:20260616T173000
DTEND;TZID=America/New_York:20260616T193000
DTSTAMP:20260420T091935
CREATED:20260205T023441Z
LAST-MODIFIED:20260205T023441Z
UID:82614-1781631000-1781638200@thenewbraunfelslife.com
SUMMARY:Artistic Journeys at New Braunfels Public Library
DESCRIPTION:Artistic Journeys is a monthly\, hands-on art program for adults that explores creative techniques and materials in a relaxed\, instructional setting. This session features Mixed Media Flowers\, where participants will create a pair of floral still-life pieces using watercolor applied in a loose\, expressive style. Details are added with tinted black glue\, creating striking texture and line against the soft watercolor background.\n\n\nThis program takes place on select Tuesdays throughout the year\, including February 17\, March 17\, April 21\, May 19\, June 16\, July 21\, August 18\, September 15\, October 20\, November 17\, and December 15\, 2026. Each session runs from 5:30 pm to 7:30 pm in the Main Library Meeting Room at the New Braunfels Public Library\, located at 700 E. Common St.\, New Braunfels\, Texas. The program is designed for adults ages 18 and up\, and all skill levels are welcome.
URL:https://thenewbraunfelslife.com/event/artistic-journeys-at-new-braunfels-public-library/2026-06-16/
LOCATION:New Braunfels Public Library\, 700 E Common St\, New Braunfels\,\, Texas\, 78130\, United States
CATEGORIES:Arts & Culture
ATTACH;FMTTYPE=image/jpeg:https://thenewbraunfelslife.com/wp-content/uploads/2026/02/artistic-journeys-at-new-braunfels-public-library.jpg
END:VEVENT
BEGIN:VEVENT
DTSTART;TZID=America/New_York:20260721T173000
DTEND;TZID=America/New_York:20260721T193000
DTSTAMP:20260420T091935
CREATED:20260205T023441Z
LAST-MODIFIED:20260205T023441Z
UID:82615-1784655000-1784662200@thenewbraunfelslife.com
SUMMARY:Artistic Journeys at New Braunfels Public Library
DESCRIPTION:Artistic Journeys is a monthly\, hands-on art program for adults that explores creative techniques and materials in a relaxed\, instructional setting. This session features Mixed Media Flowers\, where participants will create a pair of floral still-life pieces using watercolor applied in a loose\, expressive style. Details are added with tinted black glue\, creating striking texture and line against the soft watercolor background.\n\n\nThis program takes place on select Tuesdays throughout the year\, including February 17\, March 17\, April 21\, May 19\, June 16\, July 21\, August 18\, September 15\, October 20\, November 17\, and December 15\, 2026. Each session runs from 5:30 pm to 7:30 pm in the Main Library Meeting Room at the New Braunfels Public Library\, located at 700 E. Common St.\, New Braunfels\, Texas. The program is designed for adults ages 18 and up\, and all skill levels are welcome.
URL:https://thenewbraunfelslife.com/event/artistic-journeys-at-new-braunfels-public-library/2026-07-21/
LOCATION:New Braunfels Public Library\, 700 E Common St\, New Braunfels\,\, Texas\, 78130\, United States
CATEGORIES:Arts & Culture
ATTACH;FMTTYPE=image/jpeg:https://thenewbraunfelslife.com/wp-content/uploads/2026/02/artistic-journeys-at-new-braunfels-public-library.jpg
END:VEVENT
BEGIN:VEVENT
DTSTART;TZID=America/New_York:20260818T173000
DTEND;TZID=America/New_York:20260818T193000
DTSTAMP:20260420T091935
CREATED:20260205T023441Z
LAST-MODIFIED:20260205T023441Z
UID:82616-1787074200-1787081400@thenewbraunfelslife.com
SUMMARY:Artistic Journeys at New Braunfels Public Library
DESCRIPTION:Artistic Journeys is a monthly\, hands-on art program for adults that explores creative techniques and materials in a relaxed\, instructional setting. This session features Mixed Media Flowers\, where participants will create a pair of floral still-life pieces using watercolor applied in a loose\, expressive style. Details are added with tinted black glue\, creating striking texture and line against the soft watercolor background.\n\n\nThis program takes place on select Tuesdays throughout the year\, including February 17\, March 17\, April 21\, May 19\, June 16\, July 21\, August 18\, September 15\, October 20\, November 17\, and December 15\, 2026. Each session runs from 5:30 pm to 7:30 pm in the Main Library Meeting Room at the New Braunfels Public Library\, located at 700 E. Common St.\, New Braunfels\, Texas. The program is designed for adults ages 18 and up\, and all skill levels are welcome.
URL:https://thenewbraunfelslife.com/event/artistic-journeys-at-new-braunfels-public-library/2026-08-18/
LOCATION:New Braunfels Public Library\, 700 E Common St\, New Braunfels\,\, Texas\, 78130\, United States
CATEGORIES:Arts & Culture
ATTACH;FMTTYPE=image/jpeg:https://thenewbraunfelslife.com/wp-content/uploads/2026/02/artistic-journeys-at-new-braunfels-public-library.jpg
END:VEVENT
BEGIN:VEVENT
DTSTART;TZID=America/New_York:20260915T173000
DTEND;TZID=America/New_York:20260915T193000
DTSTAMP:20260420T091935
CREATED:20260205T023441Z
LAST-MODIFIED:20260205T023441Z
UID:82617-1789493400-1789500600@thenewbraunfelslife.com
SUMMARY:Artistic Journeys at New Braunfels Public Library
DESCRIPTION:Artistic Journeys is a monthly\, hands-on art program for adults that explores creative techniques and materials in a relaxed\, instructional setting. This session features Mixed Media Flowers\, where participants will create a pair of floral still-life pieces using watercolor applied in a loose\, expressive style. Details are added with tinted black glue\, creating striking texture and line against the soft watercolor background.\n\n\nThis program takes place on select Tuesdays throughout the year\, including February 17\, March 17\, April 21\, May 19\, June 16\, July 21\, August 18\, September 15\, October 20\, November 17\, and December 15\, 2026. Each session runs from 5:30 pm to 7:30 pm in the Main Library Meeting Room at the New Braunfels Public Library\, located at 700 E. Common St.\, New Braunfels\, Texas. The program is designed for adults ages 18 and up\, and all skill levels are welcome.
URL:https://thenewbraunfelslife.com/event/artistic-journeys-at-new-braunfels-public-library/2026-09-15/
LOCATION:New Braunfels Public Library\, 700 E Common St\, New Braunfels\,\, Texas\, 78130\, United States
CATEGORIES:Arts & Culture
ATTACH;FMTTYPE=image/jpeg:https://thenewbraunfelslife.com/wp-content/uploads/2026/02/artistic-journeys-at-new-braunfels-public-library.jpg
END:VEVENT
BEGIN:VEVENT
DTSTART;TZID=America/New_York:20261020T173000
DTEND;TZID=America/New_York:20261020T193000
DTSTAMP:20260420T091935
CREATED:20260205T023441Z
LAST-MODIFIED:20260205T023441Z
UID:82618-1792517400-1792524600@thenewbraunfelslife.com
SUMMARY:Artistic Journeys at New Braunfels Public Library
DESCRIPTION:Artistic Journeys is a monthly\, hands-on art program for adults that explores creative techniques and materials in a relaxed\, instructional setting. This session features Mixed Media Flowers\, where participants will create a pair of floral still-life pieces using watercolor applied in a loose\, expressive style. Details are added with tinted black glue\, creating striking texture and line against the soft watercolor background.\n\n\nThis program takes place on select Tuesdays throughout the year\, including February 17\, March 17\, April 21\, May 19\, June 16\, July 21\, August 18\, September 15\, October 20\, November 17\, and December 15\, 2026. Each session runs from 5:30 pm to 7:30 pm in the Main Library Meeting Room at the New Braunfels Public Library\, located at 700 E. Common St.\, New Braunfels\, Texas. The program is designed for adults ages 18 and up\, and all skill levels are welcome.
URL:https://thenewbraunfelslife.com/event/artistic-journeys-at-new-braunfels-public-library/2026-10-20/
LOCATION:New Braunfels Public Library\, 700 E Common St\, New Braunfels\,\, Texas\, 78130\, United States
CATEGORIES:Arts & Culture
ATTACH;FMTTYPE=image/jpeg:https://thenewbraunfelslife.com/wp-content/uploads/2026/02/artistic-journeys-at-new-braunfels-public-library.jpg
END:VEVENT
BEGIN:VEVENT
DTSTART;TZID=America/New_York:20261117T173000
DTEND;TZID=America/New_York:20261117T193000
DTSTAMP:20260420T091935
CREATED:20260205T023441Z
LAST-MODIFIED:20260205T023441Z
UID:82619-1794936600-1794943800@thenewbraunfelslife.com
SUMMARY:Artistic Journeys at New Braunfels Public Library
DESCRIPTION:Artistic Journeys is a monthly\, hands-on art program for adults that explores creative techniques and materials in a relaxed\, instructional setting. This session features Mixed Media Flowers\, where participants will create a pair of floral still-life pieces using watercolor applied in a loose\, expressive style. Details are added with tinted black glue\, creating striking texture and line against the soft watercolor background.\n\n\nThis program takes place on select Tuesdays throughout the year\, including February 17\, March 17\, April 21\, May 19\, June 16\, July 21\, August 18\, September 15\, October 20\, November 17\, and December 15\, 2026. Each session runs from 5:30 pm to 7:30 pm in the Main Library Meeting Room at the New Braunfels Public Library\, located at 700 E. Common St.\, New Braunfels\, Texas. The program is designed for adults ages 18 and up\, and all skill levels are welcome.
URL:https://thenewbraunfelslife.com/event/artistic-journeys-at-new-braunfels-public-library/2026-11-17/
LOCATION:New Braunfels Public Library\, 700 E Common St\, New Braunfels\,\, Texas\, 78130\, United States
CATEGORIES:Arts & Culture
ATTACH;FMTTYPE=image/jpeg:https://thenewbraunfelslife.com/wp-content/uploads/2026/02/artistic-journeys-at-new-braunfels-public-library.jpg
END:VEVENT
BEGIN:VEVENT
DTSTART;TZID=America/New_York:20261215T173000
DTEND;TZID=America/New_York:20261215T193000
DTSTAMP:20260420T091935
CREATED:20260205T023441Z
LAST-MODIFIED:20260205T023441Z
UID:82620-1797355800-1797363000@thenewbraunfelslife.com
SUMMARY:Artistic Journeys at New Braunfels Public Library
DESCRIPTION:Artistic Journeys is a monthly\, hands-on art program for adults that explores creative techniques and materials in a relaxed\, instructional setting. This session features Mixed Media Flowers\, where participants will create a pair of floral still-life pieces using watercolor applied in a loose\, expressive style. Details are added with tinted black glue\, creating striking texture and line against the soft watercolor background.\n\n\nThis program takes place on select Tuesdays throughout the year\, including February 17\, March 17\, April 21\, May 19\, June 16\, July 21\, August 18\, September 15\, October 20\, November 17\, and December 15\, 2026. Each session runs from 5:30 pm to 7:30 pm in the Main Library Meeting Room at the New Braunfels Public Library\, located at 700 E. Common St.\, New Braunfels\, Texas. The program is designed for adults ages 18 and up\, and all skill levels are welcome.
URL:https://thenewbraunfelslife.com/event/artistic-journeys-at-new-braunfels-public-library/2026-12-15/
LOCATION:New Braunfels Public Library\, 700 E Common St\, New Braunfels\,\, Texas\, 78130\, United States
CATEGORIES:Arts & Culture
ATTACH;FMTTYPE=image/jpeg:https://thenewbraunfelslife.com/wp-content/uploads/2026/02/artistic-journeys-at-new-braunfels-public-library.jpg
END:VEVENT
END:VCALENDAR