BEGIN:VCALENDAR
VERSION:2.0
PRODID:-//The New Braunfels Life - ECPv6.15.20//NONSGML v1.0//EN
CALSCALE:GREGORIAN
METHOD:PUBLISH
X-WR-CALNAME:The New Braunfels Life
X-ORIGINAL-URL:https://thenewbraunfelslife.com
X-WR-CALDESC:Events for The New Braunfels Life
REFRESH-INTERVAL;VALUE=DURATION:PT1H
X-Robots-Tag:noindex
X-PUBLISHED-TTL:PT1H
BEGIN:VTIMEZONE
TZID:America/New_York
BEGIN:DAYLIGHT
TZOFFSETFROM:-0500
TZOFFSETTO:-0400
TZNAME:EDT
DTSTART:20240310T070000
END:DAYLIGHT
BEGIN:STANDARD
TZOFFSETFROM:-0400
TZOFFSETTO:-0500
TZNAME:EST
DTSTART:20241103T060000
END:STANDARD
BEGIN:DAYLIGHT
TZOFFSETFROM:-0500
TZOFFSETTO:-0400
TZNAME:EDT
DTSTART:20250309T070000
END:DAYLIGHT
BEGIN:STANDARD
TZOFFSETFROM:-0400
TZOFFSETTO:-0500
TZNAME:EST
DTSTART:20251102T060000
END:STANDARD
BEGIN:DAYLIGHT
TZOFFSETFROM:-0500
TZOFFSETTO:-0400
TZNAME:EDT
DTSTART:20260308T070000
END:DAYLIGHT
BEGIN:STANDARD
TZOFFSETFROM:-0400
TZOFFSETTO:-0500
TZNAME:EST
DTSTART:20261101T060000
END:STANDARD
END:VTIMEZONE
BEGIN:VEVENT
DTSTART;TZID=America/New_York:20251003T160000
DTEND;TZID=America/New_York:20251003T190000
DTSTAMP:20260420T170450
CREATED:20250515T083624Z
LAST-MODIFIED:20250515T083624Z
UID:78741-1759507200-1759518000@thenewbraunfelslife.com
SUMMARY:Friday Afternoon Club at Gruene Hall
DESCRIPTION:Wrap up the week with an afternoon of music\, relaxation\, and great company at the iconic Gruene Hall. The Friday Afternoon Club offers a perfect way to transition into the weekend\, featuring live performances\, cold drinks\, and the welcoming charm of Texas’ oldest dance hall.\n\n\nThis free event takes place every Friday from 4:00 pm to 7:00 pm through October 3\, 2025\, at Gruene Hall\, 1281 Gruene Rd\, New Braunfels\, TX 78130. Attendees can expect a laid-back atmosphere and the chance to enjoy local talent in a historic setting.\n\n\nFor more information\, visit gruenehall.com or call 830-629-5077.
URL:https://thenewbraunfelslife.com/event/friday-afternoon-club-at-gruene-hall/2025-10-03/
LOCATION:Gruene Hall\, 1281 Gruene Rd\, New Braunfels\, TX\, 78130\, United States
CATEGORIES:Music
ATTACH;FMTTYPE=image/jpeg:https://thenewbraunfelslife.com/wp-content/uploads/2025/05/friday-afternoon-club-at-gruene-hall.jpg
END:VEVENT
BEGIN:VEVENT
DTSTART;TZID=America/New_York:20250926T160000
DTEND;TZID=America/New_York:20250926T190000
DTSTAMP:20260420T170450
CREATED:20250515T083624Z
LAST-MODIFIED:20250515T083624Z
UID:78740-1758902400-1758913200@thenewbraunfelslife.com
SUMMARY:Friday Afternoon Club at Gruene Hall
DESCRIPTION:Wrap up the week with an afternoon of music\, relaxation\, and great company at the iconic Gruene Hall. The Friday Afternoon Club offers a perfect way to transition into the weekend\, featuring live performances\, cold drinks\, and the welcoming charm of Texas’ oldest dance hall.\n\n\nThis free event takes place every Friday from 4:00 pm to 7:00 pm through October 3\, 2025\, at Gruene Hall\, 1281 Gruene Rd\, New Braunfels\, TX 78130. Attendees can expect a laid-back atmosphere and the chance to enjoy local talent in a historic setting.\n\n\nFor more information\, visit gruenehall.com or call 830-629-5077.
URL:https://thenewbraunfelslife.com/event/friday-afternoon-club-at-gruene-hall/2025-09-26/
LOCATION:Gruene Hall\, 1281 Gruene Rd\, New Braunfels\, TX\, 78130\, United States
CATEGORIES:Music
ATTACH;FMTTYPE=image/jpeg:https://thenewbraunfelslife.com/wp-content/uploads/2025/05/friday-afternoon-club-at-gruene-hall.jpg
END:VEVENT
BEGIN:VEVENT
DTSTART;TZID=America/New_York:20250919T160000
DTEND;TZID=America/New_York:20250919T190000
DTSTAMP:20260420T170450
CREATED:20250515T083624Z
LAST-MODIFIED:20250515T083624Z
UID:78739-1758297600-1758308400@thenewbraunfelslife.com
SUMMARY:Friday Afternoon Club at Gruene Hall
DESCRIPTION:Wrap up the week with an afternoon of music\, relaxation\, and great company at the iconic Gruene Hall. The Friday Afternoon Club offers a perfect way to transition into the weekend\, featuring live performances\, cold drinks\, and the welcoming charm of Texas’ oldest dance hall.\n\n\nThis free event takes place every Friday from 4:00 pm to 7:00 pm through October 3\, 2025\, at Gruene Hall\, 1281 Gruene Rd\, New Braunfels\, TX 78130. Attendees can expect a laid-back atmosphere and the chance to enjoy local talent in a historic setting.\n\n\nFor more information\, visit gruenehall.com or call 830-629-5077.
URL:https://thenewbraunfelslife.com/event/friday-afternoon-club-at-gruene-hall/2025-09-19/
LOCATION:Gruene Hall\, 1281 Gruene Rd\, New Braunfels\, TX\, 78130\, United States
CATEGORIES:Music
ATTACH;FMTTYPE=image/jpeg:https://thenewbraunfelslife.com/wp-content/uploads/2025/05/friday-afternoon-club-at-gruene-hall.jpg
END:VEVENT
BEGIN:VEVENT
DTSTART;TZID=America/New_York:20250912T160000
DTEND;TZID=America/New_York:20250912T190000
DTSTAMP:20260420T170450
CREATED:20250515T083624Z
LAST-MODIFIED:20250515T083624Z
UID:78738-1757692800-1757703600@thenewbraunfelslife.com
SUMMARY:Friday Afternoon Club at Gruene Hall
DESCRIPTION:Wrap up the week with an afternoon of music\, relaxation\, and great company at the iconic Gruene Hall. The Friday Afternoon Club offers a perfect way to transition into the weekend\, featuring live performances\, cold drinks\, and the welcoming charm of Texas’ oldest dance hall.\n\n\nThis free event takes place every Friday from 4:00 pm to 7:00 pm through October 3\, 2025\, at Gruene Hall\, 1281 Gruene Rd\, New Braunfels\, TX 78130. Attendees can expect a laid-back atmosphere and the chance to enjoy local talent in a historic setting.\n\n\nFor more information\, visit gruenehall.com or call 830-629-5077.
URL:https://thenewbraunfelslife.com/event/friday-afternoon-club-at-gruene-hall/2025-09-12/
LOCATION:Gruene Hall\, 1281 Gruene Rd\, New Braunfels\, TX\, 78130\, United States
CATEGORIES:Music
ATTACH;FMTTYPE=image/jpeg:https://thenewbraunfelslife.com/wp-content/uploads/2025/05/friday-afternoon-club-at-gruene-hall.jpg
END:VEVENT
BEGIN:VEVENT
DTSTART;TZID=America/New_York:20250905T160000
DTEND;TZID=America/New_York:20250905T190000
DTSTAMP:20260420T170450
CREATED:20250515T083624Z
LAST-MODIFIED:20250515T083624Z
UID:78737-1757088000-1757098800@thenewbraunfelslife.com
SUMMARY:Friday Afternoon Club at Gruene Hall
DESCRIPTION:Wrap up the week with an afternoon of music\, relaxation\, and great company at the iconic Gruene Hall. The Friday Afternoon Club offers a perfect way to transition into the weekend\, featuring live performances\, cold drinks\, and the welcoming charm of Texas’ oldest dance hall.\n\n\nThis free event takes place every Friday from 4:00 pm to 7:00 pm through October 3\, 2025\, at Gruene Hall\, 1281 Gruene Rd\, New Braunfels\, TX 78130. Attendees can expect a laid-back atmosphere and the chance to enjoy local talent in a historic setting.\n\n\nFor more information\, visit gruenehall.com or call 830-629-5077.
URL:https://thenewbraunfelslife.com/event/friday-afternoon-club-at-gruene-hall/2025-09-05/
LOCATION:Gruene Hall\, 1281 Gruene Rd\, New Braunfels\, TX\, 78130\, United States
CATEGORIES:Music
ATTACH;FMTTYPE=image/jpeg:https://thenewbraunfelslife.com/wp-content/uploads/2025/05/friday-afternoon-club-at-gruene-hall.jpg
END:VEVENT
BEGIN:VEVENT
DTSTART;TZID=America/New_York:20250829T160000
DTEND;TZID=America/New_York:20250829T190000
DTSTAMP:20260420T170450
CREATED:20250515T083624Z
LAST-MODIFIED:20250515T083624Z
UID:78736-1756483200-1756494000@thenewbraunfelslife.com
SUMMARY:Friday Afternoon Club at Gruene Hall
DESCRIPTION:Wrap up the week with an afternoon of music\, relaxation\, and great company at the iconic Gruene Hall. The Friday Afternoon Club offers a perfect way to transition into the weekend\, featuring live performances\, cold drinks\, and the welcoming charm of Texas’ oldest dance hall.\n\n\nThis free event takes place every Friday from 4:00 pm to 7:00 pm through October 3\, 2025\, at Gruene Hall\, 1281 Gruene Rd\, New Braunfels\, TX 78130. Attendees can expect a laid-back atmosphere and the chance to enjoy local talent in a historic setting.\n\n\nFor more information\, visit gruenehall.com or call 830-629-5077.
URL:https://thenewbraunfelslife.com/event/friday-afternoon-club-at-gruene-hall/2025-08-29/
LOCATION:Gruene Hall\, 1281 Gruene Rd\, New Braunfels\, TX\, 78130\, United States
CATEGORIES:Music
ATTACH;FMTTYPE=image/jpeg:https://thenewbraunfelslife.com/wp-content/uploads/2025/05/friday-afternoon-club-at-gruene-hall.jpg
END:VEVENT
BEGIN:VEVENT
DTSTART;TZID=America/New_York:20250822T160000
DTEND;TZID=America/New_York:20250822T190000
DTSTAMP:20260420T170450
CREATED:20250515T083624Z
LAST-MODIFIED:20250515T083624Z
UID:78735-1755878400-1755889200@thenewbraunfelslife.com
SUMMARY:Friday Afternoon Club at Gruene Hall
DESCRIPTION:Wrap up the week with an afternoon of music\, relaxation\, and great company at the iconic Gruene Hall. The Friday Afternoon Club offers a perfect way to transition into the weekend\, featuring live performances\, cold drinks\, and the welcoming charm of Texas’ oldest dance hall.\n\n\nThis free event takes place every Friday from 4:00 pm to 7:00 pm through October 3\, 2025\, at Gruene Hall\, 1281 Gruene Rd\, New Braunfels\, TX 78130. Attendees can expect a laid-back atmosphere and the chance to enjoy local talent in a historic setting.\n\n\nFor more information\, visit gruenehall.com or call 830-629-5077.
URL:https://thenewbraunfelslife.com/event/friday-afternoon-club-at-gruene-hall/2025-08-22/
LOCATION:Gruene Hall\, 1281 Gruene Rd\, New Braunfels\, TX\, 78130\, United States
CATEGORIES:Music
ATTACH;FMTTYPE=image/jpeg:https://thenewbraunfelslife.com/wp-content/uploads/2025/05/friday-afternoon-club-at-gruene-hall.jpg
END:VEVENT
BEGIN:VEVENT
DTSTART;TZID=America/New_York:20250815T160000
DTEND;TZID=America/New_York:20250815T190000
DTSTAMP:20260420T170450
CREATED:20250515T083624Z
LAST-MODIFIED:20250515T083624Z
UID:78734-1755273600-1755284400@thenewbraunfelslife.com
SUMMARY:Friday Afternoon Club at Gruene Hall
DESCRIPTION:Wrap up the week with an afternoon of music\, relaxation\, and great company at the iconic Gruene Hall. The Friday Afternoon Club offers a perfect way to transition into the weekend\, featuring live performances\, cold drinks\, and the welcoming charm of Texas’ oldest dance hall.\n\n\nThis free event takes place every Friday from 4:00 pm to 7:00 pm through October 3\, 2025\, at Gruene Hall\, 1281 Gruene Rd\, New Braunfels\, TX 78130. Attendees can expect a laid-back atmosphere and the chance to enjoy local talent in a historic setting.\n\n\nFor more information\, visit gruenehall.com or call 830-629-5077.
URL:https://thenewbraunfelslife.com/event/friday-afternoon-club-at-gruene-hall/2025-08-15/
LOCATION:Gruene Hall\, 1281 Gruene Rd\, New Braunfels\, TX\, 78130\, United States
CATEGORIES:Music
ATTACH;FMTTYPE=image/jpeg:https://thenewbraunfelslife.com/wp-content/uploads/2025/05/friday-afternoon-club-at-gruene-hall.jpg
END:VEVENT
BEGIN:VEVENT
DTSTART;TZID=America/New_York:20250808T160000
DTEND;TZID=America/New_York:20250808T190000
DTSTAMP:20260420T170450
CREATED:20250515T083624Z
LAST-MODIFIED:20250528T033148Z
UID:78383-1754668800-1754679600@thenewbraunfelslife.com
SUMMARY:Friday Afternoon Club at Gruene Hall
DESCRIPTION:Wrap up the week with an afternoon of music\, relaxation\, and great company at the iconic Gruene Hall. The Friday Afternoon Club offers a perfect way to transition into the weekend\, featuring live performances\, cold drinks\, and the welcoming charm of Texas’ oldest dance hall.\n\n\nThis free event takes place every Friday from 4:00 pm to 7:00 pm through October 3\, 2025\, at Gruene Hall\, 1281 Gruene Rd\, New Braunfels\, TX 78130. Attendees can expect a laid-back atmosphere and the chance to enjoy local talent in a historic setting.\n\n\nFor more information\, visit gruenehall.com or call 830-629-5077.
URL:https://thenewbraunfelslife.com/event/friday-afternoon-club-at-gruene-hall/2025-08-08/
LOCATION:Gruene Hall\, 1281 Gruene Rd\, New Braunfels\, TX\, 78130\, United States
CATEGORIES:Music
ATTACH;FMTTYPE=image/jpeg:https://thenewbraunfelslife.com/wp-content/uploads/2025/05/friday-afternoon-club-at-gruene-hall.jpg
END:VEVENT
BEGIN:VEVENT
DTSTART;TZID=America/New_York:20250801T160000
DTEND;TZID=America/New_York:20250801T190000
DTSTAMP:20260420T170450
CREATED:20250515T083624Z
LAST-MODIFIED:20250528T033148Z
UID:78382-1754064000-1754074800@thenewbraunfelslife.com
SUMMARY:Friday Afternoon Club at Gruene Hall
DESCRIPTION:Wrap up the week with an afternoon of music\, relaxation\, and great company at the iconic Gruene Hall. The Friday Afternoon Club offers a perfect way to transition into the weekend\, featuring live performances\, cold drinks\, and the welcoming charm of Texas’ oldest dance hall.\n\n\nThis free event takes place every Friday from 4:00 pm to 7:00 pm through October 3\, 2025\, at Gruene Hall\, 1281 Gruene Rd\, New Braunfels\, TX 78130. Attendees can expect a laid-back atmosphere and the chance to enjoy local talent in a historic setting.\n\n\nFor more information\, visit gruenehall.com or call 830-629-5077.
URL:https://thenewbraunfelslife.com/event/friday-afternoon-club-at-gruene-hall/2025-08-01/
LOCATION:Gruene Hall\, 1281 Gruene Rd\, New Braunfels\, TX\, 78130\, United States
CATEGORIES:Music
ATTACH;FMTTYPE=image/jpeg:https://thenewbraunfelslife.com/wp-content/uploads/2025/05/friday-afternoon-club-at-gruene-hall.jpg
END:VEVENT
BEGIN:VEVENT
DTSTART;TZID=America/New_York:20250725T160000
DTEND;TZID=America/New_York:20250725T190000
DTSTAMP:20260420T170450
CREATED:20250515T083624Z
LAST-MODIFIED:20250528T033148Z
UID:78381-1753459200-1753470000@thenewbraunfelslife.com
SUMMARY:Friday Afternoon Club at Gruene Hall
DESCRIPTION:Wrap up the week with an afternoon of music\, relaxation\, and great company at the iconic Gruene Hall. The Friday Afternoon Club offers a perfect way to transition into the weekend\, featuring live performances\, cold drinks\, and the welcoming charm of Texas’ oldest dance hall.\n\n\nThis free event takes place every Friday from 4:00 pm to 7:00 pm through October 3\, 2025\, at Gruene Hall\, 1281 Gruene Rd\, New Braunfels\, TX 78130. Attendees can expect a laid-back atmosphere and the chance to enjoy local talent in a historic setting.\n\n\nFor more information\, visit gruenehall.com or call 830-629-5077.
URL:https://thenewbraunfelslife.com/event/friday-afternoon-club-at-gruene-hall/2025-07-25/
LOCATION:Gruene Hall\, 1281 Gruene Rd\, New Braunfels\, TX\, 78130\, United States
CATEGORIES:Music
ATTACH;FMTTYPE=image/jpeg:https://thenewbraunfelslife.com/wp-content/uploads/2025/05/friday-afternoon-club-at-gruene-hall.jpg
END:VEVENT
BEGIN:VEVENT
DTSTART;TZID=America/New_York:20250718T160000
DTEND;TZID=America/New_York:20250718T190000
DTSTAMP:20260420T170450
CREATED:20250515T083624Z
LAST-MODIFIED:20250528T033148Z
UID:78380-1752854400-1752865200@thenewbraunfelslife.com
SUMMARY:Friday Afternoon Club at Gruene Hall
DESCRIPTION:Wrap up the week with an afternoon of music\, relaxation\, and great company at the iconic Gruene Hall. The Friday Afternoon Club offers a perfect way to transition into the weekend\, featuring live performances\, cold drinks\, and the welcoming charm of Texas’ oldest dance hall.\n\n\nThis free event takes place every Friday from 4:00 pm to 7:00 pm through October 3\, 2025\, at Gruene Hall\, 1281 Gruene Rd\, New Braunfels\, TX 78130. Attendees can expect a laid-back atmosphere and the chance to enjoy local talent in a historic setting.\n\n\nFor more information\, visit gruenehall.com or call 830-629-5077.
URL:https://thenewbraunfelslife.com/event/friday-afternoon-club-at-gruene-hall/2025-07-18/
LOCATION:Gruene Hall\, 1281 Gruene Rd\, New Braunfels\, TX\, 78130\, United States
CATEGORIES:Music
ATTACH;FMTTYPE=image/jpeg:https://thenewbraunfelslife.com/wp-content/uploads/2025/05/friday-afternoon-club-at-gruene-hall.jpg
END:VEVENT
BEGIN:VEVENT
DTSTART;TZID=America/New_York:20250711T160000
DTEND;TZID=America/New_York:20250711T190000
DTSTAMP:20260420T170450
CREATED:20250515T083624Z
LAST-MODIFIED:20250528T033148Z
UID:78379-1752249600-1752260400@thenewbraunfelslife.com
SUMMARY:Friday Afternoon Club at Gruene Hall
DESCRIPTION:Wrap up the week with an afternoon of music\, relaxation\, and great company at the iconic Gruene Hall. The Friday Afternoon Club offers a perfect way to transition into the weekend\, featuring live performances\, cold drinks\, and the welcoming charm of Texas’ oldest dance hall.\n\n\nThis free event takes place every Friday from 4:00 pm to 7:00 pm through October 3\, 2025\, at Gruene Hall\, 1281 Gruene Rd\, New Braunfels\, TX 78130. Attendees can expect a laid-back atmosphere and the chance to enjoy local talent in a historic setting.\n\n\nFor more information\, visit gruenehall.com or call 830-629-5077.
URL:https://thenewbraunfelslife.com/event/friday-afternoon-club-at-gruene-hall/2025-07-11/
LOCATION:Gruene Hall\, 1281 Gruene Rd\, New Braunfels\, TX\, 78130\, United States
CATEGORIES:Music
ATTACH;FMTTYPE=image/jpeg:https://thenewbraunfelslife.com/wp-content/uploads/2025/05/friday-afternoon-club-at-gruene-hall.jpg
END:VEVENT
BEGIN:VEVENT
DTSTART;TZID=America/New_York:20250704T160000
DTEND;TZID=America/New_York:20250704T190000
DTSTAMP:20260420T170450
CREATED:20250515T083624Z
LAST-MODIFIED:20250528T033147Z
UID:78378-1751644800-1751655600@thenewbraunfelslife.com
SUMMARY:Friday Afternoon Club at Gruene Hall
DESCRIPTION:Wrap up the week with an afternoon of music\, relaxation\, and great company at the iconic Gruene Hall. The Friday Afternoon Club offers a perfect way to transition into the weekend\, featuring live performances\, cold drinks\, and the welcoming charm of Texas’ oldest dance hall.\n\n\nThis free event takes place every Friday from 4:00 pm to 7:00 pm through October 3\, 2025\, at Gruene Hall\, 1281 Gruene Rd\, New Braunfels\, TX 78130. Attendees can expect a laid-back atmosphere and the chance to enjoy local talent in a historic setting.\n\n\nFor more information\, visit gruenehall.com or call 830-629-5077.
URL:https://thenewbraunfelslife.com/event/friday-afternoon-club-at-gruene-hall/2025-07-04/
LOCATION:Gruene Hall\, 1281 Gruene Rd\, New Braunfels\, TX\, 78130\, United States
CATEGORIES:Music
ATTACH;FMTTYPE=image/jpeg:https://thenewbraunfelslife.com/wp-content/uploads/2025/05/friday-afternoon-club-at-gruene-hall.jpg
END:VEVENT
BEGIN:VEVENT
DTSTART;TZID=America/New_York:20250627T160000
DTEND;TZID=America/New_York:20250627T190000
DTSTAMP:20260420T170450
CREATED:20250515T083624Z
LAST-MODIFIED:20250528T033147Z
UID:78377-1751040000-1751050800@thenewbraunfelslife.com
SUMMARY:Friday Afternoon Club at Gruene Hall
DESCRIPTION:Wrap up the week with an afternoon of music\, relaxation\, and great company at the iconic Gruene Hall. The Friday Afternoon Club offers a perfect way to transition into the weekend\, featuring live performances\, cold drinks\, and the welcoming charm of Texas’ oldest dance hall.\n\n\nThis free event takes place every Friday from 4:00 pm to 7:00 pm through October 3\, 2025\, at Gruene Hall\, 1281 Gruene Rd\, New Braunfels\, TX 78130. Attendees can expect a laid-back atmosphere and the chance to enjoy local talent in a historic setting.\n\n\nFor more information\, visit gruenehall.com or call 830-629-5077.
URL:https://thenewbraunfelslife.com/event/friday-afternoon-club-at-gruene-hall/2025-06-27/
LOCATION:Gruene Hall\, 1281 Gruene Rd\, New Braunfels\, TX\, 78130\, United States
CATEGORIES:Music
ATTACH;FMTTYPE=image/jpeg:https://thenewbraunfelslife.com/wp-content/uploads/2025/05/friday-afternoon-club-at-gruene-hall.jpg
END:VEVENT
BEGIN:VEVENT
DTSTART;TZID=America/New_York:20250620T160000
DTEND;TZID=America/New_York:20250620T190000
DTSTAMP:20260420T170450
CREATED:20250515T083624Z
LAST-MODIFIED:20250528T033147Z
UID:78376-1750435200-1750446000@thenewbraunfelslife.com
SUMMARY:Friday Afternoon Club at Gruene Hall
DESCRIPTION:Wrap up the week with an afternoon of music\, relaxation\, and great company at the iconic Gruene Hall. The Friday Afternoon Club offers a perfect way to transition into the weekend\, featuring live performances\, cold drinks\, and the welcoming charm of Texas’ oldest dance hall.\n\n\nThis free event takes place every Friday from 4:00 pm to 7:00 pm through October 3\, 2025\, at Gruene Hall\, 1281 Gruene Rd\, New Braunfels\, TX 78130. Attendees can expect a laid-back atmosphere and the chance to enjoy local talent in a historic setting.\n\n\nFor more information\, visit gruenehall.com or call 830-629-5077.
URL:https://thenewbraunfelslife.com/event/friday-afternoon-club-at-gruene-hall/2025-06-20/
LOCATION:Gruene Hall\, 1281 Gruene Rd\, New Braunfels\, TX\, 78130\, United States
CATEGORIES:Music
ATTACH;FMTTYPE=image/jpeg:https://thenewbraunfelslife.com/wp-content/uploads/2025/05/friday-afternoon-club-at-gruene-hall.jpg
END:VEVENT
BEGIN:VEVENT
DTSTART;TZID=America/New_York:20250613T160000
DTEND;TZID=America/New_York:20250613T190000
DTSTAMP:20260420T170450
CREATED:20250515T083624Z
LAST-MODIFIED:20250528T033147Z
UID:78375-1749830400-1749841200@thenewbraunfelslife.com
SUMMARY:Friday Afternoon Club at Gruene Hall
DESCRIPTION:Wrap up the week with an afternoon of music\, relaxation\, and great company at the iconic Gruene Hall. The Friday Afternoon Club offers a perfect way to transition into the weekend\, featuring live performances\, cold drinks\, and the welcoming charm of Texas’ oldest dance hall.\n\n\nThis free event takes place every Friday from 4:00 pm to 7:00 pm through October 3\, 2025\, at Gruene Hall\, 1281 Gruene Rd\, New Braunfels\, TX 78130. Attendees can expect a laid-back atmosphere and the chance to enjoy local talent in a historic setting.\n\n\nFor more information\, visit gruenehall.com or call 830-629-5077.
URL:https://thenewbraunfelslife.com/event/friday-afternoon-club-at-gruene-hall/2025-06-13/
LOCATION:Gruene Hall\, 1281 Gruene Rd\, New Braunfels\, TX\, 78130\, United States
CATEGORIES:Music
ATTACH;FMTTYPE=image/jpeg:https://thenewbraunfelslife.com/wp-content/uploads/2025/05/friday-afternoon-club-at-gruene-hall.jpg
END:VEVENT
BEGIN:VEVENT
DTSTART;TZID=America/New_York:20250606T160000
DTEND;TZID=America/New_York:20250606T190000
DTSTAMP:20260420T170450
CREATED:20250515T083624Z
LAST-MODIFIED:20250528T033146Z
UID:78374-1749225600-1749236400@thenewbraunfelslife.com
SUMMARY:Friday Afternoon Club at Gruene Hall
DESCRIPTION:Wrap up the week with an afternoon of music\, relaxation\, and great company at the iconic Gruene Hall. The Friday Afternoon Club offers a perfect way to transition into the weekend\, featuring live performances\, cold drinks\, and the welcoming charm of Texas’ oldest dance hall.\n\n\nThis free event takes place every Friday from 4:00 pm to 7:00 pm through October 3\, 2025\, at Gruene Hall\, 1281 Gruene Rd\, New Braunfels\, TX 78130. Attendees can expect a laid-back atmosphere and the chance to enjoy local talent in a historic setting.\n\n\nFor more information\, visit gruenehall.com or call 830-629-5077.
URL:https://thenewbraunfelslife.com/event/friday-afternoon-club-at-gruene-hall/2025-06-06/
LOCATION:Gruene Hall\, 1281 Gruene Rd\, New Braunfels\, TX\, 78130\, United States
CATEGORIES:Music
ATTACH;FMTTYPE=image/jpeg:https://thenewbraunfelslife.com/wp-content/uploads/2025/05/friday-afternoon-club-at-gruene-hall.jpg
END:VEVENT
BEGIN:VEVENT
DTSTART;TZID=America/New_York:20250530T160000
DTEND;TZID=America/New_York:20250530T190000
DTSTAMP:20260420T170450
CREATED:20250515T083624Z
LAST-MODIFIED:20250528T033141Z
UID:78373-1748620800-1748631600@thenewbraunfelslife.com
SUMMARY:Friday Afternoon Club at Gruene Hall
DESCRIPTION:Wrap up the week with an afternoon of music\, relaxation\, and great company at the iconic Gruene Hall. The Friday Afternoon Club offers a perfect way to transition into the weekend\, featuring live performances\, cold drinks\, and the welcoming charm of Texas’ oldest dance hall.\n\n\nThis free event takes place every Friday from 4:00 pm to 7:00 pm through October 3\, 2025\, at Gruene Hall\, 1281 Gruene Rd\, New Braunfels\, TX 78130. Attendees can expect a laid-back atmosphere and the chance to enjoy local talent in a historic setting.\n\n\nFor more information\, visit gruenehall.com or call 830-629-5077.
URL:https://thenewbraunfelslife.com/event/friday-afternoon-club-at-gruene-hall/2025-05-30/
LOCATION:Gruene Hall\, 1281 Gruene Rd\, New Braunfels\, TX\, 78130\, United States
CATEGORIES:Music
ATTACH;FMTTYPE=image/jpeg:https://thenewbraunfelslife.com/wp-content/uploads/2025/05/friday-afternoon-club-at-gruene-hall.jpg
END:VEVENT
BEGIN:VEVENT
DTSTART;TZID=America/New_York:20250523T160000
DTEND;TZID=America/New_York:20250523T190000
DTSTAMP:20260420T170450
CREATED:20250515T083624Z
LAST-MODIFIED:20250528T033140Z
UID:78372-1748016000-1748026800@thenewbraunfelslife.com
SUMMARY:Friday Afternoon Club at Gruene Hall
DESCRIPTION:Wrap up the week with an afternoon of music\, relaxation\, and great company at the iconic Gruene Hall. The Friday Afternoon Club offers a perfect way to transition into the weekend\, featuring live performances\, cold drinks\, and the welcoming charm of Texas’ oldest dance hall.\n\n\nThis free event takes place every Friday from 4:00 pm to 7:00 pm through October 3\, 2025\, at Gruene Hall\, 1281 Gruene Rd\, New Braunfels\, TX 78130. Attendees can expect a laid-back atmosphere and the chance to enjoy local talent in a historic setting.\n\n\nFor more information\, visit gruenehall.com or call 830-629-5077.
URL:https://thenewbraunfelslife.com/event/friday-afternoon-club-at-gruene-hall/2025-05-23/
LOCATION:Gruene Hall\, 1281 Gruene Rd\, New Braunfels\, TX\, 78130\, United States
CATEGORIES:Music
ATTACH;FMTTYPE=image/jpeg:https://thenewbraunfelslife.com/wp-content/uploads/2025/05/friday-afternoon-club-at-gruene-hall.jpg
END:VEVENT
BEGIN:VEVENT
DTSTART;TZID=America/New_York:20250516T160000
DTEND;TZID=America/New_York:20250516T190000
DTSTAMP:20260420T170450
CREATED:20250515T083624Z
LAST-MODIFIED:20250528T033139Z
UID:78054-1747411200-1747422000@thenewbraunfelslife.com
SUMMARY:Friday Afternoon Club at Gruene Hall
DESCRIPTION:Wrap up the week with an afternoon of music\, relaxation\, and great company at the iconic Gruene Hall. The Friday Afternoon Club offers a perfect way to transition into the weekend\, featuring live performances\, cold drinks\, and the welcoming charm of Texas’ oldest dance hall.\n\n\nThis free event takes place every Friday from 4:00 pm to 7:00 pm through October 3\, 2025\, at Gruene Hall\, 1281 Gruene Rd\, New Braunfels\, TX 78130. Attendees can expect a laid-back atmosphere and the chance to enjoy local talent in a historic setting.\n\n\nFor more information\, visit gruenehall.com or call 830-629-5077.
URL:https://thenewbraunfelslife.com/event/friday-afternoon-club-at-gruene-hall/2025-05-16/
LOCATION:Gruene Hall\, 1281 Gruene Rd\, New Braunfels\, TX\, 78130\, United States
CATEGORIES:Music
ATTACH;FMTTYPE=image/jpeg:https://thenewbraunfelslife.com/wp-content/uploads/2025/05/friday-afternoon-club-at-gruene-hall.jpg
END:VEVENT
END:VCALENDAR