BEGIN:VCALENDAR
VERSION:2.0
PRODID:-//The New Braunfels Life - ECPv6.15.20//NONSGML v1.0//EN
CALSCALE:GREGORIAN
METHOD:PUBLISH
X-ORIGINAL-URL:https://thenewbraunfelslife.com
X-WR-CALDESC:Events for The New Braunfels Life
REFRESH-INTERVAL;VALUE=DURATION:PT1H
X-Robots-Tag:noindex
X-PUBLISHED-TTL:PT1H
BEGIN:VTIMEZONE
TZID:America/New_York
BEGIN:DAYLIGHT
TZOFFSETFROM:-0500
TZOFFSETTO:-0400
TZNAME:EDT
DTSTART:20250309T070000
END:DAYLIGHT
BEGIN:STANDARD
TZOFFSETFROM:-0400
TZOFFSETTO:-0500
TZNAME:EST
DTSTART:20251102T060000
END:STANDARD
BEGIN:DAYLIGHT
TZOFFSETFROM:-0500
TZOFFSETTO:-0400
TZNAME:EDT
DTSTART:20260308T070000
END:DAYLIGHT
BEGIN:STANDARD
TZOFFSETFROM:-0400
TZOFFSETTO:-0500
TZNAME:EST
DTSTART:20261101T060000
END:STANDARD
BEGIN:DAYLIGHT
TZOFFSETFROM:-0500
TZOFFSETTO:-0400
TZNAME:EDT
DTSTART:20270314T070000
END:DAYLIGHT
BEGIN:STANDARD
TZOFFSETFROM:-0400
TZOFFSETTO:-0500
TZNAME:EST
DTSTART:20271107T060000
END:STANDARD
END:VTIMEZONE
BEGIN:VEVENT
DTSTART;TZID=America/New_York:20260422T090000
DTEND;TZID=America/New_York:20260422T120000
DTSTAMP:20260424T054403
CREATED:20260122T093826Z
LAST-MODIFIED:20260408T015805Z
UID:82406-1776848400-1776859200@thenewbraunfelslife.com
SUMMARY:Sit & Stitch at New Braunfels Public Library
DESCRIPTION:Sit & Stitch offers a welcoming space for knitters\, crocheters\, and stitchers of all experience levels to work on projects\, exchange tips and patterns\, and enjoy casual conversation with fellow crafters. This informal gathering is designed for anyone who enjoys fiber arts and wants a relaxed\, social environment to create and connect.\n\n\nSessions are held on Wednesdays\, taking place weekly from 9:00 am to 12:00 pm with another session from 1-5 pm. The program is hosted in the lobby of the main branch of the New Braunfels Public Library\, located in New Braunfels\, Texas. Participation is free and open to adults\, teens\, seniors\, and all ages who enjoy stitching crafts.
URL:https://thenewbraunfelslife.com/event/sit-stitch-at-new-braunfels-public-library/2026-04-22/
LOCATION:New Braunfels Public Library\, 700 E Common St\, New Braunfels\,\, Texas\, 78130\, United States
CATEGORIES:Arts & Culture
ATTACH;FMTTYPE=image/jpeg:https://thenewbraunfelslife.com/wp-content/uploads/2026/01/sit-and-stitch-at-new-braunfels-public-library.jpg
END:VEVENT
BEGIN:VEVENT
DTSTART;TZID=America/New_York:20260415T090000
DTEND;TZID=America/New_York:20260415T120000
DTSTAMP:20260424T054403
CREATED:20260122T093826Z
LAST-MODIFIED:20260408T015733Z
UID:82405-1776243600-1776254400@thenewbraunfelslife.com
SUMMARY:Sit & Stitch at New Braunfels Public Library
DESCRIPTION:Sit & Stitch offers a welcoming space for knitters\, crocheters\, and stitchers of all experience levels to work on projects\, exchange tips and patterns\, and enjoy casual conversation with fellow crafters. This informal gathering is designed for anyone who enjoys fiber arts and wants a relaxed\, social environment to create and connect.\n\n\nSessions are held on Wednesdays\, taking place weekly from 9:00 am to 12:00 pm with another session from 1-5 pm. The program is hosted in the lobby of the main branch of the New Braunfels Public Library\, located in New Braunfels\, Texas. Participation is free and open to adults\, teens\, seniors\, and all ages who enjoy stitching crafts.
URL:https://thenewbraunfelslife.com/event/sit-stitch-at-new-braunfels-public-library/2026-04-15/
LOCATION:New Braunfels Public Library\, 700 E Common St\, New Braunfels\,\, Texas\, 78130\, United States
CATEGORIES:Arts & Culture
ATTACH;FMTTYPE=image/jpeg:https://thenewbraunfelslife.com/wp-content/uploads/2026/01/sit-and-stitch-at-new-braunfels-public-library.jpg
END:VEVENT
BEGIN:VEVENT
DTSTART;TZID=America/New_York:20260408T090000
DTEND;TZID=America/New_York:20260408T120000
DTSTAMP:20260424T054403
CREATED:20260122T093826Z
LAST-MODIFIED:20260408T015731Z
UID:82404-1775638800-1775649600@thenewbraunfelslife.com
SUMMARY:Sit & Stitch at New Braunfels Public Library
DESCRIPTION:Sit & Stitch offers a welcoming space for knitters\, crocheters\, and stitchers of all experience levels to work on projects\, exchange tips and patterns\, and enjoy casual conversation with fellow crafters. This informal gathering is designed for anyone who enjoys fiber arts and wants a relaxed\, social environment to create and connect.\n\n\nSessions are held on Wednesdays\, taking place weekly from 9:00 am to 12:00 pm with another session from 1-5 pm. The program is hosted in the lobby of the main branch of the New Braunfels Public Library\, located in New Braunfels\, Texas. Participation is free and open to adults\, teens\, seniors\, and all ages who enjoy stitching crafts.
URL:https://thenewbraunfelslife.com/event/sit-stitch-at-new-braunfels-public-library/2026-04-08/
LOCATION:New Braunfels Public Library\, 700 E Common St\, New Braunfels\,\, Texas\, 78130\, United States
CATEGORIES:Arts & Culture
ATTACH;FMTTYPE=image/jpeg:https://thenewbraunfelslife.com/wp-content/uploads/2026/01/sit-and-stitch-at-new-braunfels-public-library.jpg
END:VEVENT
BEGIN:VEVENT
DTSTART;TZID=America/New_York:20260401T090000
DTEND;TZID=America/New_York:20260401T120000
DTSTAMP:20260424T054403
CREATED:20260122T093826Z
LAST-MODIFIED:20260408T015728Z
UID:82403-1775034000-1775044800@thenewbraunfelslife.com
SUMMARY:Sit & Stitch at New Braunfels Public Library
DESCRIPTION:Sit & Stitch offers a welcoming space for knitters\, crocheters\, and stitchers of all experience levels to work on projects\, exchange tips and patterns\, and enjoy casual conversation with fellow crafters. This informal gathering is designed for anyone who enjoys fiber arts and wants a relaxed\, social environment to create and connect.\n\n\nSessions are held on Wednesdays\, taking place weekly from 9:00 am to 12:00 pm with another session from 1-5 pm. The program is hosted in the lobby of the main branch of the New Braunfels Public Library\, located in New Braunfels\, Texas. Participation is free and open to adults\, teens\, seniors\, and all ages who enjoy stitching crafts.
URL:https://thenewbraunfelslife.com/event/sit-stitch-at-new-braunfels-public-library/2026-04-01/
LOCATION:New Braunfels Public Library\, 700 E Common St\, New Braunfels\,\, Texas\, 78130\, United States
CATEGORIES:Arts & Culture
ATTACH;FMTTYPE=image/jpeg:https://thenewbraunfelslife.com/wp-content/uploads/2026/01/sit-and-stitch-at-new-braunfels-public-library.jpg
END:VEVENT
BEGIN:VEVENT
DTSTART;TZID=America/New_York:20260325T090000
DTEND;TZID=America/New_York:20260325T120000
DTSTAMP:20260424T054403
CREATED:20260122T093826Z
LAST-MODIFIED:20260408T015726Z
UID:82402-1774429200-1774440000@thenewbraunfelslife.com
SUMMARY:Sit & Stitch at New Braunfels Public Library
DESCRIPTION:Sit & Stitch offers a welcoming space for knitters\, crocheters\, and stitchers of all experience levels to work on projects\, exchange tips and patterns\, and enjoy casual conversation with fellow crafters. This informal gathering is designed for anyone who enjoys fiber arts and wants a relaxed\, social environment to create and connect.\n\n\nSessions are held on Wednesdays\, taking place weekly from 9:00 am to 12:00 pm with another session from 1-5 pm. The program is hosted in the lobby of the main branch of the New Braunfels Public Library\, located in New Braunfels\, Texas. Participation is free and open to adults\, teens\, seniors\, and all ages who enjoy stitching crafts.
URL:https://thenewbraunfelslife.com/event/sit-stitch-at-new-braunfels-public-library/2026-03-25/
LOCATION:New Braunfels Public Library\, 700 E Common St\, New Braunfels\,\, Texas\, 78130\, United States
CATEGORIES:Arts & Culture
ATTACH;FMTTYPE=image/jpeg:https://thenewbraunfelslife.com/wp-content/uploads/2026/01/sit-and-stitch-at-new-braunfels-public-library.jpg
END:VEVENT
BEGIN:VEVENT
DTSTART;TZID=America/New_York:20260318T090000
DTEND;TZID=America/New_York:20260318T120000
DTSTAMP:20260424T054403
CREATED:20260122T093826Z
LAST-MODIFIED:20260408T015724Z
UID:82401-1773824400-1773835200@thenewbraunfelslife.com
SUMMARY:Sit & Stitch at New Braunfels Public Library
DESCRIPTION:Sit & Stitch offers a welcoming space for knitters\, crocheters\, and stitchers of all experience levels to work on projects\, exchange tips and patterns\, and enjoy casual conversation with fellow crafters. This informal gathering is designed for anyone who enjoys fiber arts and wants a relaxed\, social environment to create and connect.\n\n\nSessions are held on Wednesdays\, taking place weekly from 9:00 am to 12:00 pm with another session from 1-5 pm. The program is hosted in the lobby of the main branch of the New Braunfels Public Library\, located in New Braunfels\, Texas. Participation is free and open to adults\, teens\, seniors\, and all ages who enjoy stitching crafts.
URL:https://thenewbraunfelslife.com/event/sit-stitch-at-new-braunfels-public-library/2026-03-18/
LOCATION:New Braunfels Public Library\, 700 E Common St\, New Braunfels\,\, Texas\, 78130\, United States
CATEGORIES:Arts & Culture
ATTACH;FMTTYPE=image/jpeg:https://thenewbraunfelslife.com/wp-content/uploads/2026/01/sit-and-stitch-at-new-braunfels-public-library.jpg
END:VEVENT
BEGIN:VEVENT
DTSTART;TZID=America/New_York:20260311T090000
DTEND;TZID=America/New_York:20260311T120000
DTSTAMP:20260424T054403
CREATED:20260122T093826Z
LAST-MODIFIED:20260408T015722Z
UID:82400-1773219600-1773230400@thenewbraunfelslife.com
SUMMARY:Sit & Stitch at New Braunfels Public Library
DESCRIPTION:Sit & Stitch offers a welcoming space for knitters\, crocheters\, and stitchers of all experience levels to work on projects\, exchange tips and patterns\, and enjoy casual conversation with fellow crafters. This informal gathering is designed for anyone who enjoys fiber arts and wants a relaxed\, social environment to create and connect.\n\n\nSessions are held on Wednesdays\, taking place weekly from 9:00 am to 12:00 pm with another session from 1-5 pm. The program is hosted in the lobby of the main branch of the New Braunfels Public Library\, located in New Braunfels\, Texas. Participation is free and open to adults\, teens\, seniors\, and all ages who enjoy stitching crafts.
URL:https://thenewbraunfelslife.com/event/sit-stitch-at-new-braunfels-public-library/2026-03-11/
LOCATION:New Braunfels Public Library\, 700 E Common St\, New Braunfels\,\, Texas\, 78130\, United States
CATEGORIES:Arts & Culture
ATTACH;FMTTYPE=image/jpeg:https://thenewbraunfelslife.com/wp-content/uploads/2026/01/sit-and-stitch-at-new-braunfels-public-library.jpg
END:VEVENT
BEGIN:VEVENT
DTSTART;TZID=America/New_York:20260304T090000
DTEND;TZID=America/New_York:20260304T120000
DTSTAMP:20260424T054403
CREATED:20260122T093826Z
LAST-MODIFIED:20260408T015720Z
UID:82399-1772614800-1772625600@thenewbraunfelslife.com
SUMMARY:Sit & Stitch at New Braunfels Public Library
DESCRIPTION:Sit & Stitch offers a welcoming space for knitters\, crocheters\, and stitchers of all experience levels to work on projects\, exchange tips and patterns\, and enjoy casual conversation with fellow crafters. This informal gathering is designed for anyone who enjoys fiber arts and wants a relaxed\, social environment to create and connect.\n\n\nSessions are held on Wednesdays\, taking place weekly from 9:00 am to 12:00 pm with another session from 1-5 pm. The program is hosted in the lobby of the main branch of the New Braunfels Public Library\, located in New Braunfels\, Texas. Participation is free and open to adults\, teens\, seniors\, and all ages who enjoy stitching crafts.
URL:https://thenewbraunfelslife.com/event/sit-stitch-at-new-braunfels-public-library/2026-03-04/
LOCATION:New Braunfels Public Library\, 700 E Common St\, New Braunfels\,\, Texas\, 78130\, United States
CATEGORIES:Arts & Culture
ATTACH;FMTTYPE=image/jpeg:https://thenewbraunfelslife.com/wp-content/uploads/2026/01/sit-and-stitch-at-new-braunfels-public-library.jpg
END:VEVENT
BEGIN:VEVENT
DTSTART;TZID=America/New_York:20260225T090000
DTEND;TZID=America/New_York:20260225T120000
DTSTAMP:20260424T054403
CREATED:20260122T093826Z
LAST-MODIFIED:20260408T015719Z
UID:82398-1772010000-1772020800@thenewbraunfelslife.com
SUMMARY:Sit & Stitch at New Braunfels Public Library
DESCRIPTION:Sit & Stitch offers a welcoming space for knitters\, crocheters\, and stitchers of all experience levels to work on projects\, exchange tips and patterns\, and enjoy casual conversation with fellow crafters. This informal gathering is designed for anyone who enjoys fiber arts and wants a relaxed\, social environment to create and connect.\n\n\nSessions are held on Wednesdays\, taking place weekly from 9:00 am to 12:00 pm with another session from 1-5 pm. The program is hosted in the lobby of the main branch of the New Braunfels Public Library\, located in New Braunfels\, Texas. Participation is free and open to adults\, teens\, seniors\, and all ages who enjoy stitching crafts.
URL:https://thenewbraunfelslife.com/event/sit-stitch-at-new-braunfels-public-library/2026-02-25/
LOCATION:New Braunfels Public Library\, 700 E Common St\, New Braunfels\,\, Texas\, 78130\, United States
CATEGORIES:Arts & Culture
ATTACH;FMTTYPE=image/jpeg:https://thenewbraunfelslife.com/wp-content/uploads/2026/01/sit-and-stitch-at-new-braunfels-public-library.jpg
END:VEVENT
BEGIN:VEVENT
DTSTART;TZID=America/New_York:20260218T090000
DTEND;TZID=America/New_York:20260218T120000
DTSTAMP:20260424T054403
CREATED:20260122T093826Z
LAST-MODIFIED:20260408T015717Z
UID:82397-1771405200-1771416000@thenewbraunfelslife.com
SUMMARY:Sit & Stitch at New Braunfels Public Library
DESCRIPTION:Sit & Stitch offers a welcoming space for knitters\, crocheters\, and stitchers of all experience levels to work on projects\, exchange tips and patterns\, and enjoy casual conversation with fellow crafters. This informal gathering is designed for anyone who enjoys fiber arts and wants a relaxed\, social environment to create and connect.\n\n\nSessions are held on Wednesdays\, taking place weekly from 9:00 am to 12:00 pm with another session from 1-5 pm. The program is hosted in the lobby of the main branch of the New Braunfels Public Library\, located in New Braunfels\, Texas. Participation is free and open to adults\, teens\, seniors\, and all ages who enjoy stitching crafts.
URL:https://thenewbraunfelslife.com/event/sit-stitch-at-new-braunfels-public-library/2026-02-18/
LOCATION:New Braunfels Public Library\, 700 E Common St\, New Braunfels\,\, Texas\, 78130\, United States
CATEGORIES:Arts & Culture
ATTACH;FMTTYPE=image/jpeg:https://thenewbraunfelslife.com/wp-content/uploads/2026/01/sit-and-stitch-at-new-braunfels-public-library.jpg
END:VEVENT
BEGIN:VEVENT
DTSTART;TZID=America/New_York:20260211T090000
DTEND;TZID=America/New_York:20260211T120000
DTSTAMP:20260424T054403
CREATED:20260122T093826Z
LAST-MODIFIED:20260408T015715Z
UID:82396-1770800400-1770811200@thenewbraunfelslife.com
SUMMARY:Sit & Stitch at New Braunfels Public Library
DESCRIPTION:Sit & Stitch offers a welcoming space for knitters\, crocheters\, and stitchers of all experience levels to work on projects\, exchange tips and patterns\, and enjoy casual conversation with fellow crafters. This informal gathering is designed for anyone who enjoys fiber arts and wants a relaxed\, social environment to create and connect.\n\n\nSessions are held on Wednesdays\, taking place weekly from 9:00 am to 12:00 pm with another session from 1-5 pm. The program is hosted in the lobby of the main branch of the New Braunfels Public Library\, located in New Braunfels\, Texas. Participation is free and open to adults\, teens\, seniors\, and all ages who enjoy stitching crafts.
URL:https://thenewbraunfelslife.com/event/sit-stitch-at-new-braunfels-public-library/2026-02-11/
LOCATION:New Braunfels Public Library\, 700 E Common St\, New Braunfels\,\, Texas\, 78130\, United States
CATEGORIES:Arts & Culture
ATTACH;FMTTYPE=image/jpeg:https://thenewbraunfelslife.com/wp-content/uploads/2026/01/sit-and-stitch-at-new-braunfels-public-library.jpg
END:VEVENT
BEGIN:VEVENT
DTSTART;TZID=America/New_York:20260204T090000
DTEND;TZID=America/New_York:20260204T120000
DTSTAMP:20260424T054403
CREATED:20260122T093826Z
LAST-MODIFIED:20260408T015714Z
UID:82394-1770195600-1770206400@thenewbraunfelslife.com
SUMMARY:Sit & Stitch at New Braunfels Public Library
DESCRIPTION:Sit & Stitch offers a welcoming space for knitters\, crocheters\, and stitchers of all experience levels to work on projects\, exchange tips and patterns\, and enjoy casual conversation with fellow crafters. This informal gathering is designed for anyone who enjoys fiber arts and wants a relaxed\, social environment to create and connect.\n\n\nSessions are held on Wednesdays\, taking place weekly from 9:00 am to 12:00 pm with another session from 1-5 pm. The program is hosted in the lobby of the main branch of the New Braunfels Public Library\, located in New Braunfels\, Texas. Participation is free and open to adults\, teens\, seniors\, and all ages who enjoy stitching crafts.
URL:https://thenewbraunfelslife.com/event/sit-stitch-at-new-braunfels-public-library/2026-02-04/
LOCATION:New Braunfels Public Library\, 700 E Common St\, New Braunfels\,\, Texas\, 78130\, United States
CATEGORIES:Arts & Culture
ATTACH;FMTTYPE=image/jpeg:https://thenewbraunfelslife.com/wp-content/uploads/2026/01/sit-and-stitch-at-new-braunfels-public-library.jpg
END:VEVENT
END:VCALENDAR