BEGIN:VCALENDAR
VERSION:2.0
PRODID:-//The New Braunfels Life - ECPv6.15.20//NONSGML v1.0//EN
CALSCALE:GREGORIAN
METHOD:PUBLISH
X-ORIGINAL-URL:https://thenewbraunfelslife.com
X-WR-CALDESC:Events for The New Braunfels Life
REFRESH-INTERVAL;VALUE=DURATION:PT1H
X-Robots-Tag:noindex
X-PUBLISHED-TTL:PT1H
BEGIN:VTIMEZONE
TZID:America/New_York
BEGIN:DAYLIGHT
TZOFFSETFROM:-0500
TZOFFSETTO:-0400
TZNAME:EDT
DTSTART:20250309T070000
END:DAYLIGHT
BEGIN:STANDARD
TZOFFSETFROM:-0400
TZOFFSETTO:-0500
TZNAME:EST
DTSTART:20251102T060000
END:STANDARD
BEGIN:DAYLIGHT
TZOFFSETFROM:-0500
TZOFFSETTO:-0400
TZNAME:EDT
DTSTART:20260308T070000
END:DAYLIGHT
BEGIN:STANDARD
TZOFFSETFROM:-0400
TZOFFSETTO:-0500
TZNAME:EST
DTSTART:20261101T060000
END:STANDARD
BEGIN:DAYLIGHT
TZOFFSETFROM:-0500
TZOFFSETTO:-0400
TZNAME:EDT
DTSTART:20270314T070000
END:DAYLIGHT
BEGIN:STANDARD
TZOFFSETFROM:-0400
TZOFFSETTO:-0500
TZNAME:EST
DTSTART:20271107T060000
END:STANDARD
END:VTIMEZONE
BEGIN:VEVENT
DTSTART;TZID=America/New_York:20260422T090000
DTEND;TZID=America/New_York:20260422T120000
DTSTAMP:20260422T101129
CREATED:20260122T093826Z
LAST-MODIFIED:20260408T015805Z
UID:82406-1776848400-1776859200@thenewbraunfelslife.com
SUMMARY:Sit & Stitch at New Braunfels Public Library
DESCRIPTION:Sit & Stitch offers a welcoming space for knitters\, crocheters\, and stitchers of all experience levels to work on projects\, exchange tips and patterns\, and enjoy casual conversation with fellow crafters. This informal gathering is designed for anyone who enjoys fiber arts and wants a relaxed\, social environment to create and connect.\n\n\nSessions are held on Wednesdays\, taking place weekly from 9:00 am to 12:00 pm with another session from 1-5 pm. The program is hosted in the lobby of the main branch of the New Braunfels Public Library\, located in New Braunfels\, Texas. Participation is free and open to adults\, teens\, seniors\, and all ages who enjoy stitching crafts.
URL:https://thenewbraunfelslife.com/event/sit-stitch-at-new-braunfels-public-library/2026-04-22/
LOCATION:New Braunfels Public Library\, 700 E Common St\, New Braunfels\,\, Texas\, 78130\, United States
CATEGORIES:Arts & Culture
ATTACH;FMTTYPE=image/jpeg:https://thenewbraunfelslife.com/wp-content/uploads/2026/01/sit-and-stitch-at-new-braunfels-public-library.jpg
END:VEVENT
BEGIN:VEVENT
DTSTART;TZID=America/New_York:20260429T090000
DTEND;TZID=America/New_York:20260429T120000
DTSTAMP:20260422T101129
CREATED:20260122T093826Z
LAST-MODIFIED:20260408T015806Z
UID:82407-1777453200-1777464000@thenewbraunfelslife.com
SUMMARY:Sit & Stitch at New Braunfels Public Library
DESCRIPTION:Sit & Stitch offers a welcoming space for knitters\, crocheters\, and stitchers of all experience levels to work on projects\, exchange tips and patterns\, and enjoy casual conversation with fellow crafters. This informal gathering is designed for anyone who enjoys fiber arts and wants a relaxed\, social environment to create and connect.\n\n\nSessions are held on Wednesdays\, taking place weekly from 9:00 am to 12:00 pm with another session from 1-5 pm. The program is hosted in the lobby of the main branch of the New Braunfels Public Library\, located in New Braunfels\, Texas. Participation is free and open to adults\, teens\, seniors\, and all ages who enjoy stitching crafts.
URL:https://thenewbraunfelslife.com/event/sit-stitch-at-new-braunfels-public-library/2026-04-29/
LOCATION:New Braunfels Public Library\, 700 E Common St\, New Braunfels\,\, Texas\, 78130\, United States
CATEGORIES:Arts & Culture
ATTACH;FMTTYPE=image/jpeg:https://thenewbraunfelslife.com/wp-content/uploads/2026/01/sit-and-stitch-at-new-braunfels-public-library.jpg
END:VEVENT
BEGIN:VEVENT
DTSTART;TZID=America/New_York:20260506T090000
DTEND;TZID=America/New_York:20260506T120000
DTSTAMP:20260422T101129
CREATED:20260122T093826Z
LAST-MODIFIED:20260408T015807Z
UID:82408-1778058000-1778068800@thenewbraunfelslife.com
SUMMARY:Sit & Stitch at New Braunfels Public Library
DESCRIPTION:Sit & Stitch offers a welcoming space for knitters\, crocheters\, and stitchers of all experience levels to work on projects\, exchange tips and patterns\, and enjoy casual conversation with fellow crafters. This informal gathering is designed for anyone who enjoys fiber arts and wants a relaxed\, social environment to create and connect.\n\n\nSessions are held on Wednesdays\, taking place weekly from 9:00 am to 12:00 pm with another session from 1-5 pm. The program is hosted in the lobby of the main branch of the New Braunfels Public Library\, located in New Braunfels\, Texas. Participation is free and open to adults\, teens\, seniors\, and all ages who enjoy stitching crafts.
URL:https://thenewbraunfelslife.com/event/sit-stitch-at-new-braunfels-public-library/2026-05-06/
LOCATION:New Braunfels Public Library\, 700 E Common St\, New Braunfels\,\, Texas\, 78130\, United States
CATEGORIES:Arts & Culture
ATTACH;FMTTYPE=image/jpeg:https://thenewbraunfelslife.com/wp-content/uploads/2026/01/sit-and-stitch-at-new-braunfels-public-library.jpg
END:VEVENT
BEGIN:VEVENT
DTSTART;TZID=America/New_York:20260513T090000
DTEND;TZID=America/New_York:20260513T120000
DTSTAMP:20260422T101129
CREATED:20260122T093826Z
LAST-MODIFIED:20260408T015807Z
UID:82409-1778662800-1778673600@thenewbraunfelslife.com
SUMMARY:Sit & Stitch at New Braunfels Public Library
DESCRIPTION:Sit & Stitch offers a welcoming space for knitters\, crocheters\, and stitchers of all experience levels to work on projects\, exchange tips and patterns\, and enjoy casual conversation with fellow crafters. This informal gathering is designed for anyone who enjoys fiber arts and wants a relaxed\, social environment to create and connect.\n\n\nSessions are held on Wednesdays\, taking place weekly from 9:00 am to 12:00 pm with another session from 1-5 pm. The program is hosted in the lobby of the main branch of the New Braunfels Public Library\, located in New Braunfels\, Texas. Participation is free and open to adults\, teens\, seniors\, and all ages who enjoy stitching crafts.
URL:https://thenewbraunfelslife.com/event/sit-stitch-at-new-braunfels-public-library/2026-05-13/
LOCATION:New Braunfels Public Library\, 700 E Common St\, New Braunfels\,\, Texas\, 78130\, United States
CATEGORIES:Arts & Culture
ATTACH;FMTTYPE=image/jpeg:https://thenewbraunfelslife.com/wp-content/uploads/2026/01/sit-and-stitch-at-new-braunfels-public-library.jpg
END:VEVENT
BEGIN:VEVENT
DTSTART;TZID=America/New_York:20260520T090000
DTEND;TZID=America/New_York:20260520T120000
DTSTAMP:20260422T101129
CREATED:20260122T093826Z
LAST-MODIFIED:20260408T015808Z
UID:82410-1779267600-1779278400@thenewbraunfelslife.com
SUMMARY:Sit & Stitch at New Braunfels Public Library
DESCRIPTION:Sit & Stitch offers a welcoming space for knitters\, crocheters\, and stitchers of all experience levels to work on projects\, exchange tips and patterns\, and enjoy casual conversation with fellow crafters. This informal gathering is designed for anyone who enjoys fiber arts and wants a relaxed\, social environment to create and connect.\n\n\nSessions are held on Wednesdays\, taking place weekly from 9:00 am to 12:00 pm with another session from 1-5 pm. The program is hosted in the lobby of the main branch of the New Braunfels Public Library\, located in New Braunfels\, Texas. Participation is free and open to adults\, teens\, seniors\, and all ages who enjoy stitching crafts.
URL:https://thenewbraunfelslife.com/event/sit-stitch-at-new-braunfels-public-library/2026-05-20/
LOCATION:New Braunfels Public Library\, 700 E Common St\, New Braunfels\,\, Texas\, 78130\, United States
CATEGORIES:Arts & Culture
ATTACH;FMTTYPE=image/jpeg:https://thenewbraunfelslife.com/wp-content/uploads/2026/01/sit-and-stitch-at-new-braunfels-public-library.jpg
END:VEVENT
BEGIN:VEVENT
DTSTART;TZID=America/New_York:20260527T090000
DTEND;TZID=America/New_York:20260527T120000
DTSTAMP:20260422T101129
CREATED:20260122T093826Z
LAST-MODIFIED:20260408T015809Z
UID:82624-1779872400-1779883200@thenewbraunfelslife.com
SUMMARY:Sit & Stitch at New Braunfels Public Library
DESCRIPTION:Sit & Stitch offers a welcoming space for knitters\, crocheters\, and stitchers of all experience levels to work on projects\, exchange tips and patterns\, and enjoy casual conversation with fellow crafters. This informal gathering is designed for anyone who enjoys fiber arts and wants a relaxed\, social environment to create and connect.\n\n\nSessions are held on Wednesdays\, taking place weekly from 9:00 am to 12:00 pm with another session from 1-5 pm. The program is hosted in the lobby of the main branch of the New Braunfels Public Library\, located in New Braunfels\, Texas. Participation is free and open to adults\, teens\, seniors\, and all ages who enjoy stitching crafts.
URL:https://thenewbraunfelslife.com/event/sit-stitch-at-new-braunfels-public-library/2026-05-27/
LOCATION:New Braunfels Public Library\, 700 E Common St\, New Braunfels\,\, Texas\, 78130\, United States
CATEGORIES:Arts & Culture
ATTACH;FMTTYPE=image/jpeg:https://thenewbraunfelslife.com/wp-content/uploads/2026/01/sit-and-stitch-at-new-braunfels-public-library.jpg
END:VEVENT
BEGIN:VEVENT
DTSTART;TZID=America/New_York:20260603T090000
DTEND;TZID=America/New_York:20260603T120000
DTSTAMP:20260422T101129
CREATED:20260122T093826Z
LAST-MODIFIED:20260408T015810Z
UID:82625-1780477200-1780488000@thenewbraunfelslife.com
SUMMARY:Sit & Stitch at New Braunfels Public Library
DESCRIPTION:Sit & Stitch offers a welcoming space for knitters\, crocheters\, and stitchers of all experience levels to work on projects\, exchange tips and patterns\, and enjoy casual conversation with fellow crafters. This informal gathering is designed for anyone who enjoys fiber arts and wants a relaxed\, social environment to create and connect.\n\n\nSessions are held on Wednesdays\, taking place weekly from 9:00 am to 12:00 pm with another session from 1-5 pm. The program is hosted in the lobby of the main branch of the New Braunfels Public Library\, located in New Braunfels\, Texas. Participation is free and open to adults\, teens\, seniors\, and all ages who enjoy stitching crafts.
URL:https://thenewbraunfelslife.com/event/sit-stitch-at-new-braunfels-public-library/2026-06-03/
LOCATION:New Braunfels Public Library\, 700 E Common St\, New Braunfels\,\, Texas\, 78130\, United States
CATEGORIES:Arts & Culture
ATTACH;FMTTYPE=image/jpeg:https://thenewbraunfelslife.com/wp-content/uploads/2026/01/sit-and-stitch-at-new-braunfels-public-library.jpg
END:VEVENT
BEGIN:VEVENT
DTSTART;TZID=America/New_York:20260610T090000
DTEND;TZID=America/New_York:20260610T120000
DTSTAMP:20260422T101129
CREATED:20260122T093826Z
LAST-MODIFIED:20260408T015811Z
UID:82696-1781082000-1781092800@thenewbraunfelslife.com
SUMMARY:Sit & Stitch at New Braunfels Public Library
DESCRIPTION:Sit & Stitch offers a welcoming space for knitters\, crocheters\, and stitchers of all experience levels to work on projects\, exchange tips and patterns\, and enjoy casual conversation with fellow crafters. This informal gathering is designed for anyone who enjoys fiber arts and wants a relaxed\, social environment to create and connect.\n\n\nSessions are held on Wednesdays\, taking place weekly from 9:00 am to 12:00 pm with another session from 1-5 pm. The program is hosted in the lobby of the main branch of the New Braunfels Public Library\, located in New Braunfels\, Texas. Participation is free and open to adults\, teens\, seniors\, and all ages who enjoy stitching crafts.
URL:https://thenewbraunfelslife.com/event/sit-stitch-at-new-braunfels-public-library/2026-06-10/
LOCATION:New Braunfels Public Library\, 700 E Common St\, New Braunfels\,\, Texas\, 78130\, United States
CATEGORIES:Arts & Culture
ATTACH;FMTTYPE=image/jpeg:https://thenewbraunfelslife.com/wp-content/uploads/2026/01/sit-and-stitch-at-new-braunfels-public-library.jpg
END:VEVENT
BEGIN:VEVENT
DTSTART;TZID=America/New_York:20260617T090000
DTEND;TZID=America/New_York:20260617T120000
DTSTAMP:20260422T101129
CREATED:20260122T093826Z
LAST-MODIFIED:20260408T015811Z
UID:83478-1781686800-1781697600@thenewbraunfelslife.com
SUMMARY:Sit & Stitch at New Braunfels Public Library
DESCRIPTION:Sit & Stitch offers a welcoming space for knitters\, crocheters\, and stitchers of all experience levels to work on projects\, exchange tips and patterns\, and enjoy casual conversation with fellow crafters. This informal gathering is designed for anyone who enjoys fiber arts and wants a relaxed\, social environment to create and connect.\n\n\nSessions are held on Wednesdays\, taking place weekly from 9:00 am to 12:00 pm with another session from 1-5 pm. The program is hosted in the lobby of the main branch of the New Braunfels Public Library\, located in New Braunfels\, Texas. Participation is free and open to adults\, teens\, seniors\, and all ages who enjoy stitching crafts.
URL:https://thenewbraunfelslife.com/event/sit-stitch-at-new-braunfels-public-library/2026-06-17/
LOCATION:New Braunfels Public Library\, 700 E Common St\, New Braunfels\,\, Texas\, 78130\, United States
CATEGORIES:Arts & Culture
ATTACH;FMTTYPE=image/jpeg:https://thenewbraunfelslife.com/wp-content/uploads/2026/01/sit-and-stitch-at-new-braunfels-public-library.jpg
END:VEVENT
BEGIN:VEVENT
DTSTART;TZID=America/New_York:20260624T090000
DTEND;TZID=America/New_York:20260624T120000
DTSTAMP:20260422T101129
CREATED:20260122T093826Z
LAST-MODIFIED:20260408T015812Z
UID:83479-1782291600-1782302400@thenewbraunfelslife.com
SUMMARY:Sit & Stitch at New Braunfels Public Library
DESCRIPTION:Sit & Stitch offers a welcoming space for knitters\, crocheters\, and stitchers of all experience levels to work on projects\, exchange tips and patterns\, and enjoy casual conversation with fellow crafters. This informal gathering is designed for anyone who enjoys fiber arts and wants a relaxed\, social environment to create and connect.\n\n\nSessions are held on Wednesdays\, taking place weekly from 9:00 am to 12:00 pm with another session from 1-5 pm. The program is hosted in the lobby of the main branch of the New Braunfels Public Library\, located in New Braunfels\, Texas. Participation is free and open to adults\, teens\, seniors\, and all ages who enjoy stitching crafts.
URL:https://thenewbraunfelslife.com/event/sit-stitch-at-new-braunfels-public-library/2026-06-24/
LOCATION:New Braunfels Public Library\, 700 E Common St\, New Braunfels\,\, Texas\, 78130\, United States
CATEGORIES:Arts & Culture
ATTACH;FMTTYPE=image/jpeg:https://thenewbraunfelslife.com/wp-content/uploads/2026/01/sit-and-stitch-at-new-braunfels-public-library.jpg
END:VEVENT
BEGIN:VEVENT
DTSTART;TZID=America/New_York:20260701T090000
DTEND;TZID=America/New_York:20260701T120000
DTSTAMP:20260422T101129
CREATED:20260122T093826Z
LAST-MODIFIED:20260408T015815Z
UID:83848-1782896400-1782907200@thenewbraunfelslife.com
SUMMARY:Sit & Stitch at New Braunfels Public Library
DESCRIPTION:Sit & Stitch offers a welcoming space for knitters\, crocheters\, and stitchers of all experience levels to work on projects\, exchange tips and patterns\, and enjoy casual conversation with fellow crafters. This informal gathering is designed for anyone who enjoys fiber arts and wants a relaxed\, social environment to create and connect.\n\n\nSessions are held on Wednesdays\, taking place weekly from 9:00 am to 12:00 pm with another session from 1-5 pm. The program is hosted in the lobby of the main branch of the New Braunfels Public Library\, located in New Braunfels\, Texas. Participation is free and open to adults\, teens\, seniors\, and all ages who enjoy stitching crafts.
URL:https://thenewbraunfelslife.com/event/sit-stitch-at-new-braunfels-public-library/2026-07-01/
LOCATION:New Braunfels Public Library\, 700 E Common St\, New Braunfels\,\, Texas\, 78130\, United States
CATEGORIES:Arts & Culture
ATTACH;FMTTYPE=image/jpeg:https://thenewbraunfelslife.com/wp-content/uploads/2026/01/sit-and-stitch-at-new-braunfels-public-library.jpg
END:VEVENT
BEGIN:VEVENT
DTSTART;TZID=America/New_York:20260708T090000
DTEND;TZID=America/New_York:20260708T120000
DTSTAMP:20260422T101129
CREATED:20260122T093826Z
LAST-MODIFIED:20260408T015816Z
UID:84347-1783501200-1783512000@thenewbraunfelslife.com
SUMMARY:Sit & Stitch at New Braunfels Public Library
DESCRIPTION:Sit & Stitch offers a welcoming space for knitters\, crocheters\, and stitchers of all experience levels to work on projects\, exchange tips and patterns\, and enjoy casual conversation with fellow crafters. This informal gathering is designed for anyone who enjoys fiber arts and wants a relaxed\, social environment to create and connect.\n\n\nSessions are held on Wednesdays\, taking place weekly from 9:00 am to 12:00 pm with another session from 1-5 pm. The program is hosted in the lobby of the main branch of the New Braunfels Public Library\, located in New Braunfels\, Texas. Participation is free and open to adults\, teens\, seniors\, and all ages who enjoy stitching crafts.
URL:https://thenewbraunfelslife.com/event/sit-stitch-at-new-braunfels-public-library/2026-07-08/
LOCATION:New Braunfels Public Library\, 700 E Common St\, New Braunfels\,\, Texas\, 78130\, United States
CATEGORIES:Arts & Culture
ATTACH;FMTTYPE=image/jpeg:https://thenewbraunfelslife.com/wp-content/uploads/2026/01/sit-and-stitch-at-new-braunfels-public-library.jpg
END:VEVENT
BEGIN:VEVENT
DTSTART;TZID=America/New_York:20260715T090000
DTEND;TZID=America/New_York:20260715T120000
DTSTAMP:20260422T101129
CREATED:20260122T093826Z
LAST-MODIFIED:20260408T015817Z
UID:84348-1784106000-1784116800@thenewbraunfelslife.com
SUMMARY:Sit & Stitch at New Braunfels Public Library
DESCRIPTION:Sit & Stitch offers a welcoming space for knitters\, crocheters\, and stitchers of all experience levels to work on projects\, exchange tips and patterns\, and enjoy casual conversation with fellow crafters. This informal gathering is designed for anyone who enjoys fiber arts and wants a relaxed\, social environment to create and connect.\n\n\nSessions are held on Wednesdays\, taking place weekly from 9:00 am to 12:00 pm with another session from 1-5 pm. The program is hosted in the lobby of the main branch of the New Braunfels Public Library\, located in New Braunfels\, Texas. Participation is free and open to adults\, teens\, seniors\, and all ages who enjoy stitching crafts.
URL:https://thenewbraunfelslife.com/event/sit-stitch-at-new-braunfels-public-library/2026-07-15/
LOCATION:New Braunfels Public Library\, 700 E Common St\, New Braunfels\,\, Texas\, 78130\, United States
CATEGORIES:Arts & Culture
ATTACH;FMTTYPE=image/jpeg:https://thenewbraunfelslife.com/wp-content/uploads/2026/01/sit-and-stitch-at-new-braunfels-public-library.jpg
END:VEVENT
BEGIN:VEVENT
DTSTART;TZID=America/New_York:20260722T090000
DTEND;TZID=America/New_York:20260722T120000
DTSTAMP:20260422T101129
CREATED:20260122T093826Z
LAST-MODIFIED:20260408T015818Z
UID:85019-1784710800-1784721600@thenewbraunfelslife.com
SUMMARY:Sit & Stitch at New Braunfels Public Library
DESCRIPTION:Sit & Stitch offers a welcoming space for knitters\, crocheters\, and stitchers of all experience levels to work on projects\, exchange tips and patterns\, and enjoy casual conversation with fellow crafters. This informal gathering is designed for anyone who enjoys fiber arts and wants a relaxed\, social environment to create and connect.\n\n\nSessions are held on Wednesdays\, taking place weekly from 9:00 am to 12:00 pm with another session from 1-5 pm. The program is hosted in the lobby of the main branch of the New Braunfels Public Library\, located in New Braunfels\, Texas. Participation is free and open to adults\, teens\, seniors\, and all ages who enjoy stitching crafts.
URL:https://thenewbraunfelslife.com/event/sit-stitch-at-new-braunfels-public-library/2026-07-22/
LOCATION:New Braunfels Public Library\, 700 E Common St\, New Braunfels\,\, Texas\, 78130\, United States
CATEGORIES:Arts & Culture
ATTACH;FMTTYPE=image/jpeg:https://thenewbraunfelslife.com/wp-content/uploads/2026/01/sit-and-stitch-at-new-braunfels-public-library.jpg
END:VEVENT
BEGIN:VEVENT
DTSTART;TZID=America/New_York:20260729T090000
DTEND;TZID=America/New_York:20260729T120000
DTSTAMP:20260422T101129
CREATED:20260122T093826Z
LAST-MODIFIED:20260408T015820Z
UID:85020-1785315600-1785326400@thenewbraunfelslife.com
SUMMARY:Sit & Stitch at New Braunfels Public Library
DESCRIPTION:Sit & Stitch offers a welcoming space for knitters\, crocheters\, and stitchers of all experience levels to work on projects\, exchange tips and patterns\, and enjoy casual conversation with fellow crafters. This informal gathering is designed for anyone who enjoys fiber arts and wants a relaxed\, social environment to create and connect.\n\n\nSessions are held on Wednesdays\, taking place weekly from 9:00 am to 12:00 pm with another session from 1-5 pm. The program is hosted in the lobby of the main branch of the New Braunfels Public Library\, located in New Braunfels\, Texas. Participation is free and open to adults\, teens\, seniors\, and all ages who enjoy stitching crafts.
URL:https://thenewbraunfelslife.com/event/sit-stitch-at-new-braunfels-public-library/2026-07-29/
LOCATION:New Braunfels Public Library\, 700 E Common St\, New Braunfels\,\, Texas\, 78130\, United States
CATEGORIES:Arts & Culture
ATTACH;FMTTYPE=image/jpeg:https://thenewbraunfelslife.com/wp-content/uploads/2026/01/sit-and-stitch-at-new-braunfels-public-library.jpg
END:VEVENT
BEGIN:VEVENT
DTSTART;TZID=America/New_York:20260805T090000
DTEND;TZID=America/New_York:20260805T120000
DTSTAMP:20260422T101129
CREATED:20260122T093826Z
LAST-MODIFIED:20260408T015821Z
UID:85021-1785920400-1785931200@thenewbraunfelslife.com
SUMMARY:Sit & Stitch at New Braunfels Public Library
DESCRIPTION:Sit & Stitch offers a welcoming space for knitters\, crocheters\, and stitchers of all experience levels to work on projects\, exchange tips and patterns\, and enjoy casual conversation with fellow crafters. This informal gathering is designed for anyone who enjoys fiber arts and wants a relaxed\, social environment to create and connect.\n\n\nSessions are held on Wednesdays\, taking place weekly from 9:00 am to 12:00 pm with another session from 1-5 pm. The program is hosted in the lobby of the main branch of the New Braunfels Public Library\, located in New Braunfels\, Texas. Participation is free and open to adults\, teens\, seniors\, and all ages who enjoy stitching crafts.
URL:https://thenewbraunfelslife.com/event/sit-stitch-at-new-braunfels-public-library/2026-08-05/
LOCATION:New Braunfels Public Library\, 700 E Common St\, New Braunfels\,\, Texas\, 78130\, United States
CATEGORIES:Arts & Culture
ATTACH;FMTTYPE=image/jpeg:https://thenewbraunfelslife.com/wp-content/uploads/2026/01/sit-and-stitch-at-new-braunfels-public-library.jpg
END:VEVENT
BEGIN:VEVENT
DTSTART;TZID=America/New_York:20260812T090000
DTEND;TZID=America/New_York:20260812T120000
DTSTAMP:20260422T101129
CREATED:20260122T093826Z
LAST-MODIFIED:20260408T015823Z
UID:85038-1786525200-1786536000@thenewbraunfelslife.com
SUMMARY:Sit & Stitch at New Braunfels Public Library
DESCRIPTION:Sit & Stitch offers a welcoming space for knitters\, crocheters\, and stitchers of all experience levels to work on projects\, exchange tips and patterns\, and enjoy casual conversation with fellow crafters. This informal gathering is designed for anyone who enjoys fiber arts and wants a relaxed\, social environment to create and connect.\n\n\nSessions are held on Wednesdays\, taking place weekly from 9:00 am to 12:00 pm with another session from 1-5 pm. The program is hosted in the lobby of the main branch of the New Braunfels Public Library\, located in New Braunfels\, Texas. Participation is free and open to adults\, teens\, seniors\, and all ages who enjoy stitching crafts.
URL:https://thenewbraunfelslife.com/event/sit-stitch-at-new-braunfels-public-library/2026-08-12/
LOCATION:New Braunfels Public Library\, 700 E Common St\, New Braunfels\,\, Texas\, 78130\, United States
CATEGORIES:Arts & Culture
ATTACH;FMTTYPE=image/jpeg:https://thenewbraunfelslife.com/wp-content/uploads/2026/01/sit-and-stitch-at-new-braunfels-public-library.jpg
END:VEVENT
END:VCALENDAR