BEGIN:VCALENDAR
VERSION:2.0
PRODID:-//The New Braunfels Life - ECPv6.15.20//NONSGML v1.0//EN
CALSCALE:GREGORIAN
METHOD:PUBLISH
X-WR-CALNAME:The New Braunfels Life
X-ORIGINAL-URL:https://thenewbraunfelslife.com
X-WR-CALDESC:Events for The New Braunfels Life
REFRESH-INTERVAL;VALUE=DURATION:PT1H
X-Robots-Tag:noindex
X-PUBLISHED-TTL:PT1H
BEGIN:VTIMEZONE
TZID:America/New_York
BEGIN:DAYLIGHT
TZOFFSETFROM:-0500
TZOFFSETTO:-0400
TZNAME:EDT
DTSTART:20250309T070000
END:DAYLIGHT
BEGIN:STANDARD
TZOFFSETFROM:-0400
TZOFFSETTO:-0500
TZNAME:EST
DTSTART:20251102T060000
END:STANDARD
BEGIN:DAYLIGHT
TZOFFSETFROM:-0500
TZOFFSETTO:-0400
TZNAME:EDT
DTSTART:20260308T070000
END:DAYLIGHT
BEGIN:STANDARD
TZOFFSETFROM:-0400
TZOFFSETTO:-0500
TZNAME:EST
DTSTART:20261101T060000
END:STANDARD
BEGIN:DAYLIGHT
TZOFFSETFROM:-0500
TZOFFSETTO:-0400
TZNAME:EDT
DTSTART:20270314T070000
END:DAYLIGHT
BEGIN:STANDARD
TZOFFSETFROM:-0400
TZOFFSETTO:-0500
TZNAME:EST
DTSTART:20271107T060000
END:STANDARD
END:VTIMEZONE
BEGIN:VEVENT
DTSTART;TZID=America/New_York:20260417T170000
DTEND;TZID=America/New_York:20260417T190000
DTSTAMP:20260425T114502
CREATED:20260122T101250Z
LAST-MODIFIED:20260122T101250Z
UID:82457-1776445200-1776452400@thenewbraunfelslife.com
SUMMARY:Teen and Tween Drop-In Volunteer Hours at New Braunfels Public Library
DESCRIPTION:Teen and Tween Drop-In Volunteer Hours provide a flexible way for students to earn community service hours for school\, clubs\, or church commitments. This program allows participants to help with library projects and tasks in a casual\, supportive setting without the need to register in advance\, making it easy to attend for as much or as little time as needed.\n\n\nSessions take place from 5 pm to 6:45 pm on Friday\, February 6; February 20; March 6; March 20; and April 17\, 2026\, in the meeting room at the New Braunfels Public Library\, Main Branch\, located in New Braunfels\, Texas. The program is designed for tweens ages 8 to 12 and teens ages 13 to 17.\n\n\nThis opportunity is free to attend and is ideal for young people looking to gain volunteer experience while supporting their local library.
URL:https://thenewbraunfelslife.com/event/teen-and-tween-drop-in-volunteer-hours-at-new-braunfels-public-library-4/2026-04-17/
LOCATION:New Braunfels Public Library\, 700 E Common St\, New Braunfels\,\, Texas\, 78130\, United States
CATEGORIES:Kids & Family
ATTACH;FMTTYPE=image/jpeg:https://thenewbraunfelslife.com/wp-content/uploads/2026/01/teen-and-tween-drop-in-volunteer-hours-at-new-braunfels-public-library.jpg
END:VEVENT
BEGIN:VEVENT
DTSTART;TZID=America/New_York:20260320T170000
DTEND;TZID=America/New_York:20260320T190000
DTSTAMP:20260425T114502
CREATED:20260122T101250Z
LAST-MODIFIED:20260122T101250Z
UID:82456-1774026000-1774033200@thenewbraunfelslife.com
SUMMARY:Teen and Tween Drop-In Volunteer Hours at New Braunfels Public Library
DESCRIPTION:Teen and Tween Drop-In Volunteer Hours provide a flexible way for students to earn community service hours for school\, clubs\, or church commitments. This program allows participants to help with library projects and tasks in a casual\, supportive setting without the need to register in advance\, making it easy to attend for as much or as little time as needed.\n\n\nSessions take place from 5 pm to 6:45 pm on Friday\, February 6; February 20; March 6; March 20; and April 17\, 2026\, in the meeting room at the New Braunfels Public Library\, Main Branch\, located in New Braunfels\, Texas. The program is designed for tweens ages 8 to 12 and teens ages 13 to 17.\n\n\nThis opportunity is free to attend and is ideal for young people looking to gain volunteer experience while supporting their local library.
URL:https://thenewbraunfelslife.com/event/teen-and-tween-drop-in-volunteer-hours-at-new-braunfels-public-library-4/2026-03-20/
LOCATION:New Braunfels Public Library\, 700 E Common St\, New Braunfels\,\, Texas\, 78130\, United States
CATEGORIES:Kids & Family
ATTACH;FMTTYPE=image/jpeg:https://thenewbraunfelslife.com/wp-content/uploads/2026/01/teen-and-tween-drop-in-volunteer-hours-at-new-braunfels-public-library.jpg
END:VEVENT
BEGIN:VEVENT
DTSTART;TZID=America/New_York:20260306T170000
DTEND;TZID=America/New_York:20260306T190000
DTSTAMP:20260425T114502
CREATED:20260122T101250Z
LAST-MODIFIED:20260122T101250Z
UID:82455-1772816400-1772823600@thenewbraunfelslife.com
SUMMARY:Teen and Tween Drop-In Volunteer Hours at New Braunfels Public Library
DESCRIPTION:Teen and Tween Drop-In Volunteer Hours provide a flexible way for students to earn community service hours for school\, clubs\, or church commitments. This program allows participants to help with library projects and tasks in a casual\, supportive setting without the need to register in advance\, making it easy to attend for as much or as little time as needed.\n\n\nSessions take place from 5 pm to 6:45 pm on Friday\, February 6; February 20; March 6; March 20; and April 17\, 2026\, in the meeting room at the New Braunfels Public Library\, Main Branch\, located in New Braunfels\, Texas. The program is designed for tweens ages 8 to 12 and teens ages 13 to 17.\n\n\nThis opportunity is free to attend and is ideal for young people looking to gain volunteer experience while supporting their local library.
URL:https://thenewbraunfelslife.com/event/teen-and-tween-drop-in-volunteer-hours-at-new-braunfels-public-library-4/2026-03-06/
LOCATION:New Braunfels Public Library\, 700 E Common St\, New Braunfels\,\, Texas\, 78130\, United States
CATEGORIES:Kids & Family
ATTACH;FMTTYPE=image/jpeg:https://thenewbraunfelslife.com/wp-content/uploads/2026/01/teen-and-tween-drop-in-volunteer-hours-at-new-braunfels-public-library.jpg
END:VEVENT
BEGIN:VEVENT
DTSTART;TZID=America/New_York:20260220T170000
DTEND;TZID=America/New_York:20260220T190000
DTSTAMP:20260425T114502
CREATED:20260122T101250Z
LAST-MODIFIED:20260122T101250Z
UID:82454-1771606800-1771614000@thenewbraunfelslife.com
SUMMARY:Teen and Tween Drop-In Volunteer Hours at New Braunfels Public Library
DESCRIPTION:Teen and Tween Drop-In Volunteer Hours provide a flexible way for students to earn community service hours for school\, clubs\, or church commitments. This program allows participants to help with library projects and tasks in a casual\, supportive setting without the need to register in advance\, making it easy to attend for as much or as little time as needed.\n\n\nSessions take place from 5 pm to 6:45 pm on Friday\, February 6; February 20; March 6; March 20; and April 17\, 2026\, in the meeting room at the New Braunfels Public Library\, Main Branch\, located in New Braunfels\, Texas. The program is designed for tweens ages 8 to 12 and teens ages 13 to 17.\n\n\nThis opportunity is free to attend and is ideal for young people looking to gain volunteer experience while supporting their local library.
URL:https://thenewbraunfelslife.com/event/teen-and-tween-drop-in-volunteer-hours-at-new-braunfels-public-library-4/2026-02-20/
LOCATION:New Braunfels Public Library\, 700 E Common St\, New Braunfels\,\, Texas\, 78130\, United States
CATEGORIES:Kids & Family
ATTACH;FMTTYPE=image/jpeg:https://thenewbraunfelslife.com/wp-content/uploads/2026/01/teen-and-tween-drop-in-volunteer-hours-at-new-braunfels-public-library.jpg
END:VEVENT
BEGIN:VEVENT
DTSTART;TZID=America/New_York:20260206T170000
DTEND;TZID=America/New_York:20260206T190000
DTSTAMP:20260425T114502
CREATED:20260122T101250Z
LAST-MODIFIED:20260122T101250Z
UID:82452-1770397200-1770404400@thenewbraunfelslife.com
SUMMARY:Teen and Tween Drop-In Volunteer Hours at New Braunfels Public Library
DESCRIPTION:Teen and Tween Drop-In Volunteer Hours provide a flexible way for students to earn community service hours for school\, clubs\, or church commitments. This program allows participants to help with library projects and tasks in a casual\, supportive setting without the need to register in advance\, making it easy to attend for as much or as little time as needed.\n\n\nSessions take place from 5 pm to 6:45 pm on Friday\, February 6; February 20; March 6; March 20; and April 17\, 2026\, in the meeting room at the New Braunfels Public Library\, Main Branch\, located in New Braunfels\, Texas. The program is designed for tweens ages 8 to 12 and teens ages 13 to 17.\n\n\nThis opportunity is free to attend and is ideal for young people looking to gain volunteer experience while supporting their local library.
URL:https://thenewbraunfelslife.com/event/teen-and-tween-drop-in-volunteer-hours-at-new-braunfels-public-library-4/2026-02-06/
LOCATION:New Braunfels Public Library\, 700 E Common St\, New Braunfels\,\, Texas\, 78130\, United States
CATEGORIES:Kids & Family
ATTACH;FMTTYPE=image/jpeg:https://thenewbraunfelslife.com/wp-content/uploads/2026/01/teen-and-tween-drop-in-volunteer-hours-at-new-braunfels-public-library.jpg
END:VEVENT
END:VCALENDAR