BEGIN:VCALENDAR
VERSION:2.0
PRODID:-//The New Braunfels Life - ECPv6.15.20//NONSGML v1.0//EN
CALSCALE:GREGORIAN
METHOD:PUBLISH
X-WR-CALNAME:The New Braunfels Life
X-ORIGINAL-URL:https://thenewbraunfelslife.com
X-WR-CALDESC:Events for The New Braunfels Life
REFRESH-INTERVAL;VALUE=DURATION:PT1H
X-Robots-Tag:noindex
X-PUBLISHED-TTL:PT1H
BEGIN:VTIMEZONE
TZID:America/New_York
BEGIN:DAYLIGHT
TZOFFSETFROM:-0500
TZOFFSETTO:-0400
TZNAME:EDT
DTSTART:20250309T070000
END:DAYLIGHT
BEGIN:STANDARD
TZOFFSETFROM:-0400
TZOFFSETTO:-0500
TZNAME:EST
DTSTART:20251102T060000
END:STANDARD
BEGIN:DAYLIGHT
TZOFFSETFROM:-0500
TZOFFSETTO:-0400
TZNAME:EDT
DTSTART:20260308T070000
END:DAYLIGHT
BEGIN:STANDARD
TZOFFSETFROM:-0400
TZOFFSETTO:-0500
TZNAME:EST
DTSTART:20261101T060000
END:STANDARD
BEGIN:DAYLIGHT
TZOFFSETFROM:-0500
TZOFFSETTO:-0400
TZNAME:EDT
DTSTART:20270314T070000
END:DAYLIGHT
BEGIN:STANDARD
TZOFFSETFROM:-0400
TZOFFSETTO:-0500
TZNAME:EST
DTSTART:20271107T060000
END:STANDARD
END:VTIMEZONE
BEGIN:VEVENT
DTSTART;VALUE=DATE:20260412
DTEND;VALUE=DATE:20260418
DTSTAMP:20260420T043619
CREATED:20260407T074138Z
LAST-MODIFIED:20260407T074138Z
UID:84937-1775952000-1776470399@thenewbraunfelslife.com
SUMMARY:Swiftwater 1–2 at Prince Solms Park and the Tube Chute
DESCRIPTION:A multi-day training opportunity focused on water safety and rescue skills takes place with Swiftwater 1–2 in New Braunfels. The event is scheduled for April 12 through April 17\, 2026 at Prince Solms Park and the Tube Chute\, located at 100 Liebscher Drive\, New Braunfels\, TX 78130. \nParticipants can engage in hands-on instruction and practical training designed to build knowledge and confidence in swiftwater environments. Set along the Guadalupe River\, the course provides a real-world setting for developing essential techniques and skills.
URL:https://thenewbraunfelslife.com/event/swiftwater-1-2-at-prince-solms-park-and-the-tube-chute/
LOCATION:Prince Solms Park\, 100 Liebscher Dr\, New Braunfels\, TX\, 78130\, United States
CATEGORIES:General
ATTACH;FMTTYPE=image/jpeg:https://thenewbraunfelslife.com/wp-content/uploads/2026/04/swiftwater-1-2-at-prince-solms-park-and-the-tube-chute.jpg
END:VEVENT
BEGIN:VEVENT
DTSTART;VALUE=DATE:20260414
DTEND;VALUE=DATE:20260415
DTSTAMP:20260420T043619
CREATED:20260205T022302Z
LAST-MODIFIED:20260205T022302Z
UID:84414-1776124800-1776211199@thenewbraunfelslife.com
SUMMARY:Preschool Storytime at New Braunfels Public Library
DESCRIPTION:Preschool Storytime is designed for children ages 3 to 5 and focuses on building early literacy and reading readiness skills in a fun\, engaging environment. Each session includes shared stories\, songs\, counting activities\, and exploration of colors and shapes\, followed by a creative art activity that reinforces the theme of the day. Siblings are welcome to attend\, and caregivers are encouraged to actively participate alongside their children. \nThis recurring program takes place on Tuesdays from 9:30 am to 10:00 am on February 17 and 24; March 10\, 17\, 24\, and 31; April 7\, 14\, 21\, and 28; May 5\, 12\, 19\, and 26; June 2\, 9\, 16\, 23\, and 30; and July 7\, 2026. All sessions are held in the Main Library Meeting Room at the New Braunfels Public Library\, located at 700 E. Common St.\, New Braunfels\, Texas. \nTo help ensure a positive experience for everyone\, families are asked not to attend if a child has had a fever within the past 24 hours\, is experiencing symptoms of illness\, or has signs of a communicable condition. Arriving on time\, remaining attentive during the program\, and helping children follow basic library manners all contribute to a successful and enjoyable storytime for all participants.
URL:https://thenewbraunfelslife.com/event/preschool-storytime-at-new-braunfels-public-library/2026-04-14/
LOCATION:New Braunfels Public Library\, 700 E Common St\, New Braunfels\,\, Texas\, 78130\, United States
CATEGORIES:Kids & Family
ATTACH;FMTTYPE=image/jpeg:https://thenewbraunfelslife.com/wp-content/uploads/2026/02/preschool-storytime-at-new-braunfels-public-library.jpg
END:VEVENT
BEGIN:VEVENT
DTSTART;TZID=America/New_York:20260414T093000
DTEND;TZID=America/New_York:20260414T100000
DTSTAMP:20260420T043619
CREATED:20260319T072044Z
LAST-MODIFIED:20260408T010540Z
UID:84480-1776159000-1776160800@thenewbraunfelslife.com
SUMMARY:Preschool Storytime at New Braunfels Public Library
DESCRIPTION:An engaging early literacy program supports young learners at Preschool Storytime in New Braunfels. Held every Tuesday from 9:30 am to 10 am at the New Braunfels Public Library Main Branch\, located at 700 E Common St\, New Braunfels\, TX 78130\, the program is designed for children ages 3 to 5. \nThe session focuses on building reading readiness through stories\, songs\, and interactive activities that introduce letter knowledge\, phonological awareness\, and print motivation. Children will also explore counting\, colors\, and shapes\, followed by a creative art activity. Siblings are welcome to attend. \nCaregivers are encouraged to help create a positive experience by arriving on time\, participating with their child\, and supporting a respectful and attentive environment throughout the program.
URL:https://thenewbraunfelslife.com/event/garden-preschool-storytime-at-new-braunfels-public-library/2026-04-14/
LOCATION:New Braunfels Public Library\, 700 E Common St\, New Braunfels\,\, Texas\, 78130\, United States
CATEGORIES:Kids & Family
ATTACH;FMTTYPE=image/jpeg:https://thenewbraunfelslife.com/wp-content/uploads/2026/03/garden-preschool-storytime-at-new-braunfels-public-library.jpg
END:VEVENT
BEGIN:VEVENT
DTSTART;TZID=America/New_York:20260414T103000
DTEND;TZID=America/New_York:20260414T110000
DTSTAMP:20260420T043619
CREATED:20260122T091721Z
LAST-MODIFIED:20260407T235953Z
UID:82375-1776162600-1776164400@thenewbraunfelslife.com
SUMMARY:Toddler Time at New Braunfels Public Library
DESCRIPTION:A fun and movement-filled storytime brings young learners together at Toddler Time in New Braunfels. Held every Tuesday from 10:30 am to 11 am at the New Braunfels Public Library Main Branch\, located at 700 E Common St\, New Braunfels\, TX 78130\, the program is designed for children ages 18 months to 3 years. \nThe session includes stories\, rhymes\, and songs\, along with interactive activities such as music with shakers\, dancing with scarves\, and movement-based play. Each program ends with a short playtime\, giving children an opportunity to socialize and explore. Siblings are welcome to attend. \nCaregivers are encouraged to help create a positive experience by arriving on time\, participating alongside their child\, and supporting a respectful environment for all attendees.
URL:https://thenewbraunfelslife.com/event/toddler-time-at-new-braunfels-public-library-2/2026-04-14/
LOCATION:New Braunfels Public Library\, 700 E Common St\, New Braunfels\,\, Texas\, 78130\, United States
CATEGORIES:Kids & Family
ATTACH;FMTTYPE=image/jpeg:https://thenewbraunfelslife.com/wp-content/uploads/2026/01/toddler-time-at-new-braunfels-public-library.jpg
END:VEVENT
BEGIN:VEVENT
DTSTART;TZID=America/New_York:20260414T130000
DTEND;TZID=America/New_York:20260414T140000
DTSTAMP:20260420T043619
CREATED:20260319T072337Z
LAST-MODIFIED:20260319T072337Z
UID:84497-1776171600-1776175200@thenewbraunfelslife.com
SUMMARY:Get Out the Vote – League of Women Voters Table at New Braunfels Public Library
DESCRIPTION:Get Out the Vote – League of Women Voters Table offers an opportunity for community members to learn more about voter information and civic engagement. Taking place on Tuesday\, April 14\, 2026\, from 1 pm to 2 pm\, this informational table will be available in the library lobby. \nVisitors can stop by to speak with representatives from the League of Women Voters\, ask questions\, and access helpful resources related to voting and participation in upcoming elections. \nThis event is open to all ages and will be held in the lobby of the New Braunfels Public Library (Main Branch)\, 700 E Common St\, New Braunfels\, TX 78130. Admission is free.
URL:https://thenewbraunfelslife.com/event/get-out-the-vote-league-of-women-voters-table-at-new-braunfels-public-library-4/
LOCATION:New Braunfels Public Library\, 700 E Common St\, New Braunfels\,\, Texas\, 78130\, United States
CATEGORIES:General
ATTACH;FMTTYPE=image/jpeg:https://thenewbraunfelslife.com/wp-content/uploads/2026/02/get-out-the-vote-league-of-women-voters-table-at-new-braunfels-public-library.jpg
END:VEVENT
BEGIN:VEVENT
DTSTART;TZID=America/New_York:20260414T170000
DTEND;TZID=America/New_York:20260414T220000
DTSTAMP:20260420T043619
CREATED:20251215T030846Z
LAST-MODIFIED:20251215T030846Z
UID:81650-1776186000-1776204000@thenewbraunfelslife.com
SUMMARY:Steak Night at Happy Cow Bar
DESCRIPTION:An evening of hearty dining is on the menu during Steak Night at Happy Cow Bar. From 5 pm to 10 pm\, guests can enjoy a New York strip steak supplied by Granzin’s Meat Market\, served alongside a loaded baked potato for $16. The special offers a satisfying option for those looking to enjoy a classic steak dinner in a relaxed bar setting. \nThe event takes place at Happy Cow Bar.
URL:https://thenewbraunfelslife.com/event/steak-night-at-happy-cow-bar-2/2026-04-14/
LOCATION:Happy Cow Bar\, 9103 FM 1102\, New Braunfels\, TX\, 78132\, United States
CATEGORIES:Food & Drink
ATTACH;FMTTYPE=image/jpeg:https://thenewbraunfelslife.com/wp-content/uploads/2025/07/steak-night-at-happy-cow-bar.jpg
END:VEVENT
BEGIN:VEVENT
DTSTART;TZID=America/New_York:20260414T173000
DTEND;TZID=America/New_York:20260414T193000
DTSTAMP:20260420T043619
CREATED:20250528T063548Z
LAST-MODIFIED:20260319T072531Z
UID:78871-1776187800-1776195000@thenewbraunfelslife.com
SUMMARY:NBPL Foundation at New Braunfels Public Library
DESCRIPTION:The New Braunfels Public Library Foundation holds its monthly meeting to support and promote the library’s mission through fundraising\, advocacy\, and community engagement. These meetings offer an opportunity for members and the public to stay informed on upcoming initiatives and support library programming. \nThe meeting is scheduled from 5:30 pm to 7:30 pm on Tuesday\, June 10\, 2025\, at the New Braunfels Public Library\, located at 700 E. Common St.\, New Braunfels\, TX 78130. Additional dates are set monthly through September 2026. \nFor more information or to stay up to date with the Foundation’s activities\, visit nbtexas.libcal.com.
URL:https://thenewbraunfelslife.com/event/nbpl-foundation-at-new-braunfels-public-library/2026-04-14/
LOCATION:New Braunfels Public Library\, 700 E Common St\, New Braunfels\,\, Texas\, 78130\, United States
CATEGORIES:General
END:VEVENT
BEGIN:VEVENT
DTSTART;TZID=America/New_York:20260414T180000
DTEND;TZID=America/New_York:20260414T200000
DTSTAMP:20260420T043619
CREATED:20260312T063348Z
LAST-MODIFIED:20260312T063348Z
UID:84165-1776189600-1776196800@thenewbraunfelslife.com
SUMMARY:Cooking at the Vineyard – Flavors of Jerusalem at Dry Comal Creek Vineyards
DESCRIPTION:A hands-on culinary experience takes place at Dry Comal Creek Vineyards on April 14\, 2026\, from 6 pm to 8 pm during Cooking at the Vineyard – Flavors of Jerusalem. Led by Nicole and her team\, this interactive cooking class introduces participants to dishes inspired by the vibrant flavors and traditions of Jerusalem. \nGuests will learn techniques and recipes while enjoying the relaxed vineyard setting\, making it an engaging evening for anyone interested in exploring new cuisines and cooking skills. \nDry Comal Creek Vineyards is located at 1741 Herbelin Road\, New Braunfels\, Texas. For additional details or to register\, guests can visit https://cookingwithnicole.net/cooking-classes/dry-comal-creek-vineyards/.
URL:https://thenewbraunfelslife.com/event/cooking-at-the-vineyard-flavors-of-jerusalem-at-dry-comal-creek-vineyards/
LOCATION:Dry Comal Creek Vineyards\, 1741 Herbelin Rd.\, New Braunfels\, TX\, 78132\, United States
CATEGORIES:Food & Drink
ATTACH;FMTTYPE=image/jpeg:https://thenewbraunfelslife.com/wp-content/uploads/2026/03/cooking-at-the-vineyard-flavors-of-jerusalem-at-dry-comal-creek-vineyards.jpg
END:VEVENT
BEGIN:VEVENT
DTSTART;TZID=America/New_York:20260414T180000
DTEND;TZID=America/New_York:20260414T220000
DTSTAMP:20260420T043619
CREATED:20260319T084821Z
LAST-MODIFIED:20260319T084821Z
UID:84544-1776189600-1776204000@thenewbraunfelslife.com
SUMMARY:Austin Gilliam & Friends at Gruene Hall
DESCRIPTION:Austin Gilliam & Friends bring live music to Gruene Hall for an evening performance on April 14\, 2026\, from 6 pm to 10 pm. Known for their blend of country and Texas roots influences\, the group delivers an engaging set that complements the laid-back\, historic atmosphere of the venue. \nThis free event takes place at Gruene Hall\, 1281 Gruene Rd\, New Braunfels\, TX 78130. For more information\, call 830-629-5077.
URL:https://thenewbraunfelslife.com/event/austin-gilliam-friends-at-gruene-hall/
LOCATION:Gruene Hall\, 1281 Gruene Rd\, New Braunfels\, TX\, 78130\, United States
CATEGORIES:Music
ATTACH;FMTTYPE=image/jpeg:https://thenewbraunfelslife.com/wp-content/uploads/2026/02/austin-gilliam-at-gruene-hall.jpg
END:VEVENT
BEGIN:VEVENT
DTSTART;TZID=America/New_York:20260414T183000
DTEND;TZID=America/New_York:20260414T203000
DTSTAMP:20260420T043619
CREATED:20260407T063501Z
LAST-MODIFIED:20260407T063501Z
UID:84896-1776191400-1776198600@thenewbraunfelslife.com
SUMMARY:Learn to Swing Dance at Attic Dance Hall
DESCRIPTION:An upbeat weekly class brings music and movement together with Learn to Swing Dance at Attic Dance Hall in New Braunfels. Held every Tuesday\, the sessions offer a fun and welcoming environment for dancers of all experience levels. \nThe schedule includes an intermediate Lindy Hop class from 6:30 pm to 7:30 pm\, followed by a beginner East Coast Swing class from 7:30 pm to 8:30 pm. Led by Swing Junction\, the classes focus on building skills\, confidence\, and connection on the dance floor while enjoying great music and a lively atmosphere. \nClasses are open to all ages\, with punch card options and youth discounts available. Attic Dance Hall is located at 134 Rusch Ln\, New Braunfels\, TX\, accessible via the Solms exit on IH 35\, heading south on the frontage road just before Snake Farm. More information and registration can be found at https://www.swingjunction.org/classes.
URL:https://thenewbraunfelslife.com/event/learn-to-swing-dance-at-attic-dance-hall/2026-04-14/
LOCATION:The Attic Dance Hall\, 5480 S IH 35 Frontage Rd\, New Braunfels\, TX\, 78130\, United States
CATEGORIES:Music
ATTACH;FMTTYPE=image/jpeg:https://thenewbraunfelslife.com/wp-content/uploads/2026/04/learn-to-swing-dance-at-attic-dance-hall.jpg
END:VEVENT
BEGIN:VEVENT
DTSTART;TZID=America/New_York:20260414T190000
DTEND;TZID=America/New_York:20260414T220000
DTSTAMP:20260420T043619
CREATED:20260413T003809Z
LAST-MODIFIED:20260413T003809Z
UID:85066-1776193200-1776204000@thenewbraunfelslife.com
SUMMARY:Live Music at Gruene Grove
DESCRIPTION:An evening of live music offers multiple performances to enjoy at Gruene Grove in New Braunfels. The event will take place on April 14 from 7 pm to 10 pm\, featuring Jerrett Zoch along with Justin Upshaw’s Songwriter Night happening downstairs. \nGuests can explore different sounds and performances throughout the venue while enjoying a relaxed atmosphere with food and drinks available on site.
URL:https://thenewbraunfelslife.com/event/live-music-at-gruene-grove/
LOCATION:The Gruene Grove\, 1263 Gruene Rd\, New Braunfels\, TX\, 78130\, United States
CATEGORIES:Music
ATTACH;FMTTYPE=image/jpeg:https://thenewbraunfelslife.com/wp-content/uploads/2026/01/live-music-at-the-gruene-grove.jpg
END:VEVENT
END:VCALENDAR