BEGIN:VCALENDAR
VERSION:2.0
PRODID:-//The New Braunfels Life - ECPv6.15.20//NONSGML v1.0//EN
CALSCALE:GREGORIAN
METHOD:PUBLISH
X-WR-CALNAME:The New Braunfels Life
X-ORIGINAL-URL:https://thenewbraunfelslife.com
X-WR-CALDESC:Events for The New Braunfels Life
REFRESH-INTERVAL;VALUE=DURATION:PT1H
X-Robots-Tag:noindex
X-PUBLISHED-TTL:PT1H
BEGIN:VTIMEZONE
TZID:America/New_York
BEGIN:DAYLIGHT
TZOFFSETFROM:-0500
TZOFFSETTO:-0400
TZNAME:EDT
DTSTART:20250309T070000
END:DAYLIGHT
BEGIN:STANDARD
TZOFFSETFROM:-0400
TZOFFSETTO:-0500
TZNAME:EST
DTSTART:20251102T060000
END:STANDARD
BEGIN:DAYLIGHT
TZOFFSETFROM:-0500
TZOFFSETTO:-0400
TZNAME:EDT
DTSTART:20260308T070000
END:DAYLIGHT
BEGIN:STANDARD
TZOFFSETFROM:-0400
TZOFFSETTO:-0500
TZNAME:EST
DTSTART:20261101T060000
END:STANDARD
BEGIN:DAYLIGHT
TZOFFSETFROM:-0500
TZOFFSETTO:-0400
TZNAME:EDT
DTSTART:20270314T070000
END:DAYLIGHT
BEGIN:STANDARD
TZOFFSETFROM:-0400
TZOFFSETTO:-0500
TZNAME:EST
DTSTART:20271107T060000
END:STANDARD
END:VTIMEZONE
BEGIN:VEVENT
DTSTART;VALUE=DATE:20260412
DTEND;VALUE=DATE:20260418
DTSTAMP:20260420T044615
CREATED:20260407T074138Z
LAST-MODIFIED:20260407T074138Z
UID:84937-1775952000-1776470399@thenewbraunfelslife.com
SUMMARY:Swiftwater 1–2 at Prince Solms Park and the Tube Chute
DESCRIPTION:A multi-day training opportunity focused on water safety and rescue skills takes place with Swiftwater 1–2 in New Braunfels. The event is scheduled for April 12 through April 17\, 2026 at Prince Solms Park and the Tube Chute\, located at 100 Liebscher Drive\, New Braunfels\, TX 78130. \nParticipants can engage in hands-on instruction and practical training designed to build knowledge and confidence in swiftwater environments. Set along the Guadalupe River\, the course provides a real-world setting for developing essential techniques and skills.
URL:https://thenewbraunfelslife.com/event/swiftwater-1-2-at-prince-solms-park-and-the-tube-chute/
LOCATION:Prince Solms Park\, 100 Liebscher Dr\, New Braunfels\, TX\, 78130\, United States
CATEGORIES:General
ATTACH;FMTTYPE=image/jpeg:https://thenewbraunfelslife.com/wp-content/uploads/2026/04/swiftwater-1-2-at-prince-solms-park-and-the-tube-chute.jpg
END:VEVENT
BEGIN:VEVENT
DTSTART;TZID=America/New_York:20260416T113000
DTEND;TZID=America/New_York:20260416T143000
DTSTAMP:20260420T044615
CREATED:20260407T011300Z
LAST-MODIFIED:20260407T011300Z
UID:84693-1776339000-1776349800@thenewbraunfelslife.com
SUMMARY:2026 Spring Fashion Plate at Krause’s Cafe
DESCRIPTION:Seasonal style and local flair take center stage at the 2026 Spring Fashion Plate in downtown New Braunfels. The event will be held on Thursday\, April 16 at 11:30 am at Krause’s Cafe\, where guests can enjoy a chef-prepared lunch in the pavilion while local boutiques present their favorite spring and summer looks. \nThe event features a showcase of current seasonal trends\, along with door prizes and swag bags filled with gifts and coupons from downtown shops. Admission includes lunch\, a glass of wine\, and dessert from 2tarts Bakery. Proceeds from the event support downtown improvement and beautification projects. Additional information and ticket purchases are available at https://buy.ticketstothecity.com/purchase.php?date_id=72834.
URL:https://thenewbraunfelslife.com/event/2026-spring-fashion-plate-at-krauses-cafe/
LOCATION:Krause’s Café\, 148 S Castell Ave\, New Braunfels\, TX\, 78130\, United States
CATEGORIES:Food & Drink
ATTACH;FMTTYPE=image/jpeg:https://thenewbraunfelslife.com/wp-content/uploads/2026/04/2026-spring-fashion-plate-at-krauses-cafe.jpg
END:VEVENT
BEGIN:VEVENT
DTSTART;TZID=America/New_York:20260416T150000
DTEND;TZID=America/New_York:20260416T160000
DTSTAMP:20260420T044615
CREATED:20250806T032614Z
LAST-MODIFIED:20250806T032614Z
UID:79858-1776351600-1776355200@thenewbraunfelslife.com
SUMMARY:Mystery Discussion Group at New Braunfels Public Library
DESCRIPTION:Mystery lovers are invited to gather for the Mystery Discussion Group at the New Braunfels Public Library\, where readers dive into captivating whodunits and thrilling tales each month. The group explores a wide range of sub-genres\, including historical mysteries\, noir\, espionage\, courtroom dramas\, Texas settings\, and more. Even if you haven’t read the month’s selection\, you’re welcome to join the lively conversation and discover new authors and books to enjoy. \nThe next meeting will be held on Thursday\, August 21\, 2025\, from 3:00 pm to 4:00 pm in the Meeting Room at the New Braunfels Public Library (Main Branch)\, located at 700 E Common Street\, New Braunfels\, TX 78130. This month’s book is The Spy Coast by Tess Gerritsen. \nNo registration is required\, and the group is open to adults ages 18 and up. For more information\, visit www.nbtexas.org/library or call (830) 221-4300.
URL:https://thenewbraunfelslife.com/event/mystery-discussion-group-at-new-braunfels-public-library-2/2026-04-16/
LOCATION:New Braunfels Public Library\, 700 E Common St\, New Braunfels\,\, Texas\, 78130\, United States
CATEGORIES:General
ATTACH;FMTTYPE=image/jpeg:https://thenewbraunfelslife.com/wp-content/uploads/2025/05/mystery-discussion-group-at-new-braunfels-library.jpg
END:VEVENT
BEGIN:VEVENT
DTSTART;TZID=America/New_York:20260416T170000
DTEND;TZID=America/New_York:20260416T180000
DTSTAMP:20260420T044615
CREATED:20260205T025012Z
LAST-MODIFIED:20260205T025012Z
UID:82637-1776358800-1776362400@thenewbraunfelslife.com
SUMMARY:Teen Time at New Braunfels Public Library
DESCRIPTION:Teen Time is a weekly drop-in program that gives teens a relaxed place to hang out\, try different activities\, and spend time with friends at the library. Activities vary from week to week and are designed to encourage creativity\, connection\, and fun in a welcoming environment just for teens. \nThis program is open to teens ages 13 to 17 and takes place from 5 pm to 6 pm on Thursdays\, including February 19 and 26; March 5\, 12\, 19\, and 26; April 2\, 9\, 16\, 23\, and 30; and May 7\, 14\, 21\, and 28. Teen Time is held in the Teen Area at the New Braunfels Public Library main branch in New Braunfels\, Texas. Admission is free\, and no registration is required.
URL:https://thenewbraunfelslife.com/event/teen-time-at-new-braunfels-public-library/2026-04-16/
LOCATION:New Braunfels Public Library\, 700 E Common St\, New Braunfels\,\, Texas\, 78130\, United States
CATEGORIES:Kids & Family
ATTACH;FMTTYPE=image/jpeg:https://thenewbraunfelslife.com/wp-content/uploads/2026/02/teen-time-at-new-braunfels-public-library.jpg
END:VEVENT
BEGIN:VEVENT
DTSTART;TZID=America/New_York:20260416T170000
DTEND;TZID=America/New_York:20260416T180000
DTSTAMP:20260420T044615
CREATED:20260306T052919Z
LAST-MODIFIED:20260306T052919Z
UID:83872-1776358800-1776362400@thenewbraunfelslife.com
SUMMARY:Teen Time: Game Night at New Braunfels Public Library
DESCRIPTION:Teens can unwind and enjoy an hour of games during Teen Time: Game Night at the New Braunfels Public Library. The program takes place Thursdays from 5 pm to 6 pm\, beginning March 19\, 2026\, and continuing through May 28\, 2026. Scheduled dates include March 19 and March 26; April 2\, April 9\, April 16\, April 23\, and April 30; and May 7\, May 14\, May 21\, and May 28. \nThe weekly gathering offers teens ages 13 to 17 a chance to relax\, socialize\, and play a variety of games in a welcoming environment designed just for them. \nThe program will be held in the Teen Area at the New Braunfels Public Library (Main Branch)\, located at 700 E. Common Street\, New Braunfels\, Texas. For additional details\, guests can contact the library directly.
URL:https://thenewbraunfelslife.com/event/teen-time-game-night-at-new-braunfels-public-library/2026-04-16/
LOCATION:New Braunfels Public Library\, 700 E Common St\, New Braunfels\,\, Texas\, 78130\, United States
CATEGORIES:General
ATTACH;FMTTYPE=image/jpeg:https://thenewbraunfelslife.com/wp-content/uploads/2026/03/teen-time-game-night-at-new-braunfels-public-library.jpg
END:VEVENT
BEGIN:VEVENT
DTSTART;TZID=America/New_York:20260416T170000
DTEND;TZID=America/New_York:20260416T180000
DTSTAMP:20260420T044615
CREATED:20260319T031506Z
LAST-MODIFIED:20260319T031506Z
UID:84377-1776358800-1776362400@thenewbraunfelslife.com
SUMMARY:Teen Time: The Dos and Don’ts of Job Applications at New Braunfels Public Library
DESCRIPTION:Teen Time: The Dos and Don’ts of Job Applications focuses on helping teens create strong and effective job applications. Taking place on Thursday\, April 16\, 2026\, from 5 pm to 6 pm\, this workshop walks participants through a basic application and highlights the types of answers that can help applicants stand out in a positive way to hiring managers. \nTeens will gain insight into common mistakes to avoid\, along with practical tips for presenting their skills and experience clearly and confidently. \nThis event is designed for teens ages 13–17 and will be held in the Main Library Meeting Room at the New Braunfels Public Library (Main Branch)\, 700 E Common St\, New Braunfels\, TX 78130. Admission is free.
URL:https://thenewbraunfelslife.com/event/teen-time-the-dos-and-donts-of-job-applications-at-new-braunfels-public-library/
LOCATION:New Braunfels Public Library\, 700 E Common St\, New Braunfels\,\, Texas\, 78130\, United States
CATEGORIES:General
ATTACH;FMTTYPE=image/jpeg:https://thenewbraunfelslife.com/wp-content/uploads/2026/03/teen-time-the-dos-and-donts-of-job-applications-at-new-braunfels-public-library.jpg
END:VEVENT
BEGIN:VEVENT
DTSTART;TZID=America/New_York:20260416T170000
DTEND;TZID=America/New_York:20260416T200000
DTSTAMP:20260420T044615
CREATED:20260316T080609Z
LAST-MODIFIED:20260316T080609Z
UID:84299-1776358800-1776369600@thenewbraunfelslife.com
SUMMARY:Tony Taylor at The Grapevine in Gruene
DESCRIPTION:Live music with Tony Taylor takes place on April 16 from 5 pm to 8 pm at The Grapevine in Gruene in New Braunfels. \nGuests can enjoy an evening of live music in the relaxed atmosphere of this popular Gruene gathering spot. Tony Taylor delivers an engaging performance that pairs perfectly with the venue’s laid-back setting\, making it a great place to unwind with friends while enjoying the local music scene. \nAdmission is free. The Grapevine in Gruene is located at 1612 Hunter Road\, New Braunfels\, Texas.
URL:https://thenewbraunfelslife.com/event/tony-taylor-at-the-grapevine-in-gruene-4/
LOCATION:The Grapevine in Gruene\, 1612 Hunter Rd\, New Braunfels\, TX\, 78130\, United States
CATEGORIES:Music
ATTACH;FMTTYPE=image/jpeg:https://thenewbraunfelslife.com/wp-content/uploads/2026/01/tony-taylor-at-the-grapevine-in-gruene.jpg
END:VEVENT
BEGIN:VEVENT
DTSTART;TZID=America/New_York:20260416T170000
DTEND;TZID=America/New_York:20260416T233000
DTSTAMP:20260420T044615
CREATED:20260407T080755Z
LAST-MODIFIED:20260407T080755Z
UID:84948-1776358800-1776382200@thenewbraunfelslife.com
SUMMARY:Women’s Retreat 2026 at T Bar M Retreat Center
DESCRIPTION:A weekend of reflection\, connection\, and renewal takes place at Women’s Retreat 2026 in New Braunfels. The retreat will be held April 16 through April 18\, 2026\, beginning at 5 pm on Thursday at T Bar M Retreat Center\, located at 2549 State Hwy 46 W\, New Braunfels\, TX 78132. \nThe retreat offers a space for rest and spiritual growth through worship\, teaching\, and community. Attendees can spend time stepping away from daily routines to reflect\, recharge\, and connect with others in a supportive environment. \nOvernight lodging is available at $265 per person for two people per room\, which includes two nights of accommodations and all meals\, with a $100 deposit required. A DayPass option is also available for $150 with a $50 deposit\, including all activities and meals except overnight lodging. Final payments are due by April 1\, 2026. \nThose interested in scholarship assistance can contact rgreebon@rcnb.org for more information.
URL:https://thenewbraunfelslife.com/event/womens-retreat-2026-at-t-bar-m-retreat-center/2026-04-16/
LOCATION:T Bar M Retreat Center\, 2549 State Hwy 46 W\, New Braunfels\, TX\, 78132\, United States
CATEGORIES:General
ATTACH;FMTTYPE=image/jpeg:https://thenewbraunfelslife.com/wp-content/uploads/2026/04/womens-retreat-2026-at-t-bar-m-retreat-center.jpg
END:VEVENT
BEGIN:VEVENT
DTSTART;TZID=America/New_York:20260416T180000
DTEND;TZID=America/New_York:20260416T210000
DTSTAMP:20260420T044615
CREATED:20260406T234440Z
LAST-MODIFIED:20260406T234440Z
UID:84639-1776362400-1776373200@thenewbraunfelslife.com
SUMMARY:Slim Bawb & The Fabulous Stumpgrinders at Landa Park Dance Slab
DESCRIPTION:An evening of live music and family-friendly fun comes to Landa Park with a performance by Slim Bawb & The Fabulous Stumpgrinders as part of the Live @ Landa series. The event will take place on April 16 from 6 pm to 9 pm at Landa Park Dance Slab in New Braunfels\, TX\, where guests can relax with lawn chairs or blankets and enjoy a laid-back outdoor concert atmosphere. \nLive @ Landa is a free event that highlights local and regional bands while also offering activities for kids and a variety of food options. Peace Love Lumpia will be on site serving food during the event. More information is available at newbraunfels.gov/liveatlanda.
URL:https://thenewbraunfelslife.com/event/slim-bawb-the-fabulous-stumpgrinders-at-landa-park-dance-slab/
LOCATION:Landa Park Dance Slab\, 164 Landa Park Drive\, New Braunfels\, TX\, 78130\, United States
CATEGORIES:Music
ATTACH;FMTTYPE=image/jpeg:https://thenewbraunfelslife.com/wp-content/uploads/2026/04/slim-bawb-and-the-fabulous-stumpgrinders-at-landa-park-dance-slab.jpg
END:VEVENT
BEGIN:VEVENT
DTSTART;TZID=America/New_York:20260416T180000
DTEND;TZID=America/New_York:20260416T220000
DTSTAMP:20260420T044615
CREATED:20260312T032247Z
LAST-MODIFIED:20260312T032247Z
UID:84036-1776362400-1776376800@thenewbraunfelslife.com
SUMMARY:Songwriter’s Night at The Redbird Listening Room
DESCRIPTION:Local songwriters and music fans gather for Songwriter’s Night at The Redbird Listening Room on Thursday\, March 12. Doors open and the sign-up sheet is available at 6 pm\, with performances beginning at 7 pm. \nThe evening provides an opportunity for songwriters to share original music in an intimate listening-room setting while audiences enjoy a relaxed night of live performances and storytelling through song. \nGuests are welcome to bring their own beverages\, and a suggested $10 donation will be collected at the door. The Redbird Listening Room is located in New Braunfels\, Texas. For additional details\, guests can contact the venue directly.
URL:https://thenewbraunfelslife.com/event/songwriters-night-at-the-redbird-listening-room/2026-04-16/
LOCATION:The Redbird Listening Room\, 1260 FM306 Suite D\, New Braunfels\, TX\, 78130\, United States
CATEGORIES:Music
ATTACH;FMTTYPE=image/jpeg:https://thenewbraunfelslife.com/wp-content/uploads/2026/03/songwriters-night-at-the-redbird-listening-room.jpg
END:VEVENT
BEGIN:VEVENT
DTSTART;TZID=America/New_York:20260416T183000
DTEND;TZID=America/New_York:20260416T193000
DTSTAMP:20260420T044615
CREATED:20260407T231849Z
LAST-MODIFIED:20260407T231912Z
UID:84983-1776364200-1776367800@thenewbraunfelslife.com
SUMMARY:Books on Tap at New Braunfels Brewing Co.
DESCRIPTION:A monthly book club experience blends great reads with a relaxed social setting at Books on Tap in New Braunfels. The April meeting will take place on April 16 from 6:30 pm to 7:30 pm at New Braunfels Brewing Co. \nHosted by the New Braunfels Public Library\, the group focuses on science fiction\, fantasy\, and horror selections. April’s featured book is The Measure by Nikki Erlick\, a thought-provoking story exploring how a mysterious discovery changes the course of humanity and the choices people make about their futures. \nBooks on Tap meets monthly at local wineries and breweries\, offering a casual environment for discussion and connection. Additional 2026 selections include titles by authors such as Madeline Miller\, T. Kingfisher\, V. E. Schwab\, and Ursula K. Le Guin\, with a variety of genres and themes throughout the year.
URL:https://thenewbraunfelslife.com/event/books-on-tap-at-new-braunfels-brewing-co/
LOCATION:New Braunfels Brewing Company\, 180 W Mill St #100\, New Braunfels\, TX\, 78130\, United States
CATEGORIES:General
ATTACH;FMTTYPE=image/jpeg:https://thenewbraunfelslife.com/wp-content/uploads/2026/04/books-on-tap-at-new-braunfels-brewing-co.jpg
END:VEVENT
BEGIN:VEVENT
DTSTART;TZID=America/New_York:20260416T183000
DTEND;TZID=America/New_York:20260416T193000
DTSTAMP:20260420T044615
CREATED:20260407T232251Z
LAST-MODIFIED:20260407T232251Z
UID:84986-1776364200-1776367800@thenewbraunfelslife.com
SUMMARY:Stephen King Book to Movie Club – Christine at New Braunfels Public Library
DESCRIPTION:A discussion blending literature and film takes place at the Stephen King Book to Movie Club in New Braunfels. The event will be held on Thursday\, April 16\, 2026 from 6:30 pm to 7:30 pm at the New Braunfels Public Library Main Branch\, located at 700 E Common St\, New Braunfels\, TX 78130. \nParticipants are invited to read Stephen King’s Christine and watch its film adaptation ahead of the meeting\, then gather for a group discussion exploring the story\, themes\, and differences between page and screen. The event is geared toward adults ages 18 and up and welcomes both longtime Stephen King fans and those new to the horror genre.
URL:https://thenewbraunfelslife.com/event/stephen-king-book-to-movie-club-christine-at-new-braunfels-public-library/
LOCATION:New Braunfels Public Library\, 700 E Common St\, New Braunfels\,\, Texas\, 78130\, United States
CATEGORIES:General
ATTACH;FMTTYPE=image/jpeg:https://thenewbraunfelslife.com/wp-content/uploads/2026/04/stephen-king-book-to-movie-club-christine-at-new-braunfels-public-library.jpg
END:VEVENT
BEGIN:VEVENT
DTSTART;TZID=America/New_York:20260416T183000
DTEND;TZID=America/New_York:20260416T203000
DTSTAMP:20260420T044615
CREATED:20260316T033518Z
LAST-MODIFIED:20260316T033637Z
UID:84251-1776364200-1776371400@thenewbraunfelslife.com
SUMMARY:Spongy the Turtle at Painting with a Twist
DESCRIPTION:Painting with a Twist hosts the Spongy the Turtle painting class on Thursday\, April 16\, from 6:30 pm to 8:30 pm. This guided art session invites guests ages 13 and up to create a fun turtle-themed painting while enjoying a relaxed and creative studio environment. \nParticipants will be led step by step by one of the studio’s instructors\, making the class perfect for beginners as well as experienced painters. No previous art experience is required—just bring a smile and enjoy a fun evening of painting. Guests are welcome to bring their own refreshments to enjoy during the class. \nDoors open 30 minutes before the class begins so guests can choose their seats and get settled before painting starts. An optional candle-making upgrade is available for those who arrive 20 to 30 minutes early\, allowing participants to create a custom scented candle from a selection of more than 20 fragrance options. \nTickets range from $36 to $42 per person depending on selected options\, and reservations are required for every seat. Painting with a Twist is located at 1551 N Walnut Avenue\, Suite 10\, New Braunfels\, Texas. For more information or reservations\, guests can contact the studio directly.
URL:https://thenewbraunfelslife.com/event/spongy-the-turtle-at-painting-with-a-twist/
LOCATION:Painting With A Twist\, 1551 N. Walnut Ave\, Ste 20\, New Braunfels\, TX\, 78130\, United States
CATEGORIES:Arts & Culture
ATTACH;FMTTYPE=image/jpeg:https://thenewbraunfelslife.com/wp-content/uploads/2026/03/spongy-the-turtle-at-painting-with-a-twist.jpg
END:VEVENT
BEGIN:VEVENT
DTSTART;TZID=America/New_York:20260416T190000
DTEND;TZID=America/New_York:20260416T210000
DTSTAMP:20260420T044615
CREATED:20260316T033851Z
LAST-MODIFIED:20260316T033851Z
UID:84253-1776366000-1776373200@thenewbraunfelslife.com
SUMMARY:Lakeside Days at Painting with a Twist
DESCRIPTION:Painting with a Twist hosts the Lakeside Days painting class on Thursday\, April 16\, from 7 pm to 9 pm. This guided painting session invites guests ages 13 and up to create a scenic lakeside-inspired artwork in a relaxed and social studio environment. \nA studio instructor will guide participants step by step through the painting process\, making the class enjoyable for beginners and experienced painters alike. No previous art experience is required—just bring a positive attitude and enjoy the creative experience. Guests are welcome to bring their own refreshments to enjoy during the class. \nDoors open 30 minutes before the session begins so participants can choose their seats and get settled before painting starts. An optional candle-making upgrade is also available for those who arrive 20 to 30 minutes early\, allowing guests to create a custom scented candle from a variety of fragrance options. \nTickets are $36 per person\, and reservations are required for every seat. Painting with a Twist is located at 1551 N Walnut Avenue\, Suite 10\, New Braunfels\, Texas. For additional information or to reserve a spot\, guests can contact the studio directly.
URL:https://thenewbraunfelslife.com/event/lakeside-days-at-painting-with-a-twist/
LOCATION:Painting With A Twist\, 1551 N. Walnut Ave\, Ste 20\, New Braunfels\, TX\, 78130\, United States
CATEGORIES:Arts & Culture
END:VEVENT
BEGIN:VEVENT
DTSTART;TZID=America/New_York:20260416T190000
DTEND;TZID=America/New_York:20260416T220000
DTSTAMP:20260420T044615
CREATED:20260413T004329Z
LAST-MODIFIED:20260413T004329Z
UID:85068-1776366000-1776376800@thenewbraunfelslife.com
SUMMARY:Elysha LeMaster Trio Live at Gruene Grove
DESCRIPTION:An evening of live music sets the tone at Gruene Grove in New Braunfels with a performance by the Elysha LeMaster Trio. The show will take place on April 16 from 7 pm to 10 pm\, offering a relaxed atmosphere to enjoy great music. \nGuests can unwind with live entertainment\, along with food and drinks available\, in the laid-back outdoor setting of Gruene Grove.
URL:https://thenewbraunfelslife.com/event/elysha-lemaster-trio-live-at-gruene-grove/
LOCATION:The Gruene Grove\, 1263 Gruene Rd\, New Braunfels\, TX\, 78130\, United States
CATEGORIES:Music
ATTACH;FMTTYPE=image/jpeg:https://thenewbraunfelslife.com/wp-content/uploads/2026/04/elysha-lemaster-trio-live-at-gruene-grove.jpg
END:VEVENT
BEGIN:VEVENT
DTSTART;TZID=America/New_York:20260416T193000
DTEND;TZID=America/New_York:20260416T210000
DTSTAMP:20260420T044615
CREATED:20260312T061843Z
LAST-MODIFIED:20260312T061843Z
UID:84156-1776367800-1776373200@thenewbraunfelslife.com
SUMMARY:Wine & Cheese Pairing with Vintures Wines at Otto’s Cheese Shop
DESCRIPTION:A guided wine and cheese tasting takes place at Otto’s Cheese Shop on April 16\, 2026\, at 7:30 pm. Wine & Cheese Pairing with Vintures Wines offers guests the opportunity to explore several thoughtfully selected wines paired with complementary cheeses. \nThe tasting features wines from Vintures Wine Experiences\, a company known for representing distinctive wines from family-owned producers around the world. Otto’s staff will guide participants through each pairing\, explaining how flavors interact while keeping the experience approachable and enjoyable. \nThe class runs approximately 60 to 90 minutes and concludes with time for guests to shop their favorite selections. \nTickets are $54.13 per person\, which includes tax. Otto’s Cheese Shop is located at 344 Landa Street\, New Braunfels\, Texas. For additional details or ticket information\, guests can contact the venue directly.
URL:https://thenewbraunfelslife.com/event/wine-cheese-pairing-with-vintures-wines-at-ottos-cheese-shop/
LOCATION:Otto’s Cheese Shop\, 2345 Loop 337\, Suite 100\, New Braunfels\, TX\, 78130\, United States
CATEGORIES:Food & Drink
ATTACH;FMTTYPE=image/jpeg:https://thenewbraunfelslife.com/wp-content/uploads/2026/03/wine-and-cheese-pairing-with-vintures-wines-at-ottos-cheese-shop.jpg
END:VEVENT
BEGIN:VEVENT
DTSTART;TZID=America/New_York:20260416T200000
DTEND;TZID=America/New_York:20260416T230000
DTSTAMP:20260420T044615
CREATED:20260312T025240Z
LAST-MODIFIED:20260312T025240Z
UID:84023-1776369600-1776380400@thenewbraunfelslife.com
SUMMARY:Rex Allen McNiel at Watering Hole Saloon
DESCRIPTION:Live country music fills the evening at Watering Hole Saloon as Rex Allen McNiel performs on April 16 from 8 pm to 11 pm. Known for delivering a mix of country favorites and crowd-pleasing tunes\, the performance offers a lively atmosphere for a night of music and dancing. \nA $5 cash cover charge will be collected at the door. Watering Hole Saloon is located in New Braunfels\, Texas. For additional details\, guests can contact the venue directly.
URL:https://thenewbraunfelslife.com/event/rex-allen-mcniel-at-watering-hole-saloon-2/
LOCATION:Watering Hole Saloon\, 1390 McQueeney Rd\, New Braunfels\, TX\, 78130\, United States
CATEGORIES:Music
ATTACH;FMTTYPE=image/jpeg:https://thenewbraunfelslife.com/wp-content/uploads/2026/02/rex-allen-mcniel-at-watering-hole-saloon.jpg
END:VEVENT
END:VCALENDAR