BEGIN:VCALENDAR
VERSION:2.0
PRODID:-//The New Braunfels Life - ECPv6.15.20//NONSGML v1.0//EN
CALSCALE:GREGORIAN
METHOD:PUBLISH
X-WR-CALNAME:The New Braunfels Life
X-ORIGINAL-URL:https://thenewbraunfelslife.com
X-WR-CALDESC:Events for The New Braunfels Life
REFRESH-INTERVAL;VALUE=DURATION:PT1H
X-Robots-Tag:noindex
X-PUBLISHED-TTL:PT1H
BEGIN:VTIMEZONE
TZID:America/New_York
BEGIN:DAYLIGHT
TZOFFSETFROM:-0500
TZOFFSETTO:-0400
TZNAME:EDT
DTSTART:20250309T070000
END:DAYLIGHT
BEGIN:STANDARD
TZOFFSETFROM:-0400
TZOFFSETTO:-0500
TZNAME:EST
DTSTART:20251102T060000
END:STANDARD
BEGIN:DAYLIGHT
TZOFFSETFROM:-0500
TZOFFSETTO:-0400
TZNAME:EDT
DTSTART:20260308T070000
END:DAYLIGHT
BEGIN:STANDARD
TZOFFSETFROM:-0400
TZOFFSETTO:-0500
TZNAME:EST
DTSTART:20261101T060000
END:STANDARD
BEGIN:DAYLIGHT
TZOFFSETFROM:-0500
TZOFFSETTO:-0400
TZNAME:EDT
DTSTART:20270314T070000
END:DAYLIGHT
BEGIN:STANDARD
TZOFFSETFROM:-0400
TZOFFSETTO:-0500
TZNAME:EST
DTSTART:20271107T060000
END:STANDARD
END:VTIMEZONE
BEGIN:VEVENT
DTSTART;VALUE=DATE:20260421
DTEND;VALUE=DATE:20260422
DTSTAMP:20260421T054633
CREATED:20260205T022302Z
LAST-MODIFIED:20260205T022302Z
UID:84415-1776729600-1776815999@thenewbraunfelslife.com
SUMMARY:Preschool Storytime at New Braunfels Public Library
DESCRIPTION:Preschool Storytime is designed for children ages 3 to 5 and focuses on building early literacy and reading readiness skills in a fun\, engaging environment. Each session includes shared stories\, songs\, counting activities\, and exploration of colors and shapes\, followed by a creative art activity that reinforces the theme of the day. Siblings are welcome to attend\, and caregivers are encouraged to actively participate alongside their children. \nThis recurring program takes place on Tuesdays from 9:30 am to 10:00 am on February 17 and 24; March 10\, 17\, 24\, and 31; April 7\, 14\, 21\, and 28; May 5\, 12\, 19\, and 26; June 2\, 9\, 16\, 23\, and 30; and July 7\, 2026. All sessions are held in the Main Library Meeting Room at the New Braunfels Public Library\, located at 700 E. Common St.\, New Braunfels\, Texas. \nTo help ensure a positive experience for everyone\, families are asked not to attend if a child has had a fever within the past 24 hours\, is experiencing symptoms of illness\, or has signs of a communicable condition. Arriving on time\, remaining attentive during the program\, and helping children follow basic library manners all contribute to a successful and enjoyable storytime for all participants.
URL:https://thenewbraunfelslife.com/event/preschool-storytime-at-new-braunfels-public-library/2026-04-21/
LOCATION:New Braunfels Public Library\, 700 E Common St\, New Braunfels\,\, Texas\, 78130\, United States
CATEGORIES:Kids & Family
ATTACH;FMTTYPE=image/jpeg:https://thenewbraunfelslife.com/wp-content/uploads/2026/02/preschool-storytime-at-new-braunfels-public-library.jpg
END:VEVENT
BEGIN:VEVENT
DTSTART;TZID=America/New_York:20260421T093000
DTEND;TZID=America/New_York:20260421T100000
DTSTAMP:20260421T054633
CREATED:20260319T072044Z
LAST-MODIFIED:20260408T010542Z
UID:84482-1776763800-1776765600@thenewbraunfelslife.com
SUMMARY:Preschool Storytime at New Braunfels Public Library
DESCRIPTION:An engaging early literacy program supports young learners at Preschool Storytime in New Braunfels. Held every Tuesday from 9:30 am to 10 am at the New Braunfels Public Library Main Branch\, located at 700 E Common St\, New Braunfels\, TX 78130\, the program is designed for children ages 3 to 5. \nThe session focuses on building reading readiness through stories\, songs\, and interactive activities that introduce letter knowledge\, phonological awareness\, and print motivation. Children will also explore counting\, colors\, and shapes\, followed by a creative art activity. Siblings are welcome to attend. \nCaregivers are encouraged to help create a positive experience by arriving on time\, participating with their child\, and supporting a respectful and attentive environment throughout the program.
URL:https://thenewbraunfelslife.com/event/garden-preschool-storytime-at-new-braunfels-public-library/2026-04-21/
LOCATION:New Braunfels Public Library\, 700 E Common St\, New Braunfels\,\, Texas\, 78130\, United States
CATEGORIES:Kids & Family
ATTACH;FMTTYPE=image/jpeg:https://thenewbraunfelslife.com/wp-content/uploads/2026/03/garden-preschool-storytime-at-new-braunfels-public-library.jpg
END:VEVENT
BEGIN:VEVENT
DTSTART;TZID=America/New_York:20260421T103000
DTEND;TZID=America/New_York:20260421T110000
DTSTAMP:20260421T054633
CREATED:20260122T091721Z
LAST-MODIFIED:20260408T000007Z
UID:82376-1776767400-1776769200@thenewbraunfelslife.com
SUMMARY:Toddler Time at New Braunfels Public Library
DESCRIPTION:A fun and movement-filled storytime brings young learners together at Toddler Time in New Braunfels. Held every Tuesday from 10:30 am to 11 am at the New Braunfels Public Library Main Branch\, located at 700 E Common St\, New Braunfels\, TX 78130\, the program is designed for children ages 18 months to 3 years. \nThe session includes stories\, rhymes\, and songs\, along with interactive activities such as music with shakers\, dancing with scarves\, and movement-based play. Each program ends with a short playtime\, giving children an opportunity to socialize and explore. Siblings are welcome to attend. \nCaregivers are encouraged to help create a positive experience by arriving on time\, participating alongside their child\, and supporting a respectful environment for all attendees.
URL:https://thenewbraunfelslife.com/event/toddler-time-at-new-braunfels-public-library-2/2026-04-21/
LOCATION:New Braunfels Public Library\, 700 E Common St\, New Braunfels\,\, Texas\, 78130\, United States
CATEGORIES:Kids & Family
ATTACH;FMTTYPE=image/jpeg:https://thenewbraunfelslife.com/wp-content/uploads/2026/01/toddler-time-at-new-braunfels-public-library.jpg
END:VEVENT
BEGIN:VEVENT
DTSTART;TZID=America/New_York:20260421T120000
DTEND;TZID=America/New_York:20260421T133000
DTSTAMP:20260421T054633
CREATED:20260408T001035Z
LAST-MODIFIED:20260408T001049Z
UID:85006-1776772800-1776778200@thenewbraunfelslife.com
SUMMARY:Volunteers Luncheon at New Braunfels Public Library
DESCRIPTION:An appreciation gathering for library volunteers takes place at the Volunteers Luncheon in New Braunfels. The event will be held on Tuesday\, April 21\, 2026 from 12 pm to 1:30 pm at the New Braunfels Public Library Main Branch\, located at 700 E Common St\, New Braunfels\, TX 78130. \nThis internal event provides an opportunity to recognize and connect with those who contribute their time and support to the library’s programs and services.
URL:https://thenewbraunfelslife.com/event/volunteers-luncheon-at-new-braunfels-public-library/
LOCATION:New Braunfels Public Library\, 700 E Common St\, New Braunfels\,\, Texas\, 78130\, United States
CATEGORIES:General
ATTACH;FMTTYPE=image/jpeg:https://thenewbraunfelslife.com/wp-content/uploads/2026/04/volunteers-luncheon-at-new-braunfels-public-library.jpg
END:VEVENT
BEGIN:VEVENT
DTSTART;TZID=America/New_York:20260421T170000
DTEND;TZID=America/New_York:20260421T220000
DTSTAMP:20260421T054633
CREATED:20251215T030846Z
LAST-MODIFIED:20251215T030846Z
UID:81651-1776790800-1776808800@thenewbraunfelslife.com
SUMMARY:Steak Night at Happy Cow Bar
DESCRIPTION:An evening of hearty dining is on the menu during Steak Night at Happy Cow Bar. From 5 pm to 10 pm\, guests can enjoy a New York strip steak supplied by Granzin’s Meat Market\, served alongside a loaded baked potato for $16. The special offers a satisfying option for those looking to enjoy a classic steak dinner in a relaxed bar setting. \nThe event takes place at Happy Cow Bar.
URL:https://thenewbraunfelslife.com/event/steak-night-at-happy-cow-bar-2/2026-04-21/
LOCATION:Happy Cow Bar\, 9103 FM 1102\, New Braunfels\, TX\, 78132\, United States
CATEGORIES:Food & Drink
ATTACH;FMTTYPE=image/jpeg:https://thenewbraunfelslife.com/wp-content/uploads/2025/07/steak-night-at-happy-cow-bar.jpg
END:VEVENT
BEGIN:VEVENT
DTSTART;TZID=America/New_York:20260421T173000
DTEND;TZID=America/New_York:20260421T193000
DTSTAMP:20260421T054633
CREATED:20260205T023441Z
LAST-MODIFIED:20260205T023441Z
UID:82612-1776792600-1776799800@thenewbraunfelslife.com
SUMMARY:Artistic Journeys at New Braunfels Public Library
DESCRIPTION:Artistic Journeys is a monthly\, hands-on art program for adults that explores creative techniques and materials in a relaxed\, instructional setting. This session features Mixed Media Flowers\, where participants will create a pair of floral still-life pieces using watercolor applied in a loose\, expressive style. Details are added with tinted black glue\, creating striking texture and line against the soft watercolor background. \nThis program takes place on select Tuesdays throughout the year\, including February 17\, March 17\, April 21\, May 19\, June 16\, July 21\, August 18\, September 15\, October 20\, November 17\, and December 15\, 2026. Each session runs from 5:30 pm to 7:30 pm in the Main Library Meeting Room at the New Braunfels Public Library\, located at 700 E. Common St.\, New Braunfels\, Texas. The program is designed for adults ages 18 and up\, and all skill levels are welcome.
URL:https://thenewbraunfelslife.com/event/artistic-journeys-at-new-braunfels-public-library/2026-04-21/
LOCATION:New Braunfels Public Library\, 700 E Common St\, New Braunfels\,\, Texas\, 78130\, United States
CATEGORIES:Arts & Culture
ATTACH;FMTTYPE=image/jpeg:https://thenewbraunfelslife.com/wp-content/uploads/2026/02/artistic-journeys-at-new-braunfels-public-library.jpg
END:VEVENT
BEGIN:VEVENT
DTSTART;TZID=America/New_York:20260421T183000
DTEND;TZID=America/New_York:20260421T203000
DTSTAMP:20260421T054633
CREATED:20260407T063501Z
LAST-MODIFIED:20260407T063501Z
UID:84897-1776796200-1776803400@thenewbraunfelslife.com
SUMMARY:Learn to Swing Dance at Attic Dance Hall
DESCRIPTION:An upbeat weekly class brings music and movement together with Learn to Swing Dance at Attic Dance Hall in New Braunfels. Held every Tuesday\, the sessions offer a fun and welcoming environment for dancers of all experience levels. \nThe schedule includes an intermediate Lindy Hop class from 6:30 pm to 7:30 pm\, followed by a beginner East Coast Swing class from 7:30 pm to 8:30 pm. Led by Swing Junction\, the classes focus on building skills\, confidence\, and connection on the dance floor while enjoying great music and a lively atmosphere. \nClasses are open to all ages\, with punch card options and youth discounts available. Attic Dance Hall is located at 134 Rusch Ln\, New Braunfels\, TX\, accessible via the Solms exit on IH 35\, heading south on the frontage road just before Snake Farm. More information and registration can be found at https://www.swingjunction.org/classes.
URL:https://thenewbraunfelslife.com/event/learn-to-swing-dance-at-attic-dance-hall/2026-04-21/
LOCATION:The Attic Dance Hall\, 5480 S IH 35 Frontage Rd\, New Braunfels\, TX\, 78130\, United States
CATEGORIES:Music
ATTACH;FMTTYPE=image/jpeg:https://thenewbraunfelslife.com/wp-content/uploads/2026/04/learn-to-swing-dance-at-attic-dance-hall.jpg
END:VEVENT
BEGIN:VEVENT
DTSTART;TZID=America/New_York:20260421T190000
DTEND;TZID=America/New_York:20260421T220000
DTSTAMP:20260421T054633
CREATED:20260413T013758Z
LAST-MODIFIED:20260413T013758Z
UID:85077-1776798000-1776808800@thenewbraunfelslife.com
SUMMARY:Live Music at Gruene Grove
DESCRIPTION:An evening of live music offers multiple performances to enjoy at Gruene Grove in New Braunfels. The event will take place on April 21 from 7 pm to 10 pm\, featuring Ronnie Bowen along with Justin Upshaw’s Songwriter Night happening downstairs. \nGuests can explore different sounds throughout the venue while enjoying a relaxed atmosphere with food and drinks available on site.
URL:https://thenewbraunfelslife.com/event/live-music-at-gruene-grove-5/
LOCATION:The Gruene Grove\, 1263 Gruene Rd\, New Braunfels\, TX\, 78130\, United States
CATEGORIES:Music
ATTACH;FMTTYPE=image/jpeg:https://thenewbraunfelslife.com/wp-content/uploads/2026/01/live-music-at-the-gruene-grove.jpg
END:VEVENT
END:VCALENDAR