BEGIN:VCALENDAR
VERSION:2.0
PRODID:-//The New Braunfels Life - ECPv6.15.20//NONSGML v1.0//EN
CALSCALE:GREGORIAN
METHOD:PUBLISH
X-ORIGINAL-URL:https://thenewbraunfelslife.com
X-WR-CALDESC:Events for The New Braunfels Life
REFRESH-INTERVAL;VALUE=DURATION:PT1H
X-Robots-Tag:noindex
X-PUBLISHED-TTL:PT1H
BEGIN:VTIMEZONE
TZID:America/New_York
BEGIN:DAYLIGHT
TZOFFSETFROM:-0500
TZOFFSETTO:-0400
TZNAME:EDT
DTSTART:20250309T070000
END:DAYLIGHT
BEGIN:STANDARD
TZOFFSETFROM:-0400
TZOFFSETTO:-0500
TZNAME:EST
DTSTART:20251102T060000
END:STANDARD
BEGIN:DAYLIGHT
TZOFFSETFROM:-0500
TZOFFSETTO:-0400
TZNAME:EDT
DTSTART:20260308T070000
END:DAYLIGHT
BEGIN:STANDARD
TZOFFSETFROM:-0400
TZOFFSETTO:-0500
TZNAME:EST
DTSTART:20261101T060000
END:STANDARD
BEGIN:DAYLIGHT
TZOFFSETFROM:-0500
TZOFFSETTO:-0400
TZNAME:EDT
DTSTART:20270314T070000
END:DAYLIGHT
BEGIN:STANDARD
TZOFFSETFROM:-0400
TZOFFSETTO:-0500
TZNAME:EST
DTSTART:20271107T060000
END:STANDARD
END:VTIMEZONE
BEGIN:VEVENT
DTSTART;TZID=America/New_York:20260928T190000
DTEND;TZID=America/New_York:20260928T220000
DTSTAMP:20260420T092538
CREATED:20260407T021622Z
LAST-MODIFIED:20260407T021622Z
UID:84756-1790622000-1790632800@thenewbraunfelslife.com
SUMMARY:Corn Hole Tournament at Gruene Grove
DESCRIPTION:A weekly evening of friendly competition and live entertainment takes place at the Corn Hole Tournament in Gruene. Held every Monday from 7 pm to 10 pm at Gruene Grove\, this recurring event offers a laid-back atmosphere for players and spectators alike. \nParticipation is free\, and each participant receives a complimentary beer courtesy of Shiner. The event also features live music and prizes\, creating a lively setting to enjoy games\, drinks\, and time with friends.
URL:https://thenewbraunfelslife.com/event/corn-hole-tournament-at-gruene-grove/2026-09-28/
LOCATION:The Gruene Grove\, 1263 Gruene Rd\, New Braunfels\, TX\, 78130\, United States
CATEGORIES:General
ATTACH;FMTTYPE=image/jpeg:https://thenewbraunfelslife.com/wp-content/uploads/2026/04/corn-hole-tournament-at-gruene-grove.jpg
END:VEVENT
BEGIN:VEVENT
DTSTART;TZID=America/New_York:20260928T190000
DTEND;TZID=America/New_York:20260928T220000
DTSTAMP:20260420T092538
CREATED:20260407T024604Z
LAST-MODIFIED:20260407T024807Z
UID:84798-1790622000-1790632800@thenewbraunfelslife.com
SUMMARY:Ashton Naylor Live at The Lost and Found NBTX
DESCRIPTION:Live music sets the tone for Monday evenings in downtown New Braunfels with Ashton Naylor performing at The Lost and Found NBTX. The weekly show takes place every Monday from 7 pm to 10 pm at 219 E. San Antonio Street\, New Braunfels\, TX 78130. \nGuests can enjoy a relaxed atmosphere while listening to live performances\, making it a great way to unwind and experience local music at the start of the week.
URL:https://thenewbraunfelslife.com/event/ashton-naylor-live-at-the-lost-and-found-nbtx/2026-09-28/
LOCATION:The Lost and Found NBTX\, 219 E. San Antonio Street\, New Braunfels\, TX\, 78130\, United States
CATEGORIES:Music
ATTACH;FMTTYPE=image/jpeg:https://thenewbraunfelslife.com/wp-content/uploads/2026/04/ashton-naylor-live-at-the-lost-and-found-nbtx.jpg
END:VEVENT
END:VCALENDAR