BEGIN:VCALENDAR
VERSION:2.0
PRODID:-//The New Braunfels Life - ECPv6.15.20//NONSGML v1.0//EN
CALSCALE:GREGORIAN
METHOD:PUBLISH
X-WR-CALNAME:The New Braunfels Life
X-ORIGINAL-URL:https://thenewbraunfelslife.com
X-WR-CALDESC:Events for The New Braunfels Life
REFRESH-INTERVAL;VALUE=DURATION:PT1H
X-Robots-Tag:noindex
X-PUBLISHED-TTL:PT1H
BEGIN:VTIMEZONE
TZID:America/New_York
BEGIN:DAYLIGHT
TZOFFSETFROM:-0500
TZOFFSETTO:-0400
TZNAME:EDT
DTSTART:20250309T070000
END:DAYLIGHT
BEGIN:STANDARD
TZOFFSETFROM:-0400
TZOFFSETTO:-0500
TZNAME:EST
DTSTART:20251102T060000
END:STANDARD
BEGIN:DAYLIGHT
TZOFFSETFROM:-0500
TZOFFSETTO:-0400
TZNAME:EDT
DTSTART:20260308T070000
END:DAYLIGHT
BEGIN:STANDARD
TZOFFSETFROM:-0400
TZOFFSETTO:-0500
TZNAME:EST
DTSTART:20261101T060000
END:STANDARD
BEGIN:DAYLIGHT
TZOFFSETFROM:-0500
TZOFFSETTO:-0400
TZNAME:EDT
DTSTART:20270314T070000
END:DAYLIGHT
BEGIN:STANDARD
TZOFFSETFROM:-0400
TZOFFSETTO:-0500
TZNAME:EST
DTSTART:20271107T060000
END:STANDARD
END:VTIMEZONE
BEGIN:VEVENT
DTSTART;TZID=America/New_York:20260316T093000
DTEND;TZID=America/New_York:20260316T100000
DTSTAMP:20260423T050404
CREATED:20260122T091216Z
LAST-MODIFIED:20260408T005602Z
UID:82354-1773653400-1773655200@thenewbraunfelslife.com
SUMMARY:Baby Rhyme Time at New Braunfels Public Library
DESCRIPTION:A playful and engaging early childhood program takes place at Baby Rhyme Time in New Braunfels. Held every Monday from 9:30 am to 10 am at the New Braunfels Public Library Main Branch\, located at 700 E Common St\, New Braunfels\, TX 78130\, the session is designed especially for babies ages 12 to 18 months. \nThe program includes stories\, songs\, clapping\, and music\, followed by a short playtime that encourages interaction and early learning. Siblings are welcome to attend\, and caregivers are encouraged to participate to help create a fun and supportive environment. \nFor the health and safety of all participants\, families are asked not to attend if a child has experienced recent symptoms of illness such as fever\, vomiting\, diarrhea\, persistent cough\, or other signs of a communicable condition. Caregivers are also encouraged to arrive on time\, stay engaged during the session\, and help maintain a positive and respectful library environment for all attendees.
URL:https://thenewbraunfelslife.com/event/baby-rhyme-time-at-new-braunfels-public-library-3/2026-03-16/
LOCATION:New Braunfels Public Library\, 700 E Common St\, New Braunfels\,\, Texas\, 78130\, United States
CATEGORIES:Kids & Family
ATTACH;FMTTYPE=image/jpeg:https://thenewbraunfelslife.com/wp-content/uploads/2026/01/baby-rhyme-time-at-new-braunfels-public-library.jpg
END:VEVENT
BEGIN:VEVENT
DTSTART;TZID=America/New_York:20260316T103000
DTEND;TZID=America/New_York:20260316T110000
DTSTAMP:20260423T050404
CREATED:20260122T105648Z
LAST-MODIFIED:20260408T010120Z
UID:82499-1773657000-1773658800@thenewbraunfelslife.com
SUMMARY:Toddler Time at New Braunfels Public Library
DESCRIPTION:An interactive and energetic storytime experience takes place at Toddler Time in New Braunfels. Held every Monday from 10:30 am to 11 am at the New Braunfels Public Library Main Branch\, located at 700 E Common St\, New Braunfels\, TX 78130\, the program is designed for children ages 18 months to 3 years. \nThe session includes stories\, rhymes\, and songs\, along with hands-on activities such as music with shakers\, dancing with scarves\, and movement-based play. The program concludes with a short playtime\, giving children a chance to socialize and explore. Siblings are welcome to attend. \nFor the health and safety of all participants\, families are asked not to attend if a child has experienced recent symptoms of illness such as fever\, vomiting\, diarrhea\, persistent cough\, or other signs of a communicable condition. Caregivers are encouraged to arrive on time\, stay engaged during the program\, and help maintain a positive and respectful environment for all attendees.
URL:https://thenewbraunfelslife.com/event/toddler-time-at-new-braunfels-public-library-3/2026-03-16/
LOCATION:New Braunfels Public Library\, 700 E Common St\, New Braunfels\,\, Texas\, 78130\, United States
CATEGORIES:Kids & Family
ATTACH;FMTTYPE=image/jpeg:https://thenewbraunfelslife.com/wp-content/uploads/2026/01/toddler-time-at-new-braunfels-public-library.jpg
END:VEVENT
BEGIN:VEVENT
DTSTART;TZID=America/New_York:20260316T163000
DTEND;TZID=America/New_York:20260316T190000
DTSTAMP:20260423T050404
CREATED:20260113T054012Z
LAST-MODIFIED:20260113T054012Z
UID:82081-1773678600-1773687600@thenewbraunfelslife.com
SUMMARY:Klasses In Drama at Circle Arts Theatre
DESCRIPTION:Youth performers can explore the world of theatre during Klasses In Drama\, a multi-week educational program held at Circle Arts Theatre from February 16 through May 3\, 2026. Designed for students in grades 2 through 9\, the program introduces participants to theatre fundamentals while guiding them through the full process of preparing and performing in a stage production. The first three weeks focus on theatre basics and audition preparation\, followed by auditions and seven weeks of rehearsals leading up to live performances. \nClasses and rehearsals are scheduled on Mondays from 4:30 pm to 5:45 pm or 5:45 pm to 7 pm\, and on Wednesdays from 5:30 pm to 7 pm\, with students meeting once a week for classes and one to two times per week during the rehearsal phase. The semester concludes with performances of Seussical Jr. on May 1 through May 3\, bringing beloved Dr. Seuss characters to life in a fun and energetic production. \nRegistration is currently open\, and additional details are available at CircleArtsTheatre.org. The program takes place at Circle Arts Theatre\, located at 124 Elizabeth St\, New Braunfels\, TX 78130.
URL:https://thenewbraunfelslife.com/event/klasses-in-drama-at-circle-arts-theatre/2026-03-16/
LOCATION:Circle Arts Theatre\, 124 Elizabeth Ave\, New Braunfels\, TX\, 78130\, United States
CATEGORIES:Kids & Family
ATTACH;FMTTYPE=image/jpeg:https://thenewbraunfelslife.com/wp-content/uploads/2026/01/klasses-in-drama-at-circle-arts-theatre.jpg
END:VEVENT
BEGIN:VEVENT
DTSTART;TZID=America/New_York:20260316T170000
DTEND;TZID=America/New_York:20260316T190000
DTSTAMP:20260423T050404
CREATED:20260122T110039Z
LAST-MODIFIED:20260122T110039Z
UID:82516-1773680400-1773687600@thenewbraunfelslife.com
SUMMARY:Teen and Tween Drop-In Volunteer Hours at New Braunfels Public Library
DESCRIPTION:Teen and Tween Drop-In Volunteer Hours provide a flexible opportunity for students to earn volunteer hours for school\, clubs\, or church commitments. Participants can attend for as much or as little time as needed during each session\, and no advance sign-up is required. Activities typically support library services while allowing teens and tweens to contribute to their community in a welcoming environment. \nVolunteer hours are available on Mondays from 5:00 pm to 6:45 pm on February 9\, February 16\, February 23\, March 2\, March 9\, March 16\, March 23\, March 30\, April 6\, April 13\, April 20\, and April 27\, 2026. Sessions take place in the Children’s Room at the New Braunfels Public Library Main Branch\, located at 700 E. Common Street\, New Braunfels\, Texas. \nThis program is open to tweens ages 8–12 and teens ages 13–17. Participants should plan to arrive on time and be prepared to help as needed during their volunteer shift.
URL:https://thenewbraunfelslife.com/event/teen-and-tween-drop-in-volunteer-hours-at-new-braunfels-public-library-5/2026-03-16/
LOCATION:New Braunfels Public Library\, 700 E Common St\, New Braunfels\,\, Texas\, 78130\, United States
CATEGORIES:Kids & Family
ATTACH;FMTTYPE=image/jpeg:https://thenewbraunfelslife.com/wp-content/uploads/2026/01/teen-and-tween-drop-in-volunteer-hours-at-new-braunfels-public-library.jpg
END:VEVENT
BEGIN:VEVENT
DTSTART;TZID=America/New_York:20260316T180000
DTEND;TZID=America/New_York:20260316T210000
DTSTAMP:20260423T050404
CREATED:20260205T003815Z
LAST-MODIFIED:20260205T003815Z
UID:82562-1773684000-1773694800@thenewbraunfelslife.com
SUMMARY:Karaoke Night at Krause’s Cafe
DESCRIPTION:Family-friendly karaoke takes over the Biergarten at Krause’s Cafe with an evening of music\, food\, and laid-back fun hosted by Heart of Texas Karaoke. Guests of all ages are welcome to step up to the microphone and sing their favorite songs in a relaxed\, welcoming atmosphere\, whether they are seasoned performers or first-time singers. \nKaraoke Night is scheduled for Monday\, March 2 and Monday\, March 16\, 2026\, from 6 pm to 9 pm\, with singing kicking off promptly at 6 pm. The event takes place at Krause’s Cafe\, located in New Braunfels\, Texas\, where guests can enjoy great food\, cold drinks\, and a lively Biergarten setting throughout the evening.
URL:https://thenewbraunfelslife.com/event/karaoke-night-at-krauses-cafe-10/2026-03-16/
LOCATION:Krause’s Café\, 148 S Castell Ave\, New Braunfels\, TX\, 78130\, United States
CATEGORIES:Kids & Family,Music
ATTACH;FMTTYPE=image/jpeg:https://thenewbraunfelslife.com/wp-content/uploads/2026/02/karaoke-night-at-krauses-cafe.jpg
END:VEVENT
BEGIN:VEVENT
DTSTART;VALUE=DATE:20260317
DTEND;VALUE=DATE:20260318
DTSTAMP:20260423T050404
CREATED:20260205T022302Z
LAST-MODIFIED:20260205T022302Z
UID:84410-1773705600-1773791999@thenewbraunfelslife.com
SUMMARY:Preschool Storytime at New Braunfels Public Library
DESCRIPTION:Preschool Storytime is designed for children ages 3 to 5 and focuses on building early literacy and reading readiness skills in a fun\, engaging environment. Each session includes shared stories\, songs\, counting activities\, and exploration of colors and shapes\, followed by a creative art activity that reinforces the theme of the day. Siblings are welcome to attend\, and caregivers are encouraged to actively participate alongside their children. \nThis recurring program takes place on Tuesdays from 9:30 am to 10:00 am on February 17 and 24; March 10\, 17\, 24\, and 31; April 7\, 14\, 21\, and 28; May 5\, 12\, 19\, and 26; June 2\, 9\, 16\, 23\, and 30; and July 7\, 2026. All sessions are held in the Main Library Meeting Room at the New Braunfels Public Library\, located at 700 E. Common St.\, New Braunfels\, Texas. \nTo help ensure a positive experience for everyone\, families are asked not to attend if a child has had a fever within the past 24 hours\, is experiencing symptoms of illness\, or has signs of a communicable condition. Arriving on time\, remaining attentive during the program\, and helping children follow basic library manners all contribute to a successful and enjoyable storytime for all participants.
URL:https://thenewbraunfelslife.com/event/preschool-storytime-at-new-braunfels-public-library/2026-03-17/
LOCATION:New Braunfels Public Library\, 700 E Common St\, New Braunfels\,\, Texas\, 78130\, United States
CATEGORIES:Kids & Family
ATTACH;FMTTYPE=image/jpeg:https://thenewbraunfelslife.com/wp-content/uploads/2026/02/preschool-storytime-at-new-braunfels-public-library.jpg
END:VEVENT
BEGIN:VEVENT
DTSTART;TZID=America/New_York:20260317T103000
DTEND;TZID=America/New_York:20260317T110000
DTSTAMP:20260423T050404
CREATED:20260122T091721Z
LAST-MODIFIED:20260407T235951Z
UID:82371-1773743400-1773745200@thenewbraunfelslife.com
SUMMARY:Toddler Time at New Braunfels Public Library
DESCRIPTION:A fun and movement-filled storytime brings young learners together at Toddler Time in New Braunfels. Held every Tuesday from 10:30 am to 11 am at the New Braunfels Public Library Main Branch\, located at 700 E Common St\, New Braunfels\, TX 78130\, the program is designed for children ages 18 months to 3 years. \nThe session includes stories\, rhymes\, and songs\, along with interactive activities such as music with shakers\, dancing with scarves\, and movement-based play. Each program ends with a short playtime\, giving children an opportunity to socialize and explore. Siblings are welcome to attend. \nCaregivers are encouraged to help create a positive experience by arriving on time\, participating alongside their child\, and supporting a respectful environment for all attendees.
URL:https://thenewbraunfelslife.com/event/toddler-time-at-new-braunfels-public-library-2/2026-03-17/
LOCATION:New Braunfels Public Library\, 700 E Common St\, New Braunfels\,\, Texas\, 78130\, United States
CATEGORIES:Kids & Family
ATTACH;FMTTYPE=image/jpeg:https://thenewbraunfelslife.com/wp-content/uploads/2026/01/toddler-time-at-new-braunfels-public-library.jpg
END:VEVENT
BEGIN:VEVENT
DTSTART;TZID=America/New_York:20260317T160000
DTEND;TZID=America/New_York:20260317T170000
DTSTAMP:20260423T050404
CREATED:20260306T004615Z
LAST-MODIFIED:20260306T004615Z
UID:83795-1773763200-1773766800@thenewbraunfelslife.com
SUMMARY:Tween Tuesday: Key Chain Decorating at New Braunfels Public Library
DESCRIPTION:A creative afternoon designed especially for kids ages 8 to 12 takes place during Tween Tuesday at the New Braunfels Public Library on Tuesday\, March 17\, 2026\, from 4 pm to 5 pm. This week’s program focuses on decorating key chains\, giving participants a chance to express their creativity while making a fun accessory to take home. \nThe program will be held in the Main Library Meeting Room at the New Braunfels Public Library\, located at 700 E. Common Street\, New Braunfels\, Texas. Registration is required\, and space is limited to 43 participants. For more information or to register\, guests can contact the library directly.
URL:https://thenewbraunfelslife.com/event/tween-tuesday-key-chain-decorating-at-new-braunfels-public-library/
LOCATION:New Braunfels Public Library\, 700 E Common St\, New Braunfels\,\, Texas\, 78130\, United States
CATEGORIES:Kids & Family
ATTACH;FMTTYPE=image/jpeg:https://thenewbraunfelslife.com/wp-content/uploads/2026/02/tween-tuesday-at-new-braunfels-public-library.jpg
END:VEVENT
BEGIN:VEVENT
DTSTART;TZID=America/New_York:20260318T093000
DTEND;TZID=America/New_York:20260318T103000
DTSTAMP:20260423T050404
CREATED:20260218T080350Z
LAST-MODIFIED:20260408T015935Z
UID:83481-1773826200-1773829800@thenewbraunfelslife.com
SUMMARY:Fischer Park Family Storytime at Fischer Park
DESCRIPTION:An outdoor storytime experience brings families together at Fischer Park Family Storytime in New Braunfels. Held every Wednesday from 9:30 am to 10:30 am at the Hilltop Pavilion in Fischer Park\, the program offers a fun and engaging setting for children of all ages. \nThe session includes stories and activities designed to encourage early literacy and a love of reading\, all while enjoying the natural surroundings of the park. Siblings are welcome to attend. \nIn the event of inclement weather\, the program may be moved to the New Braunfels Public Library Main Branch. For location updates\, call 830-221-4300.
URL:https://thenewbraunfelslife.com/event/fischer-park-family-storytime-at-fischer-park/2026-03-18/
LOCATION:Fischer Park\, 1935 Hilltop Smt Rd\, New Braunfels\, TX\, 78130\, United States
CATEGORIES:Kids & Family
ATTACH;FMTTYPE=image/jpeg:https://thenewbraunfelslife.com/wp-content/uploads/2026/02/fischer-park-family-storytime-at-fischer-park.jpg
END:VEVENT
BEGIN:VEVENT
DTSTART;TZID=America/New_York:20260318T173000
DTEND;TZID=America/New_York:20260318T190000
DTSTAMP:20260423T050404
CREATED:20260113T054012Z
LAST-MODIFIED:20260113T054012Z
UID:82082-1773855000-1773860400@thenewbraunfelslife.com
SUMMARY:Klasses In Drama at Circle Arts Theatre
DESCRIPTION:Youth performers can explore the world of theatre during Klasses In Drama\, a multi-week educational program held at Circle Arts Theatre from February 16 through May 3\, 2026. Designed for students in grades 2 through 9\, the program introduces participants to theatre fundamentals while guiding them through the full process of preparing and performing in a stage production. The first three weeks focus on theatre basics and audition preparation\, followed by auditions and seven weeks of rehearsals leading up to live performances. \nClasses and rehearsals are scheduled on Mondays from 4:30 pm to 5:45 pm or 5:45 pm to 7 pm\, and on Wednesdays from 5:30 pm to 7 pm\, with students meeting once a week for classes and one to two times per week during the rehearsal phase. The semester concludes with performances of Seussical Jr. on May 1 through May 3\, bringing beloved Dr. Seuss characters to life in a fun and energetic production. \nRegistration is currently open\, and additional details are available at CircleArtsTheatre.org. The program takes place at Circle Arts Theatre\, located at 124 Elizabeth St\, New Braunfels\, TX 78130.
URL:https://thenewbraunfelslife.com/event/klasses-in-drama-at-circle-arts-theatre/2026-03-18/
LOCATION:Circle Arts Theatre\, 124 Elizabeth Ave\, New Braunfels\, TX\, 78130\, United States
CATEGORIES:Kids & Family
ATTACH;FMTTYPE=image/jpeg:https://thenewbraunfelslife.com/wp-content/uploads/2026/01/klasses-in-drama-at-circle-arts-theatre.jpg
END:VEVENT
BEGIN:VEVENT
DTSTART;TZID=America/New_York:20260319T170000
DTEND;TZID=America/New_York:20260319T180000
DTSTAMP:20260423T050404
CREATED:20260205T025012Z
LAST-MODIFIED:20260205T025012Z
UID:82633-1773939600-1773943200@thenewbraunfelslife.com
SUMMARY:Teen Time at New Braunfels Public Library
DESCRIPTION:Teen Time is a weekly drop-in program that gives teens a relaxed place to hang out\, try different activities\, and spend time with friends at the library. Activities vary from week to week and are designed to encourage creativity\, connection\, and fun in a welcoming environment just for teens. \nThis program is open to teens ages 13 to 17 and takes place from 5 pm to 6 pm on Thursdays\, including February 19 and 26; March 5\, 12\, 19\, and 26; April 2\, 9\, 16\, 23\, and 30; and May 7\, 14\, 21\, and 28. Teen Time is held in the Teen Area at the New Braunfels Public Library main branch in New Braunfels\, Texas. Admission is free\, and no registration is required.
URL:https://thenewbraunfelslife.com/event/teen-time-at-new-braunfels-public-library/2026-03-19/
LOCATION:New Braunfels Public Library\, 700 E Common St\, New Braunfels\,\, Texas\, 78130\, United States
CATEGORIES:Kids & Family
ATTACH;FMTTYPE=image/jpeg:https://thenewbraunfelslife.com/wp-content/uploads/2026/02/teen-time-at-new-braunfels-public-library.jpg
END:VEVENT
BEGIN:VEVENT
DTSTART;TZID=America/New_York:20260320T163000
DTEND;TZID=America/New_York:20260320T173000
DTSTAMP:20260423T050404
CREATED:20260306T054922Z
LAST-MODIFIED:20260306T054922Z
UID:83883-1774024200-1774027800@thenewbraunfelslife.com
SUMMARY:Kids Fan Club: Goosebumps at New Braunfels Public Library
DESCRIPTION:A spooky-themed afternoon of fun awaits young readers during Kids Fan Club: Goosebumps at the New Braunfels Public Library on Friday\, March 20\, 2026\, from 4:30 pm to 5:30 pm. Inspired by the popular Goosebumps book series\, the event features themed crafts\, games\, and activities designed to celebrate the world of kid-friendly scares. \nThe program is designed for children ages 5 to 7 and encourages young fans of the series to explore stories and characters through hands-on activities. \nThe event will be held in the Main Library Meeting Room at the New Braunfels Public Library (Main Branch)\, located at 700 E. Common Street\, New Braunfels\, Texas. For additional details\, guests can contact the library directly.
URL:https://thenewbraunfelslife.com/event/kids-fan-club-goosebumps-at-new-braunfels-public-library/
LOCATION:New Braunfels Public Library\, 700 E Common St\, New Braunfels\,\, Texas\, 78130\, United States
CATEGORIES:Kids & Family
ATTACH;FMTTYPE=image/jpeg:https://thenewbraunfelslife.com/wp-content/uploads/2026/03/kids-fan-club-goosebumps-at-new-braunfels-public-library.jpg
END:VEVENT
BEGIN:VEVENT
DTSTART;TZID=America/New_York:20260320T170000
DTEND;TZID=America/New_York:20260320T190000
DTSTAMP:20260423T050404
CREATED:20260122T101250Z
LAST-MODIFIED:20260122T101250Z
UID:82456-1774026000-1774033200@thenewbraunfelslife.com
SUMMARY:Teen and Tween Drop-In Volunteer Hours at New Braunfels Public Library
DESCRIPTION:Teen and Tween Drop-In Volunteer Hours provide a flexible way for students to earn community service hours for school\, clubs\, or church commitments. This program allows participants to help with library projects and tasks in a casual\, supportive setting without the need to register in advance\, making it easy to attend for as much or as little time as needed. \nSessions take place from 5 pm to 6:45 pm on Friday\, February 6; February 20; March 6; March 20; and April 17\, 2026\, in the meeting room at the New Braunfels Public Library\, Main Branch\, located in New Braunfels\, Texas. The program is designed for tweens ages 8 to 12 and teens ages 13 to 17. \nThis opportunity is free to attend and is ideal for young people looking to gain volunteer experience while supporting their local library.
URL:https://thenewbraunfelslife.com/event/teen-and-tween-drop-in-volunteer-hours-at-new-braunfels-public-library-4/2026-03-20/
LOCATION:New Braunfels Public Library\, 700 E Common St\, New Braunfels\,\, Texas\, 78130\, United States
CATEGORIES:Kids & Family
ATTACH;FMTTYPE=image/jpeg:https://thenewbraunfelslife.com/wp-content/uploads/2026/01/teen-and-tween-drop-in-volunteer-hours-at-new-braunfels-public-library.jpg
END:VEVENT
BEGIN:VEVENT
DTSTART;TZID=America/New_York:20260321T100000
DTEND;TZID=America/New_York:20260321T170000
DTSTAMP:20260423T050404
CREATED:20260205T032927Z
LAST-MODIFIED:20260205T032927Z
UID:82659-1774087200-1774112400@thenewbraunfelslife.com
SUMMARY:Gruene Market Days in Gruene Historic District
DESCRIPTION:Gruene Market Days is a long-running monthly tradition that has been part of the Gruene Historic District for more than 30 years\, showcasing the work of nearly 100 artisans from across Texas. Visitors can browse a wide variety of handmade goods\, including artisan crafts\, uniquely designed home items\, and packaged Texas-made foods\, all set in one of New Braunfels’ most beloved historic areas. \nThe market takes place on the third full weekend of each month from February through November\, with an additional market held on the first weekend of December. Market hours run from 10 am to 5 pm each day. Scheduled 2026 dates include February 21–22\, March 21–22\, April 18–19\, May 16–17\, June 20–21\, July 18–19\, August 15–16\, September 19–20\, October 17–18\, November 21–22\, and December 5–6. \nAdmission and parking are free\, and guests can enjoy complimentary live entertainment while shopping. The market is located in front of Gruene Coffee Haus in the Gruene Historic District. A visit to Market Days pairs easily with exploring nearby specialty shops\, wine tasting rooms\, restaurants\, live music venues\, river activities\, and other events throughout Gruene. \nFor additional information\, call 830-832-1721 or email gruenemarketdays@gruenetexas.com.
URL:https://thenewbraunfelslife.com/event/gruene-market-days-in-gruene-historic-district-3/2026-03-21/
LOCATION:Gruene Historic District\, 1281 Gruene Rd\, New Braunfels\, TX\, 78130\, United States
CATEGORIES:Kids & Family,Shopping
ATTACH;FMTTYPE=image/jpeg:https://thenewbraunfelslife.com/wp-content/uploads/2026/02/gruene-market-days-in-gruene-historic-district.jpg
END:VEVENT
BEGIN:VEVENT
DTSTART;TZID=America/New_York:20260321T103000
DTEND;TZID=America/New_York:20260321T113000
DTSTAMP:20260423T050404
CREATED:20260122T104830Z
LAST-MODIFIED:20260122T104830Z
UID:82486-1774089000-1774092600@thenewbraunfelslife.com
SUMMARY:Family Storytime at New Braunfels Public Library
DESCRIPTION:Family Storytime offers a welcoming program for children of all ages\, with a special focus on early childhood learning through stories\, music\, and creative play. Each session features shared books\, songs\, and musical activities\, along with simple counting and exploration of colors and shapes. Storytime concludes with a hands-on craft inspired by the day’s theme\, giving families a chance to create together. \nThis program takes place on Saturdays from 10:30 am to 11:30 am on February 7\, 14\, 21\, and 28; March 7\, 14\, 21\, and 28; April 11\, 18\, and 25; and May 2\, 2026. The program is designed for young children\, but families are encouraged to attend together. \nFamily Storytime is held in the Main Library Meeting Room at the New Braunfels Public Library\, located at 700 E. Common Street\, New Braunfels\, Texas. Admission is free\, and no registration is required. For additional details\, families may contact the library directly.
URL:https://thenewbraunfelslife.com/event/family-storytime-at-new-braunfels-public-library-8/2026-03-21/
LOCATION:New Braunfels Public Library\, 700 E Common St\, New Braunfels\,\, Texas\, 78130\, United States
CATEGORIES:Kids & Family
ATTACH;FMTTYPE=image/jpeg:https://thenewbraunfelslife.com/wp-content/uploads/2026/01/family-storytime-at-new-braunfels-public-library.jpg
END:VEVENT
BEGIN:VEVENT
DTSTART;TZID=America/New_York:20260322T100000
DTEND;TZID=America/New_York:20260322T170000
DTSTAMP:20260423T050404
CREATED:20260205T032927Z
LAST-MODIFIED:20260205T032927Z
UID:82660-1774173600-1774198800@thenewbraunfelslife.com
SUMMARY:Gruene Market Days in Gruene Historic District
DESCRIPTION:Gruene Market Days is a long-running monthly tradition that has been part of the Gruene Historic District for more than 30 years\, showcasing the work of nearly 100 artisans from across Texas. Visitors can browse a wide variety of handmade goods\, including artisan crafts\, uniquely designed home items\, and packaged Texas-made foods\, all set in one of New Braunfels’ most beloved historic areas. \nThe market takes place on the third full weekend of each month from February through November\, with an additional market held on the first weekend of December. Market hours run from 10 am to 5 pm each day. Scheduled 2026 dates include February 21–22\, March 21–22\, April 18–19\, May 16–17\, June 20–21\, July 18–19\, August 15–16\, September 19–20\, October 17–18\, November 21–22\, and December 5–6. \nAdmission and parking are free\, and guests can enjoy complimentary live entertainment while shopping. The market is located in front of Gruene Coffee Haus in the Gruene Historic District. A visit to Market Days pairs easily with exploring nearby specialty shops\, wine tasting rooms\, restaurants\, live music venues\, river activities\, and other events throughout Gruene. \nFor additional information\, call 830-832-1721 or email gruenemarketdays@gruenetexas.com.
URL:https://thenewbraunfelslife.com/event/gruene-market-days-in-gruene-historic-district-3/2026-03-22/
LOCATION:Gruene Historic District\, 1281 Gruene Rd\, New Braunfels\, TX\, 78130\, United States
CATEGORIES:Kids & Family,Shopping
ATTACH;FMTTYPE=image/jpeg:https://thenewbraunfelslife.com/wp-content/uploads/2026/02/gruene-market-days-in-gruene-historic-district.jpg
END:VEVENT
END:VCALENDAR