BEGIN:VCALENDAR
VERSION:2.0
PRODID:-//The New Braunfels Life - ECPv6.15.20//NONSGML v1.0//EN
CALSCALE:GREGORIAN
METHOD:PUBLISH
X-WR-CALNAME:The New Braunfels Life
X-ORIGINAL-URL:https://thenewbraunfelslife.com
X-WR-CALDESC:Events for The New Braunfels Life
REFRESH-INTERVAL;VALUE=DURATION:PT1H
X-Robots-Tag:noindex
X-PUBLISHED-TTL:PT1H
BEGIN:VTIMEZONE
TZID:America/New_York
BEGIN:DAYLIGHT
TZOFFSETFROM:-0500
TZOFFSETTO:-0400
TZNAME:EDT
DTSTART:20250309T070000
END:DAYLIGHT
BEGIN:STANDARD
TZOFFSETFROM:-0400
TZOFFSETTO:-0500
TZNAME:EST
DTSTART:20251102T060000
END:STANDARD
BEGIN:DAYLIGHT
TZOFFSETFROM:-0500
TZOFFSETTO:-0400
TZNAME:EDT
DTSTART:20260308T070000
END:DAYLIGHT
BEGIN:STANDARD
TZOFFSETFROM:-0400
TZOFFSETTO:-0500
TZNAME:EST
DTSTART:20261101T060000
END:STANDARD
BEGIN:DAYLIGHT
TZOFFSETFROM:-0500
TZOFFSETTO:-0400
TZNAME:EDT
DTSTART:20270314T070000
END:DAYLIGHT
BEGIN:STANDARD
TZOFFSETFROM:-0400
TZOFFSETTO:-0500
TZNAME:EST
DTSTART:20271107T060000
END:STANDARD
END:VTIMEZONE
BEGIN:VEVENT
DTSTART;TZID=America/New_York:20260427T093000
DTEND;TZID=America/New_York:20260427T100000
DTSTAMP:20260422T085252
CREATED:20260122T091216Z
LAST-MODIFIED:20260408T005611Z
UID:82360-1777282200-1777284000@thenewbraunfelslife.com
SUMMARY:Baby Rhyme Time at New Braunfels Public Library
DESCRIPTION:A playful and engaging early childhood program takes place at Baby Rhyme Time in New Braunfels. Held every Monday from 9:30 am to 10 am at the New Braunfels Public Library Main Branch\, located at 700 E Common St\, New Braunfels\, TX 78130\, the session is designed especially for babies ages 12 to 18 months. \nThe program includes stories\, songs\, clapping\, and music\, followed by a short playtime that encourages interaction and early learning. Siblings are welcome to attend\, and caregivers are encouraged to participate to help create a fun and supportive environment. \nFor the health and safety of all participants\, families are asked not to attend if a child has experienced recent symptoms of illness such as fever\, vomiting\, diarrhea\, persistent cough\, or other signs of a communicable condition. Caregivers are also encouraged to arrive on time\, stay engaged during the session\, and help maintain a positive and respectful library environment for all attendees.
URL:https://thenewbraunfelslife.com/event/baby-rhyme-time-at-new-braunfels-public-library-3/2026-04-27/
LOCATION:New Braunfels Public Library\, 700 E Common St\, New Braunfels\,\, Texas\, 78130\, United States
CATEGORIES:Kids & Family
ATTACH;FMTTYPE=image/jpeg:https://thenewbraunfelslife.com/wp-content/uploads/2026/01/baby-rhyme-time-at-new-braunfels-public-library.jpg
END:VEVENT
BEGIN:VEVENT
DTSTART;TZID=America/New_York:20260427T103000
DTEND;TZID=America/New_York:20260427T110000
DTSTAMP:20260422T085252
CREATED:20260122T105648Z
LAST-MODIFIED:20260408T010130Z
UID:82505-1777285800-1777287600@thenewbraunfelslife.com
SUMMARY:Toddler Time at New Braunfels Public Library
DESCRIPTION:An interactive and energetic storytime experience takes place at Toddler Time in New Braunfels. Held every Monday from 10:30 am to 11 am at the New Braunfels Public Library Main Branch\, located at 700 E Common St\, New Braunfels\, TX 78130\, the program is designed for children ages 18 months to 3 years. \nThe session includes stories\, rhymes\, and songs\, along with hands-on activities such as music with shakers\, dancing with scarves\, and movement-based play. The program concludes with a short playtime\, giving children a chance to socialize and explore. Siblings are welcome to attend. \nFor the health and safety of all participants\, families are asked not to attend if a child has experienced recent symptoms of illness such as fever\, vomiting\, diarrhea\, persistent cough\, or other signs of a communicable condition. Caregivers are encouraged to arrive on time\, stay engaged during the program\, and help maintain a positive and respectful environment for all attendees.
URL:https://thenewbraunfelslife.com/event/toddler-time-at-new-braunfels-public-library-3/2026-04-27/
LOCATION:New Braunfels Public Library\, 700 E Common St\, New Braunfels\,\, Texas\, 78130\, United States
CATEGORIES:Kids & Family
ATTACH;FMTTYPE=image/jpeg:https://thenewbraunfelslife.com/wp-content/uploads/2026/01/toddler-time-at-new-braunfels-public-library.jpg
END:VEVENT
BEGIN:VEVENT
DTSTART;TZID=America/New_York:20260427T163000
DTEND;TZID=America/New_York:20260427T190000
DTSTAMP:20260422T085252
CREATED:20260113T054012Z
LAST-MODIFIED:20260113T054012Z
UID:82093-1777307400-1777316400@thenewbraunfelslife.com
SUMMARY:Klasses In Drama at Circle Arts Theatre
DESCRIPTION:Youth performers can explore the world of theatre during Klasses In Drama\, a multi-week educational program held at Circle Arts Theatre from February 16 through May 3\, 2026. Designed for students in grades 2 through 9\, the program introduces participants to theatre fundamentals while guiding them through the full process of preparing and performing in a stage production. The first three weeks focus on theatre basics and audition preparation\, followed by auditions and seven weeks of rehearsals leading up to live performances. \nClasses and rehearsals are scheduled on Mondays from 4:30 pm to 5:45 pm or 5:45 pm to 7 pm\, and on Wednesdays from 5:30 pm to 7 pm\, with students meeting once a week for classes and one to two times per week during the rehearsal phase. The semester concludes with performances of Seussical Jr. on May 1 through May 3\, bringing beloved Dr. Seuss characters to life in a fun and energetic production. \nRegistration is currently open\, and additional details are available at CircleArtsTheatre.org. The program takes place at Circle Arts Theatre\, located at 124 Elizabeth St\, New Braunfels\, TX 78130.
URL:https://thenewbraunfelslife.com/event/klasses-in-drama-at-circle-arts-theatre/2026-04-27/
LOCATION:Circle Arts Theatre\, 124 Elizabeth Ave\, New Braunfels\, TX\, 78130\, United States
CATEGORIES:Kids & Family
ATTACH;FMTTYPE=image/jpeg:https://thenewbraunfelslife.com/wp-content/uploads/2026/01/klasses-in-drama-at-circle-arts-theatre.jpg
END:VEVENT
BEGIN:VEVENT
DTSTART;TZID=America/New_York:20260427T170000
DTEND;TZID=America/New_York:20260427T190000
DTSTAMP:20260422T085252
CREATED:20260122T110039Z
LAST-MODIFIED:20260122T110039Z
UID:82522-1777309200-1777316400@thenewbraunfelslife.com
SUMMARY:Teen and Tween Drop-In Volunteer Hours at New Braunfels Public Library
DESCRIPTION:Teen and Tween Drop-In Volunteer Hours provide a flexible opportunity for students to earn volunteer hours for school\, clubs\, or church commitments. Participants can attend for as much or as little time as needed during each session\, and no advance sign-up is required. Activities typically support library services while allowing teens and tweens to contribute to their community in a welcoming environment. \nVolunteer hours are available on Mondays from 5:00 pm to 6:45 pm on February 9\, February 16\, February 23\, March 2\, March 9\, March 16\, March 23\, March 30\, April 6\, April 13\, April 20\, and April 27\, 2026. Sessions take place in the Children’s Room at the New Braunfels Public Library Main Branch\, located at 700 E. Common Street\, New Braunfels\, Texas. \nThis program is open to tweens ages 8–12 and teens ages 13–17. Participants should plan to arrive on time and be prepared to help as needed during their volunteer shift.
URL:https://thenewbraunfelslife.com/event/teen-and-tween-drop-in-volunteer-hours-at-new-braunfels-public-library-5/2026-04-27/
LOCATION:New Braunfels Public Library\, 700 E Common St\, New Braunfels\,\, Texas\, 78130\, United States
CATEGORIES:Kids & Family
ATTACH;FMTTYPE=image/jpeg:https://thenewbraunfelslife.com/wp-content/uploads/2026/01/teen-and-tween-drop-in-volunteer-hours-at-new-braunfels-public-library.jpg
END:VEVENT
BEGIN:VEVENT
DTSTART;VALUE=DATE:20260428
DTEND;VALUE=DATE:20260429
DTSTAMP:20260422T085252
CREATED:20260205T022302Z
LAST-MODIFIED:20260205T022302Z
UID:84416-1777334400-1777420799@thenewbraunfelslife.com
SUMMARY:Preschool Storytime at New Braunfels Public Library
DESCRIPTION:Preschool Storytime is designed for children ages 3 to 5 and focuses on building early literacy and reading readiness skills in a fun\, engaging environment. Each session includes shared stories\, songs\, counting activities\, and exploration of colors and shapes\, followed by a creative art activity that reinforces the theme of the day. Siblings are welcome to attend\, and caregivers are encouraged to actively participate alongside their children. \nThis recurring program takes place on Tuesdays from 9:30 am to 10:00 am on February 17 and 24; March 10\, 17\, 24\, and 31; April 7\, 14\, 21\, and 28; May 5\, 12\, 19\, and 26; June 2\, 9\, 16\, 23\, and 30; and July 7\, 2026. All sessions are held in the Main Library Meeting Room at the New Braunfels Public Library\, located at 700 E. Common St.\, New Braunfels\, Texas. \nTo help ensure a positive experience for everyone\, families are asked not to attend if a child has had a fever within the past 24 hours\, is experiencing symptoms of illness\, or has signs of a communicable condition. Arriving on time\, remaining attentive during the program\, and helping children follow basic library manners all contribute to a successful and enjoyable storytime for all participants.
URL:https://thenewbraunfelslife.com/event/preschool-storytime-at-new-braunfels-public-library/2026-04-28/
LOCATION:New Braunfels Public Library\, 700 E Common St\, New Braunfels\,\, Texas\, 78130\, United States
CATEGORIES:Kids & Family
ATTACH;FMTTYPE=image/jpeg:https://thenewbraunfelslife.com/wp-content/uploads/2026/02/preschool-storytime-at-new-braunfels-public-library.jpg
END:VEVENT
BEGIN:VEVENT
DTSTART;TZID=America/New_York:20260428T093000
DTEND;TZID=America/New_York:20260428T100000
DTSTAMP:20260422T085252
CREATED:20260319T072044Z
LAST-MODIFIED:20260408T010543Z
UID:84483-1777368600-1777370400@thenewbraunfelslife.com
SUMMARY:Preschool Storytime at New Braunfels Public Library
DESCRIPTION:An engaging early literacy program supports young learners at Preschool Storytime in New Braunfels. Held every Tuesday from 9:30 am to 10 am at the New Braunfels Public Library Main Branch\, located at 700 E Common St\, New Braunfels\, TX 78130\, the program is designed for children ages 3 to 5. \nThe session focuses on building reading readiness through stories\, songs\, and interactive activities that introduce letter knowledge\, phonological awareness\, and print motivation. Children will also explore counting\, colors\, and shapes\, followed by a creative art activity. Siblings are welcome to attend. \nCaregivers are encouraged to help create a positive experience by arriving on time\, participating with their child\, and supporting a respectful and attentive environment throughout the program.
URL:https://thenewbraunfelslife.com/event/garden-preschool-storytime-at-new-braunfels-public-library/2026-04-28/
LOCATION:New Braunfels Public Library\, 700 E Common St\, New Braunfels\,\, Texas\, 78130\, United States
CATEGORIES:Kids & Family
ATTACH;FMTTYPE=image/jpeg:https://thenewbraunfelslife.com/wp-content/uploads/2026/03/garden-preschool-storytime-at-new-braunfels-public-library.jpg
END:VEVENT
BEGIN:VEVENT
DTSTART;TZID=America/New_York:20260428T103000
DTEND;TZID=America/New_York:20260428T110000
DTSTAMP:20260422T085252
CREATED:20260122T091721Z
LAST-MODIFIED:20260408T000007Z
UID:82377-1777372200-1777374000@thenewbraunfelslife.com
SUMMARY:Toddler Time at New Braunfels Public Library
DESCRIPTION:A fun and movement-filled storytime brings young learners together at Toddler Time in New Braunfels. Held every Tuesday from 10:30 am to 11 am at the New Braunfels Public Library Main Branch\, located at 700 E Common St\, New Braunfels\, TX 78130\, the program is designed for children ages 18 months to 3 years. \nThe session includes stories\, rhymes\, and songs\, along with interactive activities such as music with shakers\, dancing with scarves\, and movement-based play. Each program ends with a short playtime\, giving children an opportunity to socialize and explore. Siblings are welcome to attend. \nCaregivers are encouraged to help create a positive experience by arriving on time\, participating alongside their child\, and supporting a respectful environment for all attendees.
URL:https://thenewbraunfelslife.com/event/toddler-time-at-new-braunfels-public-library-2/2026-04-28/
LOCATION:New Braunfels Public Library\, 700 E Common St\, New Braunfels\,\, Texas\, 78130\, United States
CATEGORIES:Kids & Family
ATTACH;FMTTYPE=image/jpeg:https://thenewbraunfelslife.com/wp-content/uploads/2026/01/toddler-time-at-new-braunfels-public-library.jpg
END:VEVENT
BEGIN:VEVENT
DTSTART;TZID=America/New_York:20260429T093000
DTEND;TZID=America/New_York:20260429T103000
DTSTAMP:20260422T085252
CREATED:20260218T080350Z
LAST-MODIFIED:20260408T015939Z
UID:83487-1777455000-1777458600@thenewbraunfelslife.com
SUMMARY:Fischer Park Family Storytime at Fischer Park
DESCRIPTION:An outdoor storytime experience brings families together at Fischer Park Family Storytime in New Braunfels. Held every Wednesday from 9:30 am to 10:30 am at the Hilltop Pavilion in Fischer Park\, the program offers a fun and engaging setting for children of all ages. \nThe session includes stories and activities designed to encourage early literacy and a love of reading\, all while enjoying the natural surroundings of the park. Siblings are welcome to attend. \nIn the event of inclement weather\, the program may be moved to the New Braunfels Public Library Main Branch. For location updates\, call 830-221-4300.
URL:https://thenewbraunfelslife.com/event/fischer-park-family-storytime-at-fischer-park/2026-04-29/
LOCATION:Fischer Park\, 1935 Hilltop Smt Rd\, New Braunfels\, TX\, 78130\, United States
CATEGORIES:Kids & Family
ATTACH;FMTTYPE=image/jpeg:https://thenewbraunfelslife.com/wp-content/uploads/2026/02/fischer-park-family-storytime-at-fischer-park.jpg
END:VEVENT
BEGIN:VEVENT
DTSTART;TZID=America/New_York:20260429T173000
DTEND;TZID=America/New_York:20260429T190000
DTSTAMP:20260422T085252
CREATED:20260113T054012Z
LAST-MODIFIED:20260113T054012Z
UID:82094-1777483800-1777489200@thenewbraunfelslife.com
SUMMARY:Klasses In Drama at Circle Arts Theatre
DESCRIPTION:Youth performers can explore the world of theatre during Klasses In Drama\, a multi-week educational program held at Circle Arts Theatre from February 16 through May 3\, 2026. Designed for students in grades 2 through 9\, the program introduces participants to theatre fundamentals while guiding them through the full process of preparing and performing in a stage production. The first three weeks focus on theatre basics and audition preparation\, followed by auditions and seven weeks of rehearsals leading up to live performances. \nClasses and rehearsals are scheduled on Mondays from 4:30 pm to 5:45 pm or 5:45 pm to 7 pm\, and on Wednesdays from 5:30 pm to 7 pm\, with students meeting once a week for classes and one to two times per week during the rehearsal phase. The semester concludes with performances of Seussical Jr. on May 1 through May 3\, bringing beloved Dr. Seuss characters to life in a fun and energetic production. \nRegistration is currently open\, and additional details are available at CircleArtsTheatre.org. The program takes place at Circle Arts Theatre\, located at 124 Elizabeth St\, New Braunfels\, TX 78130.
URL:https://thenewbraunfelslife.com/event/klasses-in-drama-at-circle-arts-theatre/2026-04-29/
LOCATION:Circle Arts Theatre\, 124 Elizabeth Ave\, New Braunfels\, TX\, 78130\, United States
CATEGORIES:Kids & Family
ATTACH;FMTTYPE=image/jpeg:https://thenewbraunfelslife.com/wp-content/uploads/2026/01/klasses-in-drama-at-circle-arts-theatre.jpg
END:VEVENT
BEGIN:VEVENT
DTSTART;TZID=America/New_York:20260429T180000
DTEND;TZID=America/New_York:20260429T210000
DTSTAMP:20260422T085252
CREATED:20260407T003106Z
LAST-MODIFIED:20260407T003106Z
UID:84680-1777485600-1777496400@thenewbraunfelslife.com
SUMMARY:Humpday Market at Gruene Grove
DESCRIPTION:A midweek market brings together local vendors\, live music\, and casual evening fun at the Humpday Market in Gruene. Held every Wednesday from 6 pm to 9 pm at Gruene Grove\, located at 1263 Gruene Rd\, New Braunfels\, TX 78130\, the event offers a laid-back setting to shop and unwind. \nVisitors can browse a variety of homegrown\, home-baked\, and handcrafted goods while enjoying live music\, drinks\, and food available on site. Wurst in Gruene and Rhea’s Ice Cream will be serving up eats and treats throughout the evening. Those interested in becoming a vendor can reach out for more information at curiocaravan.kay@gmail.com.
URL:https://thenewbraunfelslife.com/event/humpday-market-at-gruene-grove/2026-04-29/
LOCATION:The Gruene Grove\, 1263 Gruene Rd\, New Braunfels\, TX\, 78130\, United States
CATEGORIES:Food & Drink,Kids & Family,Music
ATTACH;FMTTYPE=image/jpeg:https://thenewbraunfelslife.com/wp-content/uploads/2026/04/humpday-market-at-gruene-grove.jpg
END:VEVENT
BEGIN:VEVENT
DTSTART;TZID=America/New_York:20260430T170000
DTEND;TZID=America/New_York:20260430T180000
DTSTAMP:20260422T085252
CREATED:20260205T025012Z
LAST-MODIFIED:20260205T025012Z
UID:82639-1777568400-1777572000@thenewbraunfelslife.com
SUMMARY:Teen Time at New Braunfels Public Library
DESCRIPTION:Teen Time is a weekly drop-in program that gives teens a relaxed place to hang out\, try different activities\, and spend time with friends at the library. Activities vary from week to week and are designed to encourage creativity\, connection\, and fun in a welcoming environment just for teens. \nThis program is open to teens ages 13 to 17 and takes place from 5 pm to 6 pm on Thursdays\, including February 19 and 26; March 5\, 12\, 19\, and 26; April 2\, 9\, 16\, 23\, and 30; and May 7\, 14\, 21\, and 28. Teen Time is held in the Teen Area at the New Braunfels Public Library main branch in New Braunfels\, Texas. Admission is free\, and no registration is required.
URL:https://thenewbraunfelslife.com/event/teen-time-at-new-braunfels-public-library/2026-04-30/
LOCATION:New Braunfels Public Library\, 700 E Common St\, New Braunfels\,\, Texas\, 78130\, United States
CATEGORIES:Kids & Family
ATTACH;FMTTYPE=image/jpeg:https://thenewbraunfelslife.com/wp-content/uploads/2026/02/teen-time-at-new-braunfels-public-library.jpg
END:VEVENT
BEGIN:VEVENT
DTSTART;TZID=America/New_York:20260501T100000
DTEND;TZID=America/New_York:20260501T110000
DTSTAMP:20260422T085252
CREATED:20260407T232511Z
LAST-MODIFIED:20260407T232511Z
UID:84990-1777629600-1777633200@thenewbraunfelslife.com
SUMMARY:Infant Massage with SJRC at New Braunfels Public Library
DESCRIPTION:A supportive and educational series for parents and caregivers takes place with Infant Massage with SJRC in New Braunfels. The four-week course begins on Friday\, April 17\, 2026\, with additional sessions on April 24 and May 1\, held from 10 am to 11 am at the New Braunfels Public Library Main Branch\, located at 700 E Common St\, New Braunfels\, TX 78130. \nLed by SJRC\, the course introduces the basics of infant massage\, helping caregivers learn techniques that support bonding\, relaxation\, and early childhood development. Designed for children ages 0 to 4\, the sessions provide a welcoming environment for families to learn and connect.
URL:https://thenewbraunfelslife.com/event/infant-massage-with-sjrc-at-new-braunfels-public-library-2/2026-05-01/
LOCATION:New Braunfels Public Library\, 700 E Common St\, New Braunfels\,\, Texas\, 78130\, United States
CATEGORIES:Kids & Family
ATTACH;FMTTYPE=image/jpeg:https://thenewbraunfelslife.com/wp-content/uploads/2026/03/infant-massage-with-sjrc-at-new-braunfels-public-library.jpg
END:VEVENT
BEGIN:VEVENT
DTSTART;TZID=America/New_York:20260502T103000
DTEND;TZID=America/New_York:20260502T113000
DTSTAMP:20260422T085252
CREATED:20260122T104830Z
LAST-MODIFIED:20260122T104830Z
UID:82491-1777717800-1777721400@thenewbraunfelslife.com
SUMMARY:Family Storytime at New Braunfels Public Library
DESCRIPTION:Family Storytime offers a welcoming program for children of all ages\, with a special focus on early childhood learning through stories\, music\, and creative play. Each session features shared books\, songs\, and musical activities\, along with simple counting and exploration of colors and shapes. Storytime concludes with a hands-on craft inspired by the day’s theme\, giving families a chance to create together. \nThis program takes place on Saturdays from 10:30 am to 11:30 am on February 7\, 14\, 21\, and 28; March 7\, 14\, 21\, and 28; April 11\, 18\, and 25; and May 2\, 2026. The program is designed for young children\, but families are encouraged to attend together. \nFamily Storytime is held in the Main Library Meeting Room at the New Braunfels Public Library\, located at 700 E. Common Street\, New Braunfels\, Texas. Admission is free\, and no registration is required. For additional details\, families may contact the library directly.
URL:https://thenewbraunfelslife.com/event/family-storytime-at-new-braunfels-public-library-8/2026-05-02/
LOCATION:New Braunfels Public Library\, 700 E Common St\, New Braunfels\,\, Texas\, 78130\, United States
CATEGORIES:Kids & Family
ATTACH;FMTTYPE=image/jpeg:https://thenewbraunfelslife.com/wp-content/uploads/2026/01/family-storytime-at-new-braunfels-public-library.jpg
END:VEVENT
BEGIN:VEVENT
DTSTART;TZID=America/New_York:20260502T170000
DTEND;TZID=America/New_York:20260502T200000
DTSTAMP:20260422T085252
CREATED:20260406T235847Z
LAST-MODIFIED:20260406T235847Z
UID:84651-1777741200-1777752000@thenewbraunfelslife.com
SUMMARY:Spring Playday Series 2026 at Comal County Sheriff’s Posse
DESCRIPTION:A season of competitive and family-friendly equestrian events returns with the Comal County Sheriff Posse Spring Playday Series 2026. Held at 3826 Morningside Drive\, New Braunfels\, TX 78132\, the series is scheduled for March 14\, April 18\, May 2\, June 13\, and July 11\, with rain dates to be announced. \nEach event day features a variety of competitions including Mystery\, Pole Bending\, Straight Away Barrels\, and Cloverleaf Barrels. Books open at 3 pm and close at 4:30 pm\, with the show beginning at 5 pm. Entry is $60 per participant with a $10 office charge. Riders are grouped by age as of January 1\, including Pee Wee (7 and under\, with a handler over 18)\, Intermediate (8–13)\, Juniors (14–18)\, Seniors (19–45)\, and Super Seniors (46 and over). \nParticipants must earn 10 work points and attend at least four of the five shows to qualify for series-end prizes. A negative Coggins test is required for all horses\, with no exceptions.
URL:https://thenewbraunfelslife.com/event/spring-playday-series-2026-at-comal-county-sheriffs-posse/2026-05-02/
LOCATION:Comal County Sheriff’s Posse\, 3826 Morningside Drive\, New Braunfels\, TX\, 78132\, United States
CATEGORIES:Kids & Family
ATTACH;FMTTYPE=image/jpeg:https://thenewbraunfelslife.com/wp-content/uploads/2026/04/spring-playday-series-2026-at-comal-county-sheriffs-posse.jpg
END:VEVENT
END:VCALENDAR