BEGIN:VCALENDAR
VERSION:2.0
PRODID:-//The New Braunfels Life - ECPv6.15.20//NONSGML v1.0//EN
CALSCALE:GREGORIAN
METHOD:PUBLISH
X-WR-CALNAME:The New Braunfels Life
X-ORIGINAL-URL:https://thenewbraunfelslife.com
X-WR-CALDESC:Events for The New Braunfels Life
REFRESH-INTERVAL;VALUE=DURATION:PT1H
X-Robots-Tag:noindex
X-PUBLISHED-TTL:PT1H
BEGIN:VTIMEZONE
TZID:America/New_York
BEGIN:DAYLIGHT
TZOFFSETFROM:-0500
TZOFFSETTO:-0400
TZNAME:EDT
DTSTART:20250309T070000
END:DAYLIGHT
BEGIN:STANDARD
TZOFFSETFROM:-0400
TZOFFSETTO:-0500
TZNAME:EST
DTSTART:20251102T060000
END:STANDARD
BEGIN:DAYLIGHT
TZOFFSETFROM:-0500
TZOFFSETTO:-0400
TZNAME:EDT
DTSTART:20260308T070000
END:DAYLIGHT
BEGIN:STANDARD
TZOFFSETFROM:-0400
TZOFFSETTO:-0500
TZNAME:EST
DTSTART:20261101T060000
END:STANDARD
BEGIN:DAYLIGHT
TZOFFSETFROM:-0500
TZOFFSETTO:-0400
TZNAME:EDT
DTSTART:20270314T070000
END:DAYLIGHT
BEGIN:STANDARD
TZOFFSETFROM:-0400
TZOFFSETTO:-0500
TZNAME:EST
DTSTART:20271107T060000
END:STANDARD
END:VTIMEZONE
BEGIN:VEVENT
DTSTART;TZID=America/New_York:20260426T153000
DTEND;TZID=America/New_York:20260426T163000
DTSTAMP:20260420T123124
CREATED:20260205T033548Z
LAST-MODIFIED:20260408T005349Z
UID:82682-1777217400-1777221000@thenewbraunfelslife.com
SUMMARY:Literary Flow – Yoga for Book Lovers at New Braunfels Public Library
DESCRIPTION:Literary Flow – Yoga for Book Lovers offers adults a calm and restorative yoga experience in a welcoming library setting. Led by instructor Kaislie Shepherd\, this class features a gentle yoga flow designed for all levels of ability\, focusing on relaxation\, mindful movement\, and stress relief. Participants are encouraged to bring their own yoga mats and enjoy an hour of quiet movement surrounded by the library environment.\n\n\nSessions are scheduled monthly on Sundays from 3:30 pm to 4:30 pm\, with dates including February 22\, March 22\, April 26\, May 31\, June 28\, July 26\, August 23\, September 27\, October 25\, November 22\, and December 27\, 2026. Classes take place in the Main Library Meeting Room at the New Braunfels Public Library\, located in New Braunfels\, Texas.\n\n\nThis program is intended for adults ages 18 and up and provides a peaceful opportunity to unwind\, stretch\, and connect with the library community in a unique and relaxing way.
URL:https://thenewbraunfelslife.com/event/literary-flow-yoga-for-book-lovers-at-new-braunfels-public-library/2026-04-26/
LOCATION:New Braunfels Public Library\, 700 E Common St\, New Braunfels\,\, Texas\, 78130\, United States
CATEGORIES:Health & Wellness
ATTACH;FMTTYPE=image/jpeg:https://thenewbraunfelslife.com/wp-content/uploads/2026/02/literary-flow-yoga-for-book-lovers-at-new-braunfels-public-library.jpg
END:VEVENT
BEGIN:VEVENT
DTSTART;TZID=America/New_York:20260531T153000
DTEND;TZID=America/New_York:20260531T163000
DTSTAMP:20260420T123124
CREATED:20260205T033548Z
LAST-MODIFIED:20260205T033548Z
UID:85029-1780241400-1780245000@thenewbraunfelslife.com
SUMMARY:Literary Flow – Yoga for Book Lovers at New Braunfels Public Library
DESCRIPTION:Literary Flow – Yoga for Book Lovers offers adults a calm and restorative yoga experience in a welcoming library setting. Led by instructor Kaislie Shepherd\, this class features a gentle yoga flow designed for all levels of ability\, focusing on relaxation\, mindful movement\, and stress relief. Participants are encouraged to bring their own yoga mats and enjoy an hour of quiet movement surrounded by the library environment.\n\n\nSessions are scheduled monthly on Sundays from 3:30 pm to 4:30 pm\, with dates including February 22\, March 22\, April 26\, May 31\, June 28\, July 26\, August 23\, September 27\, October 25\, November 22\, and December 27\, 2026. Classes take place in the Main Library Meeting Room at the New Braunfels Public Library\, located in New Braunfels\, Texas.\n\n\nThis program is intended for adults ages 18 and up and provides a peaceful opportunity to unwind\, stretch\, and connect with the library community in a unique and relaxing way.
URL:https://thenewbraunfelslife.com/event/literary-flow-yoga-for-book-lovers-at-new-braunfels-public-library/2026-05-31/
LOCATION:New Braunfels Public Library\, 700 E Common St\, New Braunfels\,\, Texas\, 78130\, United States
CATEGORIES:Health & Wellness
ATTACH;FMTTYPE=image/jpeg:https://thenewbraunfelslife.com/wp-content/uploads/2026/02/literary-flow-yoga-for-book-lovers-at-new-braunfels-public-library.jpg
END:VEVENT
BEGIN:VEVENT
DTSTART;TZID=America/New_York:20260628T153000
DTEND;TZID=America/New_York:20260628T163000
DTSTAMP:20260420T123124
CREATED:20260205T033548Z
LAST-MODIFIED:20260408T005350Z
UID:82684-1782660600-1782664200@thenewbraunfelslife.com
SUMMARY:Literary Flow – Yoga for Book Lovers at New Braunfels Public Library
DESCRIPTION:Literary Flow – Yoga for Book Lovers offers adults a calm and restorative yoga experience in a welcoming library setting. Led by instructor Kaislie Shepherd\, this class features a gentle yoga flow designed for all levels of ability\, focusing on relaxation\, mindful movement\, and stress relief. Participants are encouraged to bring their own yoga mats and enjoy an hour of quiet movement surrounded by the library environment.\n\n\nSessions are scheduled monthly on Sundays from 3:30 pm to 4:30 pm\, with dates including February 22\, March 22\, April 26\, May 31\, June 28\, July 26\, August 23\, September 27\, October 25\, November 22\, and December 27\, 2026. Classes take place in the Main Library Meeting Room at the New Braunfels Public Library\, located in New Braunfels\, Texas.\n\n\nThis program is intended for adults ages 18 and up and provides a peaceful opportunity to unwind\, stretch\, and connect with the library community in a unique and relaxing way.
URL:https://thenewbraunfelslife.com/event/literary-flow-yoga-for-book-lovers-at-new-braunfels-public-library/2026-06-28/
LOCATION:New Braunfels Public Library\, 700 E Common St\, New Braunfels\,\, Texas\, 78130\, United States
CATEGORIES:Health & Wellness
ATTACH;FMTTYPE=image/jpeg:https://thenewbraunfelslife.com/wp-content/uploads/2026/02/literary-flow-yoga-for-book-lovers-at-new-braunfels-public-library.jpg
END:VEVENT
BEGIN:VEVENT
DTSTART;TZID=America/New_York:20260726T153000
DTEND;TZID=America/New_York:20260726T163000
DTSTAMP:20260420T123124
CREATED:20260205T033548Z
LAST-MODIFIED:20260408T005351Z
UID:82685-1785079800-1785083400@thenewbraunfelslife.com
SUMMARY:Literary Flow – Yoga for Book Lovers at New Braunfels Public Library
DESCRIPTION:Literary Flow – Yoga for Book Lovers offers adults a calm and restorative yoga experience in a welcoming library setting. Led by instructor Kaislie Shepherd\, this class features a gentle yoga flow designed for all levels of ability\, focusing on relaxation\, mindful movement\, and stress relief. Participants are encouraged to bring their own yoga mats and enjoy an hour of quiet movement surrounded by the library environment.\n\n\nSessions are scheduled monthly on Sundays from 3:30 pm to 4:30 pm\, with dates including February 22\, March 22\, April 26\, May 31\, June 28\, July 26\, August 23\, September 27\, October 25\, November 22\, and December 27\, 2026. Classes take place in the Main Library Meeting Room at the New Braunfels Public Library\, located in New Braunfels\, Texas.\n\n\nThis program is intended for adults ages 18 and up and provides a peaceful opportunity to unwind\, stretch\, and connect with the library community in a unique and relaxing way.
URL:https://thenewbraunfelslife.com/event/literary-flow-yoga-for-book-lovers-at-new-braunfels-public-library/2026-07-26/
LOCATION:New Braunfels Public Library\, 700 E Common St\, New Braunfels\,\, Texas\, 78130\, United States
CATEGORIES:Health & Wellness
ATTACH;FMTTYPE=image/jpeg:https://thenewbraunfelslife.com/wp-content/uploads/2026/02/literary-flow-yoga-for-book-lovers-at-new-braunfels-public-library.jpg
END:VEVENT
BEGIN:VEVENT
DTSTART;TZID=America/New_York:20260823T153000
DTEND;TZID=America/New_York:20260823T163000
DTSTAMP:20260420T123124
CREATED:20260205T033548Z
LAST-MODIFIED:20260408T005352Z
UID:82686-1787499000-1787502600@thenewbraunfelslife.com
SUMMARY:Literary Flow – Yoga for Book Lovers at New Braunfels Public Library
DESCRIPTION:Literary Flow – Yoga for Book Lovers offers adults a calm and restorative yoga experience in a welcoming library setting. Led by instructor Kaislie Shepherd\, this class features a gentle yoga flow designed for all levels of ability\, focusing on relaxation\, mindful movement\, and stress relief. Participants are encouraged to bring their own yoga mats and enjoy an hour of quiet movement surrounded by the library environment.\n\n\nSessions are scheduled monthly on Sundays from 3:30 pm to 4:30 pm\, with dates including February 22\, March 22\, April 26\, May 31\, June 28\, July 26\, August 23\, September 27\, October 25\, November 22\, and December 27\, 2026. Classes take place in the Main Library Meeting Room at the New Braunfels Public Library\, located in New Braunfels\, Texas.\n\n\nThis program is intended for adults ages 18 and up and provides a peaceful opportunity to unwind\, stretch\, and connect with the library community in a unique and relaxing way.
URL:https://thenewbraunfelslife.com/event/literary-flow-yoga-for-book-lovers-at-new-braunfels-public-library/2026-08-23/
LOCATION:New Braunfels Public Library\, 700 E Common St\, New Braunfels\,\, Texas\, 78130\, United States
CATEGORIES:Health & Wellness
ATTACH;FMTTYPE=image/jpeg:https://thenewbraunfelslife.com/wp-content/uploads/2026/02/literary-flow-yoga-for-book-lovers-at-new-braunfels-public-library.jpg
END:VEVENT
BEGIN:VEVENT
DTSTART;TZID=America/New_York:20260927T153000
DTEND;TZID=America/New_York:20260927T163000
DTSTAMP:20260420T123124
CREATED:20260205T033548Z
LAST-MODIFIED:20260408T005352Z
UID:82687-1790523000-1790526600@thenewbraunfelslife.com
SUMMARY:Literary Flow – Yoga for Book Lovers at New Braunfels Public Library
DESCRIPTION:Literary Flow – Yoga for Book Lovers offers adults a calm and restorative yoga experience in a welcoming library setting. Led by instructor Kaislie Shepherd\, this class features a gentle yoga flow designed for all levels of ability\, focusing on relaxation\, mindful movement\, and stress relief. Participants are encouraged to bring their own yoga mats and enjoy an hour of quiet movement surrounded by the library environment.\n\n\nSessions are scheduled monthly on Sundays from 3:30 pm to 4:30 pm\, with dates including February 22\, March 22\, April 26\, May 31\, June 28\, July 26\, August 23\, September 27\, October 25\, November 22\, and December 27\, 2026. Classes take place in the Main Library Meeting Room at the New Braunfels Public Library\, located in New Braunfels\, Texas.\n\n\nThis program is intended for adults ages 18 and up and provides a peaceful opportunity to unwind\, stretch\, and connect with the library community in a unique and relaxing way.
URL:https://thenewbraunfelslife.com/event/literary-flow-yoga-for-book-lovers-at-new-braunfels-public-library/2026-09-27/
LOCATION:New Braunfels Public Library\, 700 E Common St\, New Braunfels\,\, Texas\, 78130\, United States
CATEGORIES:Health & Wellness
ATTACH;FMTTYPE=image/jpeg:https://thenewbraunfelslife.com/wp-content/uploads/2026/02/literary-flow-yoga-for-book-lovers-at-new-braunfels-public-library.jpg
END:VEVENT
BEGIN:VEVENT
DTSTART;TZID=America/New_York:20261025T153000
DTEND;TZID=America/New_York:20261025T163000
DTSTAMP:20260420T123124
CREATED:20260205T033548Z
LAST-MODIFIED:20260408T005353Z
UID:82688-1792942200-1792945800@thenewbraunfelslife.com
SUMMARY:Literary Flow – Yoga for Book Lovers at New Braunfels Public Library
DESCRIPTION:Literary Flow – Yoga for Book Lovers offers adults a calm and restorative yoga experience in a welcoming library setting. Led by instructor Kaislie Shepherd\, this class features a gentle yoga flow designed for all levels of ability\, focusing on relaxation\, mindful movement\, and stress relief. Participants are encouraged to bring their own yoga mats and enjoy an hour of quiet movement surrounded by the library environment.\n\n\nSessions are scheduled monthly on Sundays from 3:30 pm to 4:30 pm\, with dates including February 22\, March 22\, April 26\, May 31\, June 28\, July 26\, August 23\, September 27\, October 25\, November 22\, and December 27\, 2026. Classes take place in the Main Library Meeting Room at the New Braunfels Public Library\, located in New Braunfels\, Texas.\n\n\nThis program is intended for adults ages 18 and up and provides a peaceful opportunity to unwind\, stretch\, and connect with the library community in a unique and relaxing way.
URL:https://thenewbraunfelslife.com/event/literary-flow-yoga-for-book-lovers-at-new-braunfels-public-library/2026-10-25/
LOCATION:New Braunfels Public Library\, 700 E Common St\, New Braunfels\,\, Texas\, 78130\, United States
CATEGORIES:Health & Wellness
ATTACH;FMTTYPE=image/jpeg:https://thenewbraunfelslife.com/wp-content/uploads/2026/02/literary-flow-yoga-for-book-lovers-at-new-braunfels-public-library.jpg
END:VEVENT
BEGIN:VEVENT
DTSTART;TZID=America/New_York:20261122T153000
DTEND;TZID=America/New_York:20261122T163000
DTSTAMP:20260420T123124
CREATED:20260205T033548Z
LAST-MODIFIED:20260408T005354Z
UID:82689-1795361400-1795365000@thenewbraunfelslife.com
SUMMARY:Literary Flow – Yoga for Book Lovers at New Braunfels Public Library
DESCRIPTION:Literary Flow – Yoga for Book Lovers offers adults a calm and restorative yoga experience in a welcoming library setting. Led by instructor Kaislie Shepherd\, this class features a gentle yoga flow designed for all levels of ability\, focusing on relaxation\, mindful movement\, and stress relief. Participants are encouraged to bring their own yoga mats and enjoy an hour of quiet movement surrounded by the library environment.\n\n\nSessions are scheduled monthly on Sundays from 3:30 pm to 4:30 pm\, with dates including February 22\, March 22\, April 26\, May 31\, June 28\, July 26\, August 23\, September 27\, October 25\, November 22\, and December 27\, 2026. Classes take place in the Main Library Meeting Room at the New Braunfels Public Library\, located in New Braunfels\, Texas.\n\n\nThis program is intended for adults ages 18 and up and provides a peaceful opportunity to unwind\, stretch\, and connect with the library community in a unique and relaxing way.
URL:https://thenewbraunfelslife.com/event/literary-flow-yoga-for-book-lovers-at-new-braunfels-public-library/2026-11-22/
LOCATION:New Braunfels Public Library\, 700 E Common St\, New Braunfels\,\, Texas\, 78130\, United States
CATEGORIES:Health & Wellness
ATTACH;FMTTYPE=image/jpeg:https://thenewbraunfelslife.com/wp-content/uploads/2026/02/literary-flow-yoga-for-book-lovers-at-new-braunfels-public-library.jpg
END:VEVENT
BEGIN:VEVENT
DTSTART;TZID=America/New_York:20261227T153000
DTEND;TZID=America/New_York:20261227T163000
DTSTAMP:20260420T123124
CREATED:20260205T033548Z
LAST-MODIFIED:20260408T005405Z
UID:82690-1798385400-1798389000@thenewbraunfelslife.com
SUMMARY:Literary Flow – Yoga for Book Lovers at New Braunfels Public Library
DESCRIPTION:Literary Flow – Yoga for Book Lovers offers adults a calm and restorative yoga experience in a welcoming library setting. Led by instructor Kaislie Shepherd\, this class features a gentle yoga flow designed for all levels of ability\, focusing on relaxation\, mindful movement\, and stress relief. Participants are encouraged to bring their own yoga mats and enjoy an hour of quiet movement surrounded by the library environment.\n\n\nSessions are scheduled monthly on Sundays from 3:30 pm to 4:30 pm\, with dates including February 22\, March 22\, April 26\, May 31\, June 28\, July 26\, August 23\, September 27\, October 25\, November 22\, and December 27\, 2026. Classes take place in the Main Library Meeting Room at the New Braunfels Public Library\, located in New Braunfels\, Texas.\n\n\nThis program is intended for adults ages 18 and up and provides a peaceful opportunity to unwind\, stretch\, and connect with the library community in a unique and relaxing way.
URL:https://thenewbraunfelslife.com/event/literary-flow-yoga-for-book-lovers-at-new-braunfels-public-library/2026-12-27/
LOCATION:New Braunfels Public Library\, 700 E Common St\, New Braunfels\,\, Texas\, 78130\, United States
CATEGORIES:Health & Wellness
ATTACH;FMTTYPE=image/jpeg:https://thenewbraunfelslife.com/wp-content/uploads/2026/02/literary-flow-yoga-for-book-lovers-at-new-braunfels-public-library.jpg
END:VEVENT
END:VCALENDAR