BEGIN:VCALENDAR
VERSION:2.0
PRODID:-//The New Braunfels Life - ECPv6.15.20//NONSGML v1.0//EN
CALSCALE:GREGORIAN
METHOD:PUBLISH
X-WR-CALNAME:The New Braunfels Life
X-ORIGINAL-URL:https://thenewbraunfelslife.com
X-WR-CALDESC:Events for The New Braunfels Life
REFRESH-INTERVAL;VALUE=DURATION:PT1H
X-Robots-Tag:noindex
X-PUBLISHED-TTL:PT1H
BEGIN:VTIMEZONE
TZID:America/New_York
BEGIN:DAYLIGHT
TZOFFSETFROM:-0500
TZOFFSETTO:-0400
TZNAME:EDT
DTSTART:20250309T070000
END:DAYLIGHT
BEGIN:STANDARD
TZOFFSETFROM:-0400
TZOFFSETTO:-0500
TZNAME:EST
DTSTART:20251102T060000
END:STANDARD
BEGIN:DAYLIGHT
TZOFFSETFROM:-0500
TZOFFSETTO:-0400
TZNAME:EDT
DTSTART:20260308T070000
END:DAYLIGHT
BEGIN:STANDARD
TZOFFSETFROM:-0400
TZOFFSETTO:-0500
TZNAME:EST
DTSTART:20261101T060000
END:STANDARD
BEGIN:DAYLIGHT
TZOFFSETFROM:-0500
TZOFFSETTO:-0400
TZNAME:EDT
DTSTART:20270314T070000
END:DAYLIGHT
BEGIN:STANDARD
TZOFFSETFROM:-0400
TZOFFSETTO:-0500
TZNAME:EST
DTSTART:20271107T060000
END:STANDARD
END:VTIMEZONE
BEGIN:VEVENT
DTSTART;VALUE=DATE:20260328
DTEND;VALUE=DATE:20260404
DTSTAMP:20260421T005948
CREATED:20260306T071533Z
LAST-MODIFIED:20260306T071533Z
UID:83968-1774656000-1775260799@thenewbraunfelslife.com
SUMMARY:Ultimate Easter Egg Hunt in Downtown New Braunfels and Gruene
DESCRIPTION:Families can take part in a citywide spring celebration during the Ultimate Easter Egg Hunt taking place from March 28 through April 3\, 2026\, throughout Downtown New Braunfels and Historic Gruene. The event features a digital egg hunt that encourages participants to visit local businesses and locations while collecting points for raffle entries. \nParticipants earn raffle tickets based on the points they collect\, meaning even a visit to just a few locations provides a chance to win prizes. Registration is $50 and includes 10 starting points\, with an additional 5 bonus points available for those who register before March 22. \nThe event begins with a free kickoff celebration on Saturday\, March 28 at 10 am featuring an age-leveled Easter egg hunt on the lawn of First Protestant Church\, located at 172 W. Coll Street\, New Braunfels\, Texas. The hunt continues throughout the week and concludes with a finale event on Friday\, April 3 from 5 pm to 8 pm in downtown New Braunfels. The closing celebration coincides with the Downtown Association’s First Friday event and will take place in front of The Local and in the UPS parking lot\, where participants can join the festivities and submit their entries for the raffle drawing.
URL:https://thenewbraunfelslife.com/event/ultimate-easter-egg-hunt-in-downtown-new-braunfels-and-gruene/
LOCATION:Downtown New Braunfels\, 263 Main Plaza\, New Braunfels\, TX\, 78130\, United States
CATEGORIES:Holiday,Kids & Family
ATTACH;FMTTYPE=image/jpeg:https://thenewbraunfelslife.com/wp-content/uploads/2026/03/ultimate-easter-egg-hunt-in-downtown-new-braunfels-and-gruene.jpg
END:VEVENT
BEGIN:VEVENT
DTSTART;TZID=America/New_York:20260328T210000
DTEND;TZID=America/New_York:20260329T010000
DTSTAMP:20260421T005948
CREATED:20260219T064850Z
LAST-MODIFIED:20260219T064850Z
UID:83593-1774731600-1774746000@thenewbraunfelslife.com
SUMMARY:Radio Journey at Watering Hole Saloon
DESCRIPTION:An evening dedicated to the iconic sound of Journey takes the stage at Watering Hole Saloon as Radio Journey performs live on March 28 from 9 pm to 1 am. Featuring the band’s biggest hits and fan favorites\, the performance brings soaring vocals\, classic rock energy\, and plenty of sing-along moments for longtime fans. \nA $101 cash cover charge will be collected at the door. Watering Hole Saloon is located in New Braunfels\, Texas. For additional details\, guests can contact the venue directly.
URL:https://thenewbraunfelslife.com/event/radio-journey-at-watering-hole-saloon/
LOCATION:Watering Hole Saloon\, 1390 McQueeney Rd\, New Braunfels\, TX\, 78130\, United States
CATEGORIES:Music
ATTACH;FMTTYPE=image/jpeg:https://thenewbraunfelslife.com/wp-content/uploads/2026/02/radio-journey-at-watering-hole-saloon.jpg
END:VEVENT
BEGIN:VEVENT
DTSTART;TZID=America/New_York:20260329T113000
DTEND;TZID=America/New_York:20260329T143000
DTSTAMP:20260421T005948
CREATED:20260306T073137Z
LAST-MODIFIED:20260306T073137Z
UID:83976-1774783800-1774794600@thenewbraunfelslife.com
SUMMARY:Aaron Stephens at Gruene Hall
DESCRIPTION:Live music fills the late morning at Gruene Hall as Aaron Stephens performs on March 29 from 11:30 am to 2:30 pm. Set inside Texas’ oldest continually operating dance hall\, the performance offers a relaxed opportunity to enjoy live music in one of New Braunfels’ most iconic venues. \nAdmission is free for this event. Gruene Hall is located at 1281 Gruene Rd\, New Braunfels\, Texas 78130. For additional details\, guests can contact the venue at 830-629-5077.
URL:https://thenewbraunfelslife.com/event/aaron-stephens-at-gruene-hall/
LOCATION:Gruene Hall\, 1281 Gruene Rd\, New Braunfels\, TX\, 78130\, United States
CATEGORIES:Music
ATTACH;FMTTYPE=image/jpeg:https://thenewbraunfelslife.com/wp-content/uploads/2026/03/aaron-stephens-at-gruene-hall.jpg
END:VEVENT
BEGIN:VEVENT
DTSTART;TZID=America/New_York:20260329T120000
DTEND;TZID=America/New_York:20260329T170000
DTSTAMP:20260421T005948
CREATED:20260205T071028Z
LAST-MODIFIED:20260205T071028Z
UID:84191-1774785600-1774803600@thenewbraunfelslife.com
SUMMARY:Sunday at the Vineyard at Dry Comal Creek Vineyards
DESCRIPTION:A weekly afternoon of wine\, food\, and live music takes place during Sunday at the Vineyard at Dry Comal Creek Vineyards. Guests can enjoy Uncle’s Family Kitchen pizzas and charcuterie served from noon to 5 pm while relaxing in the scenic vineyard setting. \nLive music by Owen Stroud will be featured from 2 pm to 5 pm\, creating a laid-back atmosphere for visitors spending the afternoon at the winery. \nReservations for wine tastings are strongly encouraged. Dry Comal Creek Vineyards is located at 1741 Herbelin Road\, New Braunfels\, Texas. For additional details\, guests can contact the venue directly.
URL:https://thenewbraunfelslife.com/event/sunday-at-the-vineyard-at-dry-comal-creek-vineyards/2026-03-29/
LOCATION:Dry Comal Creek Vineyards\, 1741 Herbelin Rd.\, New Braunfels\, TX\, 78132\, United States
CATEGORIES:Food & Drink,Music
END:VEVENT
BEGIN:VEVENT
DTSTART;TZID=America/New_York:20260329T120000
DTEND;TZID=America/New_York:20260329T220000
DTSTAMP:20260421T005948
CREATED:20260312T015913Z
LAST-MODIFIED:20260312T015913Z
UID:84009-1774785600-1774821600@thenewbraunfelslife.com
SUMMARY:Live Music at The Gruene Grove
DESCRIPTION:A full afternoon and evening of live music takes place at The Gruene Grove on March 29. The Tiffiny Dawn Band performs from 12 pm to 3 pm\, followed by the “Gig’n for Gilliam” benefit show beginning at 4 pm and continuing through 10 pm. \nThe Gruene Grove offers a relaxed outdoor setting in the heart of the historic Gruene district\, providing a welcoming place to enjoy live music and community events. \nThe Gruene Grove is located at 1263 Gruene Road\, New Braunfels\, Texas. For additional details\, guests can contact the venue directly.
URL:https://thenewbraunfelslife.com/event/live-music-at-the-gruene-grove-12/
LOCATION:The Gruene Grove\, 1263 Gruene Rd\, New Braunfels\, TX\, 78130\, United States
CATEGORIES:Music
ATTACH;FMTTYPE=image/jpeg:https://thenewbraunfelslife.com/wp-content/uploads/2026/01/live-music-at-the-gruene-grove.jpg
END:VEVENT
BEGIN:VEVENT
DTSTART;TZID=America/New_York:20260329T130000
DTEND;TZID=America/New_York:20260329T160000
DTSTAMP:20260421T005948
CREATED:20260205T074522Z
LAST-MODIFIED:20260205T074522Z
UID:82755-1774789200-1774800000@thenewbraunfelslife.com
SUMMARY:Spring Release Pick Up Party at Dry Comal Creek Vineyards
DESCRIPTION:Dry Comal Creek Vineyards will host a Spring Release Pick Up Party on Sunday\, March 29\, 2026\, from 1 pm to 4 pm\, celebrating the arrival of new wine releases in a relaxed Hill Country setting. The afternoon features live music by Phil Luna along with food from FM31\, offering guests a chance to enjoy wine\, music\, and local flavors together. \nThe event takes place at Dry Comal Creek Vineyards\, located at 1741 Herbelin Road in New Braunfels\, Texas. Space is limited\, and reservations are required. Guests are encouraged to call or text 830-500-3048 or email info@drycomalcreekvineyards.com to reserve their spot and for additional details.
URL:https://thenewbraunfelslife.com/event/spring-release-pick-up-party-at-dry-comal-creek-vineyards-2/
LOCATION:Dry Comal Creek Vineyards\, 1741 Herbelin Rd.\, New Braunfels\, TX\, 78132\, United States
CATEGORIES:Food & Drink,Music
ATTACH;FMTTYPE=image/jpeg:https://thenewbraunfelslife.com/wp-content/uploads/2026/02/spring-release-pick-up-party-at-dry-comal-creek-vineyards.jpg
END:VEVENT
BEGIN:VEVENT
DTSTART;TZID=America/New_York:20260329T140000
DTEND;TZID=America/New_York:20260329T160000
DTSTAMP:20260421T005948
CREATED:20260206T033352Z
LAST-MODIFIED:20260206T033352Z
UID:82866-1774792800-1774800000@thenewbraunfelslife.com
SUMMARY:Texas A&M Singing Cadets at Brauntex Performing Arts Theatre
DESCRIPTION:The renowned Texas A&M Singing Cadets bring their celebrated sound and tradition to New Braunfels for an afternoon performance at the Brauntex Performing Arts Theatre. Known worldwide as “The Voice of Aggieland\,” this elite men’s chorus is recognized for its rich harmonies\, precision\, and unmistakable Aggie spirit. \nThe concert takes place on Sunday\, March 29\, from 2 pm to 4 pm and features a dynamic program that blends patriotic anthems\, beloved classics\, heartfelt ballads\, and moments of lighthearted humor. Each performance reflects the group’s long-standing commitment to musical excellence and the traditions of Texas A&M University\, creating an engaging experience for audiences of all ages. \nThe event is sponsored by Fischer’s Neighborhood Markets\, and $2 from every ticket sold will benefit the Comal County A&M Club’s scholarship fund. The performance will be held at the Brauntex Performing Arts Theatre\, located at 290 West San Antonio Street in New Braunfels\, Texas. Tickets and additional information are available through the Brauntex box office and official website.
URL:https://thenewbraunfelslife.com/event/texas-am-singing-cadets-at-brauntex-performing-arts-theatre/
LOCATION:The Brauntex Performing Arts Theatre\, 290 W San Antonio St\, New Braunfels\, TX\, 78130\, United States
CATEGORIES:Music
ATTACH;FMTTYPE=image/jpeg:https://thenewbraunfelslife.com/wp-content/uploads/2026/02/texas-a-m-singing-cadets-at-brauntex-performing-arts-theatre.jpg
END:VEVENT
BEGIN:VEVENT
DTSTART;TZID=America/New_York:20260329T140000
DTEND;TZID=America/New_York:20260329T170000
DTSTAMP:20260421T005948
CREATED:20260219T081221Z
LAST-MODIFIED:20260219T081221Z
UID:83643-1774792800-1774803600@thenewbraunfelslife.com
SUMMARY:Bo Brumble & Garrett Mann at The Grapevine in Gruene
DESCRIPTION:An afternoon of live music takes the stage at The Grapevine in Gruene as Bo Brumble & Garrett Mann perform on March 29 from 2 pm to 5 pm. Set in the heart of the historic Gruene district\, the venue provides a relaxed and welcoming atmosphere to enjoy an engaging performance. \nAdmission is free for this event. The Grapevine in Gruene is located in New Braunfels\, Texas. For additional details\, guests can contact the venue directly.
URL:https://thenewbraunfelslife.com/event/bo-brumble-garrett-mann-at-the-grapevine-in-gruene/
LOCATION:The Grapevine in Gruene\, 1612 Hunter Rd\, New Braunfels\, TX\, 78130\, United States
CATEGORIES:Music
ATTACH;FMTTYPE=image/jpeg:https://thenewbraunfelslife.com/wp-content/uploads/2026/02/bo-brumble-and-garrett-mann-at-the-grapevine-in-gruene.jpg
END:VEVENT
BEGIN:VEVENT
DTSTART;TZID=America/New_York:20260329T140000
DTEND;TZID=America/New_York:20260329T170000
DTSTAMP:20260421T005948
CREATED:20260306T021650Z
LAST-MODIFIED:20260306T021650Z
UID:83823-1774792800-1774803600@thenewbraunfelslife.com
SUMMARY:Dachshund Races at Krause’s Cafe
DESCRIPTION:One of Krause’s Cafe’s most popular traditions returns with the 2026 Dachshund Race Series\, kicking off on March 29 from 2 pm to 5 pm. The family-friendly event features spirited races starring dachshunds as they compete for top spots and the chance to qualify for the race finals scheduled for December 6. Additional race dates in the series include April 19\, September 13\, October 4\, and November 1. \nDoors open at 1 pm\, with races beginning at 2 pm. Medals will be awarded to race winners as well as the best-dressed dachshund. Guests are also encouraged to bring food and supply donations to benefit the Humane Society of the New Braunfels Area. \nTickets are $7 for guests ages 5 and up. Racer registration is $15 per dog and includes two tickets for the owners. Only dogs competing in the races will be permitted entry. These races are held for family fun and entertainment purposes only\, and no refunds will be issued. A 20% gratuity will be added to all checks. \nKrause’s Cafe is located at 148 S. Castell Avenue\, New Braunfels\, Texas. For racer registration or additional information\, guests can email Katlyn@KrausesCafe.com.
URL:https://thenewbraunfelslife.com/event/dachshund-races-at-krauses-cafe-2/2026-03-29/
LOCATION:Krause’s Café\, 148 S Castell Ave\, New Braunfels\, TX\, 78130\, United States
CATEGORIES:Kids & Family
ATTACH;FMTTYPE=image/jpeg:https://thenewbraunfelslife.com/wp-content/uploads/2026/03/dachshund-races-at-krauses-cafe.jpg
END:VEVENT
BEGIN:VEVENT
DTSTART;TZID=America/New_York:20260329T150000
DTEND;TZID=America/New_York:20260329T180000
DTSTAMP:20260421T005948
CREATED:20260219T065110Z
LAST-MODIFIED:20260219T065110Z
UID:83595-1774796400-1774807200@thenewbraunfelslife.com
SUMMARY:Texas Rimshot Band at Watering Hole Saloon
DESCRIPTION:An afternoon of live country music comes to Watering Hole Saloon as the Texas Rimshot Band performs on March 29 from 3 pm to 6 pm. With a sound rooted in traditional country rhythms and dancehall favorites\, the band delivers a lively set perfect for spending a relaxed Sunday afternoon with friends. \nThere is no cover charge for this event. Watering Hole Saloon is located in New Braunfels\, Texas. For additional details\, guests can contact the venue directly.
URL:https://thenewbraunfelslife.com/event/texas-rimshot-band-at-watering-hole-saloon/
LOCATION:Watering Hole Saloon\, 1390 McQueeney Rd\, New Braunfels\, TX\, 78130\, United States
CATEGORIES:Music
ATTACH;FMTTYPE=image/jpeg:https://thenewbraunfelslife.com/wp-content/uploads/2026/02/texas-rimshot-band-at-watering-hole-saloon.jpg
END:VEVENT
BEGIN:VEVENT
DTSTART;TZID=America/New_York:20260329T150000
DTEND;TZID=America/New_York:20260329T180000
DTSTAMP:20260421T005948
CREATED:20260306T073345Z
LAST-MODIFIED:20260306T073345Z
UID:83978-1774796400-1774807200@thenewbraunfelslife.com
SUMMARY:Jesse Stratton Band at Gruene Hall
DESCRIPTION:An afternoon of live music continues at Gruene Hall as the Jesse Stratton Band performs on March 29 from 3 pm to 6 pm. Set inside Texas’ oldest continually operating dance hall\, the performance offers a lively setting to enjoy great music in one of New Braunfels’ most iconic venues. \nAdmission is free for this event. Gruene Hall is located at 1281 Gruene Rd\, New Braunfels\, Texas 78130. For additional details\, guests can contact the venue at 830-629-5077.
URL:https://thenewbraunfelslife.com/event/jesse-stratton-band-at-gruene-hall-3/
LOCATION:Gruene Hall\, 1281 Gruene Rd\, New Braunfels\, TX\, 78130\, United States
CATEGORIES:Music
ATTACH;FMTTYPE=image/jpeg:https://thenewbraunfelslife.com/wp-content/uploads/2026/01/jesse-stratton-band-at-gruene-hall.jpg
END:VEVENT
BEGIN:VEVENT
DTSTART;TZID=America/New_York:20260329T160000
DTEND;TZID=America/New_York:20260329T180000
DTSTAMP:20260421T005948
CREATED:20260206T025215Z
LAST-MODIFIED:20260206T025215Z
UID:82844-1774800000-1774807200@thenewbraunfelslife.com
SUMMARY:Terri Hendrix and Lloyd Maines at The Redbird Listening Room
DESCRIPTION:A thoughtful afternoon of songwriting and musical storytelling takes shape as Terri Hendrix and Lloyd Maines share the stage at The Redbird Listening Room. Known for their deep roots in Texas music\, the duo brings a rich blend of heartfelt lyrics\, seasoned musicianship\, and behind-the-scenes stories that shine in an intimate listening-room setting. \nThe performance is scheduled for Sunday\, March 29\, 2026\, from 4 pm to approximately 6 pm\, with doors opening 30 minutes before showtime. Reserved seating tickets are $40\, plus applicable processing and service fees. The Redbird Listening Room is located at 1260 Elliot Knox Blvd\, New Braunfels\, Texas 78130. \nRamblers\, sodas\, coffee\, and charcuterie plates from Huisache Grill will be available for purchase. Guests may bring their own beverages for a $10 fee per group.
URL:https://thenewbraunfelslife.com/event/terri-hendrix-and-lloyd-maines-at-the-redbird-listening-room/
LOCATION:The Redbird Listening Room\, 1260 FM306 Suite D\, New Braunfels\, TX\, 78130\, United States
CATEGORIES:Music
ATTACH;FMTTYPE=image/jpeg:https://thenewbraunfelslife.com/wp-content/uploads/2026/02/terri-hendrix-and-lloyd-maines-at-the-redbird-listening-room.jpg
END:VEVENT
BEGIN:VEVENT
DTSTART;TZID=America/New_York:20260329T183000
DTEND;TZID=America/New_York:20260329T213000
DTSTAMP:20260421T005948
CREATED:20260306T073636Z
LAST-MODIFIED:20260306T073636Z
UID:83979-1774809000-1774819800@thenewbraunfelslife.com
SUMMARY:Andi Holleman & The Highroad at Gruene Hall
DESCRIPTION:An evening of live music takes the stage at Gruene Hall as Andi Holleman & The Highroad perform on March 29 from 6:30 pm to 9:30 pm. Set inside Texas’ oldest continually operating dance hall\, the performance offers a lively atmosphere to enjoy great music in one of New Braunfels’ most iconic venues. \nAdmission is free for this event. Gruene Hall is located at 1281 Gruene Rd\, New Braunfels\, Texas 78130. For additional details\, guests can contact the venue at 830-629-5077.
URL:https://thenewbraunfelslife.com/event/andi-holleman-the-highroad-at-gruene-hall-3/
LOCATION:Gruene Hall\, 1281 Gruene Rd\, New Braunfels\, TX\, 78130\, United States
CATEGORIES:Music
ATTACH;FMTTYPE=image/jpeg:https://thenewbraunfelslife.com/wp-content/uploads/2026/03/andi-holleman-and-the-highroad-at-gruene-hall.jpg
END:VEVENT
END:VCALENDAR