BEGIN:VCALENDAR
VERSION:2.0
PRODID:-//The New Braunfels Life - ECPv6.15.20//NONSGML v1.0//EN
CALSCALE:GREGORIAN
METHOD:PUBLISH
X-WR-CALNAME:The New Braunfels Life
X-ORIGINAL-URL:https://thenewbraunfelslife.com
X-WR-CALDESC:Events for The New Braunfels Life
REFRESH-INTERVAL;VALUE=DURATION:PT1H
X-Robots-Tag:noindex
X-PUBLISHED-TTL:PT1H
BEGIN:VTIMEZONE
TZID:America/New_York
BEGIN:DAYLIGHT
TZOFFSETFROM:-0500
TZOFFSETTO:-0400
TZNAME:EDT
DTSTART:20250309T070000
END:DAYLIGHT
BEGIN:STANDARD
TZOFFSETFROM:-0400
TZOFFSETTO:-0500
TZNAME:EST
DTSTART:20251102T060000
END:STANDARD
BEGIN:DAYLIGHT
TZOFFSETFROM:-0500
TZOFFSETTO:-0400
TZNAME:EDT
DTSTART:20260308T070000
END:DAYLIGHT
BEGIN:STANDARD
TZOFFSETFROM:-0400
TZOFFSETTO:-0500
TZNAME:EST
DTSTART:20261101T060000
END:STANDARD
BEGIN:DAYLIGHT
TZOFFSETFROM:-0500
TZOFFSETTO:-0400
TZNAME:EDT
DTSTART:20270314T070000
END:DAYLIGHT
BEGIN:STANDARD
TZOFFSETFROM:-0400
TZOFFSETTO:-0500
TZNAME:EST
DTSTART:20271107T060000
END:STANDARD
END:VTIMEZONE
BEGIN:VEVENT
DTSTART;VALUE=DATE:20260328
DTEND;VALUE=DATE:20260404
DTSTAMP:20260424T095121
CREATED:20260306T071533Z
LAST-MODIFIED:20260306T071533Z
UID:83968-1774656000-1775260799@thenewbraunfelslife.com
SUMMARY:Ultimate Easter Egg Hunt in Downtown New Braunfels and Gruene
DESCRIPTION:Families can take part in a citywide spring celebration during the Ultimate Easter Egg Hunt taking place from March 28 through April 3\, 2026\, throughout Downtown New Braunfels and Historic Gruene. The event features a digital egg hunt that encourages participants to visit local businesses and locations while collecting points for raffle entries. \nParticipants earn raffle tickets based on the points they collect\, meaning even a visit to just a few locations provides a chance to win prizes. Registration is $50 and includes 10 starting points\, with an additional 5 bonus points available for those who register before March 22. \nThe event begins with a free kickoff celebration on Saturday\, March 28 at 10 am featuring an age-leveled Easter egg hunt on the lawn of First Protestant Church\, located at 172 W. Coll Street\, New Braunfels\, Texas. The hunt continues throughout the week and concludes with a finale event on Friday\, April 3 from 5 pm to 8 pm in downtown New Braunfels. The closing celebration coincides with the Downtown Association’s First Friday event and will take place in front of The Local and in the UPS parking lot\, where participants can join the festivities and submit their entries for the raffle drawing.
URL:https://thenewbraunfelslife.com/event/ultimate-easter-egg-hunt-in-downtown-new-braunfels-and-gruene/
LOCATION:Downtown New Braunfels\, 263 Main Plaza\, New Braunfels\, TX\, 78130\, United States
CATEGORIES:Holiday,Kids & Family
ATTACH;FMTTYPE=image/jpeg:https://thenewbraunfelslife.com/wp-content/uploads/2026/03/ultimate-easter-egg-hunt-in-downtown-new-braunfels-and-gruene.jpg
END:VEVENT
BEGIN:VEVENT
DTSTART;VALUE=DATE:20260331
DTEND;VALUE=DATE:20260401
DTSTAMP:20260424T095121
CREATED:20260205T022302Z
LAST-MODIFIED:20260205T022302Z
UID:84412-1774915200-1775001599@thenewbraunfelslife.com
SUMMARY:Preschool Storytime at New Braunfels Public Library
DESCRIPTION:Preschool Storytime is designed for children ages 3 to 5 and focuses on building early literacy and reading readiness skills in a fun\, engaging environment. Each session includes shared stories\, songs\, counting activities\, and exploration of colors and shapes\, followed by a creative art activity that reinforces the theme of the day. Siblings are welcome to attend\, and caregivers are encouraged to actively participate alongside their children. \nThis recurring program takes place on Tuesdays from 9:30 am to 10:00 am on February 17 and 24; March 10\, 17\, 24\, and 31; April 7\, 14\, 21\, and 28; May 5\, 12\, 19\, and 26; June 2\, 9\, 16\, 23\, and 30; and July 7\, 2026. All sessions are held in the Main Library Meeting Room at the New Braunfels Public Library\, located at 700 E. Common St.\, New Braunfels\, Texas. \nTo help ensure a positive experience for everyone\, families are asked not to attend if a child has had a fever within the past 24 hours\, is experiencing symptoms of illness\, or has signs of a communicable condition. Arriving on time\, remaining attentive during the program\, and helping children follow basic library manners all contribute to a successful and enjoyable storytime for all participants.
URL:https://thenewbraunfelslife.com/event/preschool-storytime-at-new-braunfels-public-library/2026-03-31/
LOCATION:New Braunfels Public Library\, 700 E Common St\, New Braunfels\,\, Texas\, 78130\, United States
CATEGORIES:Kids & Family
ATTACH;FMTTYPE=image/jpeg:https://thenewbraunfelslife.com/wp-content/uploads/2026/02/preschool-storytime-at-new-braunfels-public-library.jpg
END:VEVENT
BEGIN:VEVENT
DTSTART;TZID=America/New_York:20260331T103000
DTEND;TZID=America/New_York:20260331T110000
DTSTAMP:20260424T095121
CREATED:20260122T091721Z
LAST-MODIFIED:20260407T235952Z
UID:82373-1774953000-1774954800@thenewbraunfelslife.com
SUMMARY:Toddler Time at New Braunfels Public Library
DESCRIPTION:A fun and movement-filled storytime brings young learners together at Toddler Time in New Braunfels. Held every Tuesday from 10:30 am to 11 am at the New Braunfels Public Library Main Branch\, located at 700 E Common St\, New Braunfels\, TX 78130\, the program is designed for children ages 18 months to 3 years. \nThe session includes stories\, rhymes\, and songs\, along with interactive activities such as music with shakers\, dancing with scarves\, and movement-based play. Each program ends with a short playtime\, giving children an opportunity to socialize and explore. Siblings are welcome to attend. \nCaregivers are encouraged to help create a positive experience by arriving on time\, participating alongside their child\, and supporting a respectful environment for all attendees.
URL:https://thenewbraunfelslife.com/event/toddler-time-at-new-braunfels-public-library-2/2026-03-31/
LOCATION:New Braunfels Public Library\, 700 E Common St\, New Braunfels\,\, Texas\, 78130\, United States
CATEGORIES:Kids & Family
ATTACH;FMTTYPE=image/jpeg:https://thenewbraunfelslife.com/wp-content/uploads/2026/01/toddler-time-at-new-braunfels-public-library.jpg
END:VEVENT
END:VCALENDAR