BEGIN:VCALENDAR
VERSION:2.0
PRODID:-//The New Braunfels Life - ECPv6.15.20//NONSGML v1.0//EN
CALSCALE:GREGORIAN
METHOD:PUBLISH
X-ORIGINAL-URL:https://thenewbraunfelslife.com
X-WR-CALDESC:Events for The New Braunfels Life
REFRESH-INTERVAL;VALUE=DURATION:PT1H
X-Robots-Tag:noindex
X-PUBLISHED-TTL:PT1H
BEGIN:VTIMEZONE
TZID:America/New_York
BEGIN:DAYLIGHT
TZOFFSETFROM:-0500
TZOFFSETTO:-0400
TZNAME:EDT
DTSTART:20250309T070000
END:DAYLIGHT
BEGIN:STANDARD
TZOFFSETFROM:-0400
TZOFFSETTO:-0500
TZNAME:EST
DTSTART:20251102T060000
END:STANDARD
BEGIN:DAYLIGHT
TZOFFSETFROM:-0500
TZOFFSETTO:-0400
TZNAME:EDT
DTSTART:20260308T070000
END:DAYLIGHT
BEGIN:STANDARD
TZOFFSETFROM:-0400
TZOFFSETTO:-0500
TZNAME:EST
DTSTART:20261101T060000
END:STANDARD
BEGIN:DAYLIGHT
TZOFFSETFROM:-0500
TZOFFSETTO:-0400
TZNAME:EDT
DTSTART:20270314T070000
END:DAYLIGHT
BEGIN:STANDARD
TZOFFSETFROM:-0400
TZOFFSETTO:-0500
TZNAME:EST
DTSTART:20271107T060000
END:STANDARD
END:VTIMEZONE
BEGIN:VEVENT
DTSTART;TZID=America/New_York:20260424T100000
DTEND;TZID=America/New_York:20260424T110000
DTSTAMP:20260424T054259
CREATED:20260407T232511Z
LAST-MODIFIED:20260407T232511Z
UID:84989-1777024800-1777028400@thenewbraunfelslife.com
SUMMARY:Infant Massage with SJRC at New Braunfels Public Library
DESCRIPTION:A supportive and educational series for parents and caregivers takes place with Infant Massage with SJRC in New Braunfels. The four-week course begins on Friday\, April 17\, 2026\, with additional sessions on April 24 and May 1\, held from 10 am to 11 am at the New Braunfels Public Library Main Branch\, located at 700 E Common St\, New Braunfels\, TX 78130. \nLed by SJRC\, the course introduces the basics of infant massage\, helping caregivers learn techniques that support bonding\, relaxation\, and early childhood development. Designed for children ages 0 to 4\, the sessions provide a welcoming environment for families to learn and connect.
URL:https://thenewbraunfelslife.com/event/infant-massage-with-sjrc-at-new-braunfels-public-library-2/2026-04-24/
LOCATION:New Braunfels Public Library\, 700 E Common St\, New Braunfels\,\, Texas\, 78130\, United States
CATEGORIES:Kids & Family
ATTACH;FMTTYPE=image/jpeg:https://thenewbraunfelslife.com/wp-content/uploads/2026/03/infant-massage-with-sjrc-at-new-braunfels-public-library.jpg
END:VEVENT
BEGIN:VEVENT
DTSTART;TZID=America/New_York:20260424T150000
DTEND;TZID=America/New_York:20260424T163000
DTSTAMP:20260424T054259
CREATED:20260407T062242Z
LAST-MODIFIED:20260407T062242Z
UID:84880-1777042800-1777048200@thenewbraunfelslife.com
SUMMARY:Mommy & Me Mini Sessions at Gilded Barn House
DESCRIPTION:A golden-hour photography experience offers a chance to capture special moments at Mommy & Me Mini Sessions in New Braunfels. The sessions will take place on April 24 at the Gilded Barn House\, providing a scenic backdrop for portraits. \nEach session lasts 20 minutes and is priced at $150\, with a limited availability of five time slots scheduled at 3 pm\, 3:20 pm\, 3:40 pm\, 4 pm\, and 4:20 pm. The sessions are ideal for families\, couples\, maternity\, or senior portraits\, creating a relaxed setting for capturing meaningful photos. \nAdvance booking is required\, and additional details can be found at https://unscriptedphotographers.com/b/4teR4z7GJtRZXU.
URL:https://thenewbraunfelslife.com/event/mommy-me-mini-sessions-at-gilded-barn-house/
LOCATION:TX
CATEGORIES:Kids & Family
ATTACH;FMTTYPE=image/jpeg:https://thenewbraunfelslife.com/wp-content/uploads/2026/04/mommy-and-me-mini-sessions-at-gilded-barn-house.jpg
END:VEVENT
BEGIN:VEVENT
DTSTART;TZID=America/New_York:20260424T160000
DTEND;TZID=America/New_York:20260424T173000
DTSTAMP:20260424T054259
CREATED:20260218T090031Z
LAST-MODIFIED:20260218T090031Z
UID:83532-1777046400-1777051800@thenewbraunfelslife.com
SUMMARY:Teen & Tween Video Game Club at New Braunfels Public Library
DESCRIPTION:The Teen & Tween Video Game Club offers a fun\, social space for young gamers to connect\, compete\, and explore new titles together. This in-person program takes place in the Main Library Meeting Room at the New Braunfels Public Library (Main Branch) on Friday\, March 13\, 2026; March 27\, 2026; April 10\, 2026; and April 24\, 2026\, from 4:00 pm to 5:30 pm. \nDesigned for teens ages 13–17 and tweens ages 8–12\, the club provides an opportunity to enjoy friendly competition and cooperative play in a welcoming library setting. Whether participants are seasoned players or just getting started\, the focus is on having fun and building community through gaming. \nThe New Braunfels Public Library (Main Branch) is located at 700 E. Common St.\, New Braunfels\, TX 78130. For additional information\, please contact the library at 830-221-4300.
URL:https://thenewbraunfelslife.com/event/teen-tween-video-game-club-at-new-braunfels-public-library-2/2026-04-24/
LOCATION:New Braunfels Public Library\, 700 E Common St\, New Braunfels\,\, Texas\, 78130\, United States
CATEGORIES:Kids & Family
ATTACH;FMTTYPE=image/jpeg:https://thenewbraunfelslife.com/wp-content/uploads/2026/02/teen-and-tween-video-game-club-at-new-braunfels-public-library.jpg
END:VEVENT
END:VCALENDAR