BEGIN:VCALENDAR
VERSION:2.0
PRODID:-//The New Braunfels Life - ECPv6.15.20//NONSGML v1.0//EN
CALSCALE:GREGORIAN
METHOD:PUBLISH
X-WR-CALNAME:The New Braunfels Life
X-ORIGINAL-URL:https://thenewbraunfelslife.com
X-WR-CALDESC:Events for The New Braunfels Life
REFRESH-INTERVAL;VALUE=DURATION:PT1H
X-Robots-Tag:noindex
X-PUBLISHED-TTL:PT1H
BEGIN:VTIMEZONE
TZID:America/New_York
BEGIN:DAYLIGHT
TZOFFSETFROM:-0500
TZOFFSETTO:-0400
TZNAME:EDT
DTSTART:20250309T070000
END:DAYLIGHT
BEGIN:STANDARD
TZOFFSETFROM:-0400
TZOFFSETTO:-0500
TZNAME:EST
DTSTART:20251102T060000
END:STANDARD
BEGIN:DAYLIGHT
TZOFFSETFROM:-0500
TZOFFSETTO:-0400
TZNAME:EDT
DTSTART:20260308T070000
END:DAYLIGHT
BEGIN:STANDARD
TZOFFSETFROM:-0400
TZOFFSETTO:-0500
TZNAME:EST
DTSTART:20261101T060000
END:STANDARD
BEGIN:DAYLIGHT
TZOFFSETFROM:-0500
TZOFFSETTO:-0400
TZNAME:EDT
DTSTART:20270314T070000
END:DAYLIGHT
BEGIN:STANDARD
TZOFFSETFROM:-0400
TZOFFSETTO:-0500
TZNAME:EST
DTSTART:20271107T060000
END:STANDARD
END:VTIMEZONE
BEGIN:VEVENT
DTSTART;TZID=America/New_York:20260423T083000
DTEND;TZID=America/New_York:20260423T113000
DTSTAMP:20260421T025531
CREATED:20260407T075918Z
LAST-MODIFIED:20260407T075918Z
UID:84944-1776933000-1776943800@thenewbraunfelslife.com
SUMMARY:KCHC Tour to New Braunfels
DESCRIPTION:A day trip exploring local history and culture is planned with the KCHC Tour to New Braunfels on April 23\, departing at 8:30 am. Participants will meet at the Boerne Library at 8:15 am before forming carpools for the trip.\n\n\nThe tour includes a visit to the Sophienburg Museum and Archives\, offering insight into the lives of early Texas German settlers\, followed by lunch at Krause’s Cafe & Biergarten. The outing provides a mix of education\, history\, and social connection in a relaxed group setting.\n\n\nRSVP is requested in advance by contacting Nalga Mebane at 281-639-7800 or via email at nmebane@gmail.com.
URL:https://thenewbraunfelslife.com/event/kchc-tour-to-new-braunfels/
LOCATION:Sophienburg Museum & Archives\, 401 W. Coll St\,\, New Braunfels\, TX\, 78130\, United States
CATEGORIES:General
ATTACH;FMTTYPE=image/jpeg:https://thenewbraunfelslife.com/wp-content/uploads/2026/04/kchc-tour-to-new-braunfels.jpg
END:VEVENT
BEGIN:VEVENT
DTSTART;TZID=America/New_York:20260520T090000
DTEND;TZID=America/New_York:20260520T103000
DTSTAMP:20260421T025531
CREATED:20260306T024630Z
LAST-MODIFIED:20260413T231108Z
UID:83841-1779267600-1779273000@thenewbraunfelslife.com
SUMMARY:Kaffeeklatsch at the Sophienburg Museum and Archives
DESCRIPTION:A relaxed morning of coffee\, conversation\, and creativity takes place during Kaffeeklatsch on the third Wednesday of each month from January through September\, from 9 am to 10:30 am. Inspired by the German tradition of gathering over coffee\, the event invites guests to enjoy a sweet treat while connecting with friends and creating a simple craft together.\n\n\nThe March session features crepe paper baskets with flowers\, offering participants a hands-on craft to work on while visiting and enjoying the welcoming atmosphere. Kaffeeklatsch is held on the third Wednesday of each month from January through September\, with each gathering featuring a different seasonal craft.\n\n\n2026 dates include January 21\, February 18\, March 18\, April 15\, May 20\, June 17\, July 15\, August 19\, and September 16\, all taking place from 9 am to 10:30 am.\n\n\nAdmission is $20 per person. The event is held in the Emmie Seele Faust Library on the grounds of the Sophienburg Museum and Archives\, located at 401 W. Coll Street\, New Braunfels\, Texas 78130. For additional details or to RSVP\, guests can contact the Sophienburg Museum and Archives directly.
URL:https://thenewbraunfelslife.com/event/kaffeeklatsch-at-the-sophienburg-museum-and-archives/2026-05-20/
LOCATION:Sophienburg Museum & Archives\, 401 W. Coll St\,\, New Braunfels\, TX\, 78130\, United States
CATEGORIES:Arts & Culture,Food & Drink
ATTACH;FMTTYPE=image/jpeg:https://thenewbraunfelslife.com/wp-content/uploads/2026/03/kaffeeklatsch-at-the-sophienburg-museum-and-archives.jpg
END:VEVENT
BEGIN:VEVENT
DTSTART;TZID=America/New_York:20260617T090000
DTEND;TZID=America/New_York:20260617T103000
DTSTAMP:20260421T025531
CREATED:20260306T024630Z
LAST-MODIFIED:20260413T231109Z
UID:83842-1781686800-1781692200@thenewbraunfelslife.com
SUMMARY:Kaffeeklatsch at the Sophienburg Museum and Archives
DESCRIPTION:A relaxed morning of coffee\, conversation\, and creativity takes place during Kaffeeklatsch on the third Wednesday of each month from January through September\, from 9 am to 10:30 am. Inspired by the German tradition of gathering over coffee\, the event invites guests to enjoy a sweet treat while connecting with friends and creating a simple craft together.\n\n\nThe March session features crepe paper baskets with flowers\, offering participants a hands-on craft to work on while visiting and enjoying the welcoming atmosphere. Kaffeeklatsch is held on the third Wednesday of each month from January through September\, with each gathering featuring a different seasonal craft.\n\n\n2026 dates include January 21\, February 18\, March 18\, April 15\, May 20\, June 17\, July 15\, August 19\, and September 16\, all taking place from 9 am to 10:30 am.\n\n\nAdmission is $20 per person. The event is held in the Emmie Seele Faust Library on the grounds of the Sophienburg Museum and Archives\, located at 401 W. Coll Street\, New Braunfels\, Texas 78130. For additional details or to RSVP\, guests can contact the Sophienburg Museum and Archives directly.
URL:https://thenewbraunfelslife.com/event/kaffeeklatsch-at-the-sophienburg-museum-and-archives/2026-06-17/
LOCATION:Sophienburg Museum & Archives\, 401 W. Coll St\,\, New Braunfels\, TX\, 78130\, United States
CATEGORIES:Arts & Culture,Food & Drink
ATTACH;FMTTYPE=image/jpeg:https://thenewbraunfelslife.com/wp-content/uploads/2026/03/kaffeeklatsch-at-the-sophienburg-museum-and-archives.jpg
END:VEVENT
BEGIN:VEVENT
DTSTART;TZID=America/New_York:20260715T090000
DTEND;TZID=America/New_York:20260715T103000
DTSTAMP:20260421T025531
CREATED:20260306T024630Z
LAST-MODIFIED:20260413T231110Z
UID:83843-1784106000-1784111400@thenewbraunfelslife.com
SUMMARY:Kaffeeklatsch at the Sophienburg Museum and Archives
DESCRIPTION:A relaxed morning of coffee\, conversation\, and creativity takes place during Kaffeeklatsch on the third Wednesday of each month from January through September\, from 9 am to 10:30 am. Inspired by the German tradition of gathering over coffee\, the event invites guests to enjoy a sweet treat while connecting with friends and creating a simple craft together.\n\n\nThe March session features crepe paper baskets with flowers\, offering participants a hands-on craft to work on while visiting and enjoying the welcoming atmosphere. Kaffeeklatsch is held on the third Wednesday of each month from January through September\, with each gathering featuring a different seasonal craft.\n\n\n2026 dates include January 21\, February 18\, March 18\, April 15\, May 20\, June 17\, July 15\, August 19\, and September 16\, all taking place from 9 am to 10:30 am.\n\n\nAdmission is $20 per person. The event is held in the Emmie Seele Faust Library on the grounds of the Sophienburg Museum and Archives\, located at 401 W. Coll Street\, New Braunfels\, Texas 78130. For additional details or to RSVP\, guests can contact the Sophienburg Museum and Archives directly.
URL:https://thenewbraunfelslife.com/event/kaffeeklatsch-at-the-sophienburg-museum-and-archives/2026-07-15/
LOCATION:Sophienburg Museum & Archives\, 401 W. Coll St\,\, New Braunfels\, TX\, 78130\, United States
CATEGORIES:Arts & Culture,Food & Drink
ATTACH;FMTTYPE=image/jpeg:https://thenewbraunfelslife.com/wp-content/uploads/2026/03/kaffeeklatsch-at-the-sophienburg-museum-and-archives.jpg
END:VEVENT
BEGIN:VEVENT
DTSTART;TZID=America/New_York:20260819T090000
DTEND;TZID=America/New_York:20260819T103000
DTSTAMP:20260421T025531
CREATED:20260306T024630Z
LAST-MODIFIED:20260413T231110Z
UID:83844-1787130000-1787135400@thenewbraunfelslife.com
SUMMARY:Kaffeeklatsch at the Sophienburg Museum and Archives
DESCRIPTION:A relaxed morning of coffee\, conversation\, and creativity takes place during Kaffeeklatsch on the third Wednesday of each month from January through September\, from 9 am to 10:30 am. Inspired by the German tradition of gathering over coffee\, the event invites guests to enjoy a sweet treat while connecting with friends and creating a simple craft together.\n\n\nThe March session features crepe paper baskets with flowers\, offering participants a hands-on craft to work on while visiting and enjoying the welcoming atmosphere. Kaffeeklatsch is held on the third Wednesday of each month from January through September\, with each gathering featuring a different seasonal craft.\n\n\n2026 dates include January 21\, February 18\, March 18\, April 15\, May 20\, June 17\, July 15\, August 19\, and September 16\, all taking place from 9 am to 10:30 am.\n\n\nAdmission is $20 per person. The event is held in the Emmie Seele Faust Library on the grounds of the Sophienburg Museum and Archives\, located at 401 W. Coll Street\, New Braunfels\, Texas 78130. For additional details or to RSVP\, guests can contact the Sophienburg Museum and Archives directly.
URL:https://thenewbraunfelslife.com/event/kaffeeklatsch-at-the-sophienburg-museum-and-archives/2026-08-19/
LOCATION:Sophienburg Museum & Archives\, 401 W. Coll St\,\, New Braunfels\, TX\, 78130\, United States
CATEGORIES:Arts & Culture,Food & Drink
ATTACH;FMTTYPE=image/jpeg:https://thenewbraunfelslife.com/wp-content/uploads/2026/03/kaffeeklatsch-at-the-sophienburg-museum-and-archives.jpg
END:VEVENT
BEGIN:VEVENT
DTSTART;TZID=America/New_York:20260916T090000
DTEND;TZID=America/New_York:20260916T103000
DTSTAMP:20260421T025531
CREATED:20260306T024630Z
LAST-MODIFIED:20260413T231111Z
UID:83845-1789549200-1789554600@thenewbraunfelslife.com
SUMMARY:Kaffeeklatsch at the Sophienburg Museum and Archives
DESCRIPTION:A relaxed morning of coffee\, conversation\, and creativity takes place during Kaffeeklatsch on the third Wednesday of each month from January through September\, from 9 am to 10:30 am. Inspired by the German tradition of gathering over coffee\, the event invites guests to enjoy a sweet treat while connecting with friends and creating a simple craft together.\n\n\nThe March session features crepe paper baskets with flowers\, offering participants a hands-on craft to work on while visiting and enjoying the welcoming atmosphere. Kaffeeklatsch is held on the third Wednesday of each month from January through September\, with each gathering featuring a different seasonal craft.\n\n\n2026 dates include January 21\, February 18\, March 18\, April 15\, May 20\, June 17\, July 15\, August 19\, and September 16\, all taking place from 9 am to 10:30 am.\n\n\nAdmission is $20 per person. The event is held in the Emmie Seele Faust Library on the grounds of the Sophienburg Museum and Archives\, located at 401 W. Coll Street\, New Braunfels\, Texas 78130. For additional details or to RSVP\, guests can contact the Sophienburg Museum and Archives directly.
URL:https://thenewbraunfelslife.com/event/kaffeeklatsch-at-the-sophienburg-museum-and-archives/2026-09-16/
LOCATION:Sophienburg Museum & Archives\, 401 W. Coll St\,\, New Braunfels\, TX\, 78130\, United States
CATEGORIES:Arts & Culture,Food & Drink
ATTACH;FMTTYPE=image/jpeg:https://thenewbraunfelslife.com/wp-content/uploads/2026/03/kaffeeklatsch-at-the-sophienburg-museum-and-archives.jpg
END:VEVENT
END:VCALENDAR