BEGIN:VCALENDAR
VERSION:2.0
PRODID:-//The New Braunfels Life - ECPv6.15.20//NONSGML v1.0//EN
CALSCALE:GREGORIAN
METHOD:PUBLISH
X-ORIGINAL-URL:https://thenewbraunfelslife.com
X-WR-CALDESC:Events for The New Braunfels Life
REFRESH-INTERVAL;VALUE=DURATION:PT1H
X-Robots-Tag:noindex
X-PUBLISHED-TTL:PT1H
BEGIN:VTIMEZONE
TZID:America/New_York
BEGIN:DAYLIGHT
TZOFFSETFROM:-0500
TZOFFSETTO:-0400
TZNAME:EDT
DTSTART:20250309T070000
END:DAYLIGHT
BEGIN:STANDARD
TZOFFSETFROM:-0400
TZOFFSETTO:-0500
TZNAME:EST
DTSTART:20251102T060000
END:STANDARD
BEGIN:DAYLIGHT
TZOFFSETFROM:-0500
TZOFFSETTO:-0400
TZNAME:EDT
DTSTART:20260308T070000
END:DAYLIGHT
BEGIN:STANDARD
TZOFFSETFROM:-0400
TZOFFSETTO:-0500
TZNAME:EST
DTSTART:20261101T060000
END:STANDARD
BEGIN:DAYLIGHT
TZOFFSETFROM:-0500
TZOFFSETTO:-0400
TZNAME:EDT
DTSTART:20270314T070000
END:DAYLIGHT
BEGIN:STANDARD
TZOFFSETFROM:-0400
TZOFFSETTO:-0500
TZNAME:EST
DTSTART:20271107T060000
END:STANDARD
END:VTIMEZONE
BEGIN:VEVENT
DTSTART;TZID=America/New_York:20260510T130000
DTEND;TZID=America/New_York:20260510T170000
DTSTAMP:20260425T125806
CREATED:20260414T002824Z
LAST-MODIFIED:20260414T003004Z
UID:85277-1778418000-1778432400@thenewbraunfelslife.com
SUMMARY:Live Music at The Grapevine in Gruene – Austin Gilliam & The Well Fed Texans
DESCRIPTION:Spend your Sunday afternoon enjoying live music at The Grapevine in Gruene on May 10 from 1 pm to 5 pm featuring Austin Gilliam & The Well Fed Texans.\n\n\nRelax in the laid-back Gruene atmosphere with great tunes\, refreshing drinks\, and good company—perfect for winding down your weekend.\n\n\nAdmission is free.
URL:https://thenewbraunfelslife.com/event/live-music-at-the-grapevine-in-gruene-austin-gilliam-the-well-fed-texans/
LOCATION:The Grapevine in Gruene\, 1612 Hunter Rd\, New Braunfels\, TX\, 78130\, United States
CATEGORIES:Music
ATTACH;FMTTYPE=image/jpeg:https://thenewbraunfelslife.com/wp-content/uploads/2026/01/austin-gilliam-at-the-grapevine-in-gruene.jpg
END:VEVENT
BEGIN:VEVENT
DTSTART;TZID=America/New_York:20260513T170000
DTEND;TZID=America/New_York:20260513T200000
DTSTAMP:20260425T125806
CREATED:20260414T003220Z
LAST-MODIFIED:20260414T003220Z
UID:85278-1778691600-1778702400@thenewbraunfelslife.com
SUMMARY:Live Music at The Grapevine in Gruene – Hannah Swann
DESCRIPTION:Enjoy a relaxing midweek evening of live music at The Grapevine in Gruene on Wednesday\, May 13 from 5 pm to 8 pm featuring Hannah Swann.\n\n\nKick back with great tunes\, refreshing drinks\, and the cozy Gruene atmosphere—perfect for an easy night out.\n\n\nAdmission is free.
URL:https://thenewbraunfelslife.com/event/live-music-at-the-grapevine-in-gruene-hannah-swann/
LOCATION:The Grapevine in Gruene\, 1612 Hunter Rd\, New Braunfels\, TX\, 78130\, United States
CATEGORIES:Music
ATTACH;FMTTYPE=image/jpeg:https://thenewbraunfelslife.com/wp-content/uploads/2026/03/hannah-swann-at-the-grapevine-in-gruene.jpg
END:VEVENT
BEGIN:VEVENT
DTSTART;TZID=America/New_York:20260514T170000
DTEND;TZID=America/New_York:20260514T200000
DTSTAMP:20260425T125806
CREATED:20260414T011919Z
LAST-MODIFIED:20260414T011919Z
UID:85279-1778778000-1778788800@thenewbraunfelslife.com
SUMMARY:Live Music at The Grapevine in Gruene – Tejas Cajun
DESCRIPTION:Enjoy a lively evening of music at The Grapevine in Gruene on Thursday\, May 14 from 5 pm to 8 pm featuring Tejas Cajun.\n\n\nExperience a fun mix of Cajun-inspired tunes while relaxing with great drinks and the vibrant Gruene atmosphere—perfect for a midweek pick-me-up.\n\n\nAdmission is free.
URL:https://thenewbraunfelslife.com/event/live-music-at-the-grapevine-in-gruene-tejas-cajun/
LOCATION:The Grapevine in Gruene\, 1612 Hunter Rd\, New Braunfels\, TX\, 78130\, United States
CATEGORIES:Music
ATTACH;FMTTYPE=image/jpeg:https://thenewbraunfelslife.com/wp-content/uploads/2026/04/live-music-at-the-grapevine-in-gruene-tejas-cajun.jpg
END:VEVENT
BEGIN:VEVENT
DTSTART;TZID=America/New_York:20260515T170000
DTEND;TZID=America/New_York:20260515T200000
DTSTAMP:20260425T125806
CREATED:20260414T012123Z
LAST-MODIFIED:20260414T012123Z
UID:85281-1778864400-1778875200@thenewbraunfelslife.com
SUMMARY:Live Music at The Grapevine in Gruene – Bo Brumble & Garrett Mann
DESCRIPTION:Kick off your evening with live music at The Grapevine in Gruene on Friday\, May 15 from 5 pm to 8 pm featuring Bo Brumble & Garrett Mann.\n\n\nEnjoy great tunes\, refreshing drinks\, and the welcoming Gruene atmosphere—perfect for starting your weekend.\n\n\nAdmission is free.
URL:https://thenewbraunfelslife.com/event/live-music-at-the-grapevine-in-gruene-bo-brumble-garrett-mann/
LOCATION:The Grapevine in Gruene\, 1612 Hunter Rd\, New Braunfels\, TX\, 78130\, United States
CATEGORIES:Music
ATTACH;FMTTYPE=image/jpeg:https://thenewbraunfelslife.com/wp-content/uploads/2026/02/bo-brumble-and-garrett-mann-at-the-grapevine-in-gruene.jpg
END:VEVENT
BEGIN:VEVENT
DTSTART;TZID=America/New_York:20260516T130000
DTEND;TZID=America/New_York:20260516T160000
DTSTAMP:20260425T125806
CREATED:20260414T012241Z
LAST-MODIFIED:20260414T012241Z
UID:85282-1778936400-1778947200@thenewbraunfelslife.com
SUMMARY:Live Music at The Grapevine in Gruene – Andi Holleman
DESCRIPTION:Enjoy a relaxing afternoon of live music at The Grapevine in Gruene on Saturday\, May 16 from 1 pm to 4 pm featuring Andi Holleman.\n\n\nSit back with great tunes\, refreshing drinks\, and the laid-back Gruene atmosphere—perfect for a weekend outing.\n\n\nAdmission is free.
URL:https://thenewbraunfelslife.com/event/live-music-at-the-grapevine-in-gruene-andi-holleman/
LOCATION:The Grapevine in Gruene\, 1612 Hunter Rd\, New Braunfels\, TX\, 78130\, United States
CATEGORIES:Music
ATTACH;FMTTYPE=image/jpeg:https://thenewbraunfelslife.com/wp-content/uploads/2026/01/andi-holleman-at-the-grapevine-in-gruene.jpg
END:VEVENT
BEGIN:VEVENT
DTSTART;TZID=America/New_York:20260517T130000
DTEND;TZID=America/New_York:20260517T170000
DTSTAMP:20260425T125806
CREATED:20260414T012427Z
LAST-MODIFIED:20260414T012427Z
UID:85283-1779022800-1779037200@thenewbraunfelslife.com
SUMMARY:Live Music at The Grapevine in Gruene – Jess & Dave
DESCRIPTION:Spend your Sunday afternoon enjoying live music at The Grapevine in Gruene on May 17 from 1 pm to 5 pm featuring Jess & Dave.\n\n\nRelax with great tunes\, refreshing drinks\, and the laid-back Gruene atmosphere—perfect for winding down your weekend.\n\n\nAdmission is free.
URL:https://thenewbraunfelslife.com/event/live-music-at-the-grapevine-in-gruene-jess-dave-2/
LOCATION:The Grapevine in Gruene\, 1612 Hunter Rd\, New Braunfels\, TX\, 78130\, United States
CATEGORIES:Music
ATTACH;FMTTYPE=image/jpeg:https://thenewbraunfelslife.com/wp-content/uploads/2026/01/jess-and-dave-at-the-grapevine-in-gruene.jpg
END:VEVENT
BEGIN:VEVENT
DTSTART;TZID=America/New_York:20260520T170000
DTEND;TZID=America/New_York:20260520T200000
DTSTAMP:20260425T125806
CREATED:20260414T012558Z
LAST-MODIFIED:20260414T012558Z
UID:85284-1779296400-1779307200@thenewbraunfelslife.com
SUMMARY:Live Music at The Grapevine in Gruene – Tony Taylor
DESCRIPTION:Enjoy a midweek evening of live music at The Grapevine in Gruene on Wednesday\, May 20 from 5 pm to 8 pm featuring Tony Taylor.\n\n\nKick back with great tunes\, refreshing drinks\, and the relaxed Gruene atmosphere—perfect for an easy night out.\n\n\nAdmission is free.
URL:https://thenewbraunfelslife.com/event/live-music-at-the-grapevine-in-gruene-tony-taylor/
LOCATION:The Grapevine in Gruene\, 1612 Hunter Rd\, New Braunfels\, TX\, 78130\, United States
CATEGORIES:Music
ATTACH;FMTTYPE=image/jpeg:https://thenewbraunfelslife.com/wp-content/uploads/2026/01/tony-taylor-at-the-grapevine-in-gruene.jpg
END:VEVENT
BEGIN:VEVENT
DTSTART;TZID=America/New_York:20260521T170000
DTEND;TZID=America/New_York:20260521T200000
DTSTAMP:20260425T125806
CREATED:20260414T012713Z
LAST-MODIFIED:20260414T012713Z
UID:85285-1779382800-1779393600@thenewbraunfelslife.com
SUMMARY:Live Music at The Grapevine in Gruene – Matt Kirk & Sylvia Kirk
DESCRIPTION:Enjoy a relaxing evening of live music at The Grapevine in Gruene on Thursday\, May 21 from 5 pm to 8 pm featuring Matt Kirk & Sylvia Kirk.\n\n\nUnwind with great tunes\, refreshing drinks\, and the welcoming Gruene atmosphere—perfect for a laid-back night out.\n\n\nAdmission is free.
URL:https://thenewbraunfelslife.com/event/live-music-at-the-grapevine-in-gruene-matt-kirk-sylvia-kirk/
LOCATION:The Grapevine in Gruene\, 1612 Hunter Rd\, New Braunfels\, TX\, 78130\, United States
CATEGORIES:Music
ATTACH;FMTTYPE=image/jpeg:https://thenewbraunfelslife.com/wp-content/uploads/2026/02/matt-kirk-and-sylvia-kirk-at-the-grapevine-in-gruene.jpg
END:VEVENT
BEGIN:VEVENT
DTSTART;TZID=America/New_York:20260522T170000
DTEND;TZID=America/New_York:20260522T200000
DTSTAMP:20260425T125806
CREATED:20260414T012842Z
LAST-MODIFIED:20260414T012842Z
UID:85286-1779469200-1779480000@thenewbraunfelslife.com
SUMMARY:Live Music at The Grapevine in Gruene – Phil Luna
DESCRIPTION:Enjoy a laid-back evening of live music at The Grapevine in Gruene on Friday\, May 22 from 5 pm to 8 pm featuring Phil Luna.\n\n\nRelax with great tunes\, refreshing drinks\, and the lively Gruene atmosphere—perfect for starting your weekend.\n\n\nAdmission is free.
URL:https://thenewbraunfelslife.com/event/live-music-at-the-grapevine-in-gruene-phil-luna/
LOCATION:The Grapevine in Gruene\, 1612 Hunter Rd\, New Braunfels\, TX\, 78130\, United States
CATEGORIES:Music
ATTACH;FMTTYPE=image/jpeg:https://thenewbraunfelslife.com/wp-content/uploads/2026/01/phil-luna-at-the-grapevine-in-gruene.jpg
END:VEVENT
BEGIN:VEVENT
DTSTART;TZID=America/New_York:20260523T170000
DTEND;TZID=America/New_York:20260523T200000
DTSTAMP:20260425T125806
CREATED:20260414T013129Z
LAST-MODIFIED:20260414T013129Z
UID:85287-1779555600-1779566400@thenewbraunfelslife.com
SUMMARY:Live Music at The Grapevine in Gruene – Andrew Kreitz
DESCRIPTION:Enjoy a laid-back evening of live music at The Grapevine in Gruene on Saturday\, May 23 from 5 pm to 8 pm featuring Andrew Kreitz.\n\n\nRelax with great tunes\, refreshing drinks\, and the lively Gruene atmosphere—perfect for a weekend night out.\n\n\nAdmission is free.
URL:https://thenewbraunfelslife.com/event/live-music-at-the-grapevine-in-gruene-andrew-kreitz-3/
LOCATION:The Grapevine in Gruene\, 1612 Hunter Rd\, New Braunfels\, TX\, 78130\, United States
CATEGORIES:Music
ATTACH;FMTTYPE=image/jpeg:https://thenewbraunfelslife.com/wp-content/uploads/2026/01/andrew-kreitz-at-the-grapevine-in-gruene.jpg
END:VEVENT
BEGIN:VEVENT
DTSTART;TZID=America/New_York:20260524T130000
DTEND;TZID=America/New_York:20260524T160000
DTSTAMP:20260425T125806
CREATED:20260414T013248Z
LAST-MODIFIED:20260414T013248Z
UID:85288-1779627600-1779638400@thenewbraunfelslife.com
SUMMARY:Live Music at The Grapevine in Gruene – Austin Gilliam & The Well Fed Texans
DESCRIPTION:Spend your Sunday afternoon enjoying live music at The Grapevine in Gruene on May 24 from 1 pm to 4 pm featuring Austin Gilliam & The Well Fed Texans.\n\n\nRelax in the laid-back Gruene atmosphere with great tunes\, refreshing drinks\, and good company—perfect for a weekend outing.\n\n\nAdmission is free.
URL:https://thenewbraunfelslife.com/event/live-music-at-the-grapevine-in-gruene-austin-gilliam-the-well-fed-texans-2/
LOCATION:The Grapevine in Gruene\, 1612 Hunter Rd\, New Braunfels\, TX\, 78130\, United States
CATEGORIES:Music
ATTACH;FMTTYPE=image/jpeg:https://thenewbraunfelslife.com/wp-content/uploads/2026/01/austin-gilliam-at-the-grapevine-in-gruene.jpg
END:VEVENT
BEGIN:VEVENT
DTSTART;TZID=America/New_York:20260524T170000
DTEND;TZID=America/New_York:20260524T200000
DTSTAMP:20260425T125806
CREATED:20260414T013557Z
LAST-MODIFIED:20260414T014526Z
UID:85289-1779642000-1779652800@thenewbraunfelslife.com
SUMMARY:Live Music at The Grapevine in Gruene – Colton’s Kin
DESCRIPTION:Enjoy an evening of live music at The Grapevine in Gruene on Sunday\, May 24 from 5 pm to 8 pm featuring Colton’s Kin.\n\n\nUnwind with great tunes\, refreshing drinks\, and the laid-back Gruene atmosphere—perfect for wrapping up your weekend.\n\n\nAdmission is free.
URL:https://thenewbraunfelslife.com/event/live-music-at-the-grapevine-in-gruene-coltons-kin-2/
LOCATION:The Grapevine in Gruene\, 1612 Hunter Rd\, New Braunfels\, TX\, 78130\, United States
CATEGORIES:Music
ATTACH;FMTTYPE=image/jpeg:https://thenewbraunfelslife.com/wp-content/uploads/2026/01/coltons-kin-at-the-grapevine-in-gruene.jpg
END:VEVENT
BEGIN:VEVENT
DTSTART;TZID=America/New_York:20260525T130000
DTEND;TZID=America/New_York:20260525T160000
DTSTAMP:20260425T125806
CREATED:20260414T014737Z
LAST-MODIFIED:20260414T014737Z
UID:85290-1779714000-1779724800@thenewbraunfelslife.com
SUMMARY:Live Music at The Grapevine in Gruene – Michael Monroe Goodman
DESCRIPTION:Enjoy a relaxing afternoon of live music at The Grapevine in Gruene on Monday\, May 25 from 1 pm to 4 pm featuring Michael Monroe Goodman.\n\n\nSit back with great tunes\, refreshing drinks\, and the laid-back Gruene atmosphere—perfect for a holiday afternoon or casual outing.\n\n\nAdmission is free.
URL:https://thenewbraunfelslife.com/event/live-music-at-the-grapevine-in-gruene-michael-monroe-goodman-2/
LOCATION:The Grapevine in Gruene\, 1612 Hunter Rd\, New Braunfels\, TX\, 78130\, United States
CATEGORIES:Music
ATTACH;FMTTYPE=image/jpeg:https://thenewbraunfelslife.com/wp-content/uploads/2026/02/michael-monroe-goodman-at-the-grapevine-in-gruene.jpg
END:VEVENT
BEGIN:VEVENT
DTSTART;TZID=America/New_York:20260526T173000
DTEND;TZID=America/New_York:20260526T203000
DTSTAMP:20260425T125806
CREATED:20260414T014904Z
LAST-MODIFIED:20260414T014904Z
UID:85291-1779816600-1779827400@thenewbraunfelslife.com
SUMMARY:Live Music at The Grapevine in Gruene – Andrew Kreitz
DESCRIPTION:Enjoy an evening of live music at The Grapevine in Gruene on Tuesday\, May 26 from 5:30 pm to 8:30 pm featuring Andrew Kreitz.\n\n\nRelax with great tunes\, refreshing drinks\, and the welcoming Gruene atmosphere—perfect for a laid-back night out.\n\n\nAdmission is free.
URL:https://thenewbraunfelslife.com/event/live-music-at-the-grapevine-in-gruene-andrew-kreitz-4/
LOCATION:The Grapevine in Gruene\, 1612 Hunter Rd\, New Braunfels\, TX\, 78130\, United States
CATEGORIES:Music
ATTACH;FMTTYPE=image/jpeg:https://thenewbraunfelslife.com/wp-content/uploads/2026/01/andrew-kreitz-at-the-grapevine-in-gruene.jpg
END:VEVENT
BEGIN:VEVENT
DTSTART;TZID=America/New_York:20260527T173000
DTEND;TZID=America/New_York:20260527T203000
DTSTAMP:20260425T125806
CREATED:20260414T015122Z
LAST-MODIFIED:20260414T015122Z
UID:85292-1779903000-1779913800@thenewbraunfelslife.com
SUMMARY:Live Music at The Grapevine in Gruene – Bo Brumble & Garrett Mann
DESCRIPTION:Enjoy a relaxing evening of live music at The Grapevine in Gruene on Wednesday\, May 27 from 5:30 pm to 8:30 pm featuring Bo Brumble & Garrett Mann.\n\n\nUnwind with great tunes\, refreshing drinks\, and the welcoming Gruene atmosphere—perfect for a midweek night out.\n\n\nAdmission is free.
URL:https://thenewbraunfelslife.com/event/live-music-at-the-grapevine-in-gruene-bo-brumble-garrett-mann-2/
LOCATION:The Grapevine in Gruene\, 1612 Hunter Rd\, New Braunfels\, TX\, 78130\, United States
CATEGORIES:Music
ATTACH;FMTTYPE=image/jpeg:https://thenewbraunfelslife.com/wp-content/uploads/2026/02/bo-brumble-and-garrett-mann-at-the-grapevine-in-gruene.jpg
END:VEVENT
BEGIN:VEVENT
DTSTART;TZID=America/New_York:20260528T170000
DTEND;TZID=America/New_York:20260528T200000
DTSTAMP:20260425T125806
CREATED:20260414T015511Z
LAST-MODIFIED:20260414T015511Z
UID:85295-1779987600-1779998400@thenewbraunfelslife.com
SUMMARY:Live Music at The Grapevine in Gruene – Nick Garcia Trio
DESCRIPTION:Enjoy a laid-back evening of live music at The Grapevine in Gruene on Thursday\, May 28 from 5 pm to 8 pm featuring the Nick Garcia Trio.\n\n\nRelax with great tunes\, refreshing drinks\, and the welcoming Gruene atmosphere—perfect for an easy night out.\n\n\nAdmission is free.
URL:https://thenewbraunfelslife.com/event/live-music-at-the-grapevine-in-gruene-nick-garcia-trio/
LOCATION:The Grapevine in Gruene\, 1612 Hunter Rd\, New Braunfels\, TX\, 78130\, United States
CATEGORIES:Music
ATTACH;FMTTYPE=image/jpeg:https://thenewbraunfelslife.com/wp-content/uploads/2026/04/live-music-at-the-grapevine-in-gruene-nick-garcia-trio.jpg
END:VEVENT
BEGIN:VEVENT
DTSTART;TZID=America/New_York:20260530T140000
DTEND;TZID=America/New_York:20260530T170000
DTSTAMP:20260425T125806
CREATED:20260414T015738Z
LAST-MODIFIED:20260414T015738Z
UID:85297-1780149600-1780160400@thenewbraunfelslife.com
SUMMARY:Live Music at The Grapevine in Gruene – Julia Rose
DESCRIPTION:Spend your afternoon enjoying live music at The Grapevine in Gruene on Saturday\, May 30 from 2 pm to 5 pm featuring Julia Rose.\n\n\nRelax with great tunes\, refreshing drinks\, and the laid-back Gruene atmosphere—perfect for a weekend outing.\n\n\nAdmission is free.
URL:https://thenewbraunfelslife.com/event/live-music-at-the-grapevine-in-gruene-julia-rose/
LOCATION:The Grapevine in Gruene\, 1612 Hunter Rd\, New Braunfels\, TX\, 78130\, United States
CATEGORIES:Music
ATTACH;FMTTYPE=image/jpeg:https://thenewbraunfelslife.com/wp-content/uploads/2026/04/live-music-at-the-grapevine-in-gruene-julia-rose.jpg
END:VEVENT
BEGIN:VEVENT
DTSTART;TZID=America/New_York:20260531T130000
DTEND;TZID=America/New_York:20260531T160000
DTSTAMP:20260425T125806
CREATED:20260414T015933Z
LAST-MODIFIED:20260414T015933Z
UID:85299-1780232400-1780243200@thenewbraunfelslife.com
SUMMARY:Live Music at The Grapevine in Gruene – Trevor Underwood
DESCRIPTION:Enjoy a relaxing Sunday afternoon of live music at The Grapevine in Gruene on May 31 from 1 pm to 4 pm featuring Trevor Underwood.\n\n\nSit back with great tunes\, refreshing drinks\, and the laid-back Gruene atmosphere—perfect for winding down your weekend.\n\n\nAdmission is free.
URL:https://thenewbraunfelslife.com/event/live-music-at-the-grapevine-in-gruene-trevor-underwood/
LOCATION:The Grapevine in Gruene\, 1612 Hunter Rd\, New Braunfels\, TX\, 78130\, United States
CATEGORIES:Music
ATTACH;FMTTYPE=image/jpeg:https://thenewbraunfelslife.com/wp-content/uploads/2026/01/trevor-underwood-at-the-grapevine-in-gruene.jpg
END:VEVENT
END:VCALENDAR